Workbook

Sheet Grafik
A1: Grafik pracy | AJ1: Darmowy szablon od KadryHR · kadryhr.pl
A2: Miesiąc (RRRR-MM): | B2: 2026-11 | G2: =IF(Obliczenia!$D$2=1,CHOOSE(Obliczenia!$C$2,"styczeń","luty","marzec","kwiecień","maj","czerwiec","lipiec","sierpień","wrzesień","październik","listopad","grudzień")&" "&Obliczenia!$B$2&" · "&Obliczenia!$F$2&" dni","Nie rozpoznano miesiąca – wpisz np. 2026-11") | U2: Tygodnie od (początek okresu rozl.): | AJ2: =IF(Obliczenia!$H$2=1,"puste = od 1. dnia miesiąca","Nie rozpoznano daty – wpisz np. 2026-10-01")
A3: Lokal: | G3: Wpisuj zmiany OD-DO: 10-18 · 9:30-17:30 · 16-01 (przez północ). Wolne: puste albo W / U / L4. Szczegóły: zakładka Instrukcja.
C4: Dni miesiąca – w komórce godziny zmiany OD-DO | AH4: Podsumowanie | AK4: Najdłuższy odpoczynek w tygodniu (h), min. 35
A5: Pracownik | B5: Poprz. dzień | C5: =IF(Obliczenia!C$4=1,Obliczenia!C$3,"") | D5: =IF(Obliczenia!D$4=1,Obliczenia!D$3,"") | E5: =IF(Obliczenia!E$4=1,Obliczenia!E$3,"") | F5: =IF(Obliczenia!F$4=1,Obliczenia!F$3,"") | G5: =IF(Obliczenia!G$4=1,Obliczenia!G$3,"") | H5: =IF(Obliczenia!H$4=1,Obliczenia!H$3,"") | I5: =IF(Obliczenia!I$4=1,Obliczenia!I$3,"") | J5: =IF(Obliczenia!J$4=1,Obliczenia!J$3,"") | ... AG5: =IF(Obliczenia!AG$4=1,Obliczenia!AG$3,"") | AH5: Godziny | AI5: Dni | AJ5: < 11 h | AK5: =IF(Obliczenia!B$12=1,"Tydz. 1","") | AL5: =IF(Obliczenia!C$12=1,"Tydz. 2","") | AM5: =IF(Obliczenia!D$12=1,"Tydz. 3","") | AN5: =IF(Obliczenia!E$12=1,"Tydz. 4","") | AO5: =IF(Obliczenia!F$12=1,"Tydz. 5","") | AP5: =IF(Obliczenia!G$12=1,"Tydz. 6","")
A6: imię i nazwisko | B6: =DAY(Obliczenia!$B$5)&"."&MONTH(Obliczenia!$B$5) | C6: =IF(C5="","",CHOOSE(WEEKDAY(Obliczenia!C$5,2),"pn","wt","śr","cz","pt","sb","nd")) | D6: =IF(D5="","",CHOOSE(WEEKDAY(Obliczenia!D$5,2),"pn","wt","śr","cz","pt","sb","nd")) | E6: =IF(E5="","",CHOOSE(WEEKDAY(Obliczenia!E$5,2),"pn","wt","śr","cz","pt","sb","nd")) | F6: =IF(F5="","",CHOOSE(WEEKDAY(Obliczenia!F$5,2),"pn","wt","śr","cz","pt","sb","nd")) | G6: =IF(G5="","",CHOOSE(WEEKDAY(Obliczenia!G$5,2),"pn","wt","śr","cz","pt","sb","nd")) | H6: =IF(H5="","",CHOOSE(WEEKDAY(Obliczenia!H$5,2),"pn","wt","śr","cz","pt","sb","nd")) | I6: =IF(I5="","",CHOOSE(WEEKDAY(Obliczenia!I$5,2),"pn","wt","śr","cz","pt","sb","nd")) | J6: =IF(J5="","",CHOOSE(WEEKDAY(Obliczenia!J$5,2),"pn","wt","śr","cz","pt","sb","nd")) | ... AG6: =IF(AG5="","",CHOOSE(WEEKDAY(Obliczenia!AG$5,2),"pn","wt","śr","cz","pt","sb","nd")) | AH6: suma | AI6: pracy | AJ6: ile dni | AK6: =Obliczenia!B$14 | AL6: =Obliczenia!C$14 | AM6: =Obliczenia!D$14 | AN6: =Obliczenia!E$14 | AO6: =Obliczenia!F$14 | AP6: =Obliczenia!G$14
A7: Pracownik 1 | C7: 10-18 | F7: 10-18 | G7: 10-18 | H7: 12-22 | I7: 12-22 | J7: 10-18 | M7: 10-18 | N7: 10-18 | O7: 12-22 | P7: 12-22 | Q7: 10-18 | T7: 10-18 | U7: 10-18 | V7: 12-22 | W7: 12-22 | X7: 10-18 | AA7: 10-18 | AB7: 10-18 | AC7: 12-22 | AD7: 12-22 | AH7: =IF(Obliczenia!$E578=1,ROUND(Obliczenia!$B578,2),"") | AI7: =IF(Obliczenia!$E578=1,Obliczenia!$C578,"") | AJ7: =IF(Obliczenia!$E578=1,Obliczenia!$D578,"") | AK7: =IF(Obliczenia!$L578=0,"",ROUNDDOWN(ROUND(Obliczenia!$F578*60,0)/60,1)) | AL7: =IF(Obliczenia!$M578=0,"",ROUNDDOWN(ROUND(Obliczenia!$G578*60,0)/60,1)) | AM7: =IF(Obliczenia!$N578=0,"",ROUNDDOWN(ROUND(Obliczenia!$H578*60,0)/60,1)) | AN7: =IF(Obliczenia!$O578=0,"",ROUNDDOWN(ROUND(Obliczenia!$I578*60,0)/60,1)) | AO7: =IF(Obliczenia!$P578=0,"",ROUNDDOWN(ROUND(Obliczenia!$J578*60,0)/60,1)) | AP7: =IF(Obliczenia!$Q578=0,"",ROUNDDOWN(ROUND(Obliczenia!$K578*60,0)/60,1))
A8: Pracownik 2 | B8: 16-23 | E8: 12-20 | F8: 12-20 | G8: 16-01 | H8: 12-20 | I8: 16-23 | L8: 12-20 | M8: 12-20 | N8: 16-01 | O8: 12-20 | P8: 16-23 | S8: 12-20 | T8: 12-20 | U8: 16-01 | V8: 12-20 | W8: 16-23 | Z8: 12-20 | AA8: 12-20 | AB8: 16-01 | AC8: 12-20 | AD8: 16-23 | AH8: =IF(Obliczenia!$E579=1,ROUND(Obliczenia!$B579,2),"") | AI8: =IF(Obliczenia!$E579=1,Obliczenia!$C579,"") | AJ8: =IF(Obliczenia!$E579=1,Obliczenia!$D579,"") | AK8: =IF(Obliczenia!$L579=0,"",ROUNDDOWN(ROUND(Obliczenia!$F579*60,0)/60,1)) | AL8: =IF(Obliczenia!$M579=0,"",ROUNDDOWN(ROUND(Obliczenia!$G579*60,0)/60,1)) | AM8: =IF(Obliczenia!$N579=0,"",ROUNDDOWN(ROUND(Obliczenia!$H579*60,0)/60,1)) | AN8: =IF(Obliczenia!$O579=0,"",ROUNDDOWN(ROUND(Obliczenia!$I579*60,0)/60,1)) | AO8: =IF(Obliczenia!$P579=0,"",ROUNDDOWN(ROUND(Obliczenia!$J579*60,0)/60,1)) | AP8: =IF(Obliczenia!$Q579=0,"",ROUNDDOWN(ROUND(Obliczenia!$K579*60,0)/60,1))
A9: Pracownik 3 | C9: 10-18 | D9: 10-18 | G9: 16-01 | H9: 11:30-19:30 | I9: 10-18 | J9: 10-18 | K9: 10-18 | N9: 10-18 | O9: 10-18 | P9: 10-18 | Q9: 10-18 | R9: 10-18 | S9: 10-18 | T9: 10-18 | U9: 10-18 | V9: 10-18 | W9: 10-18 | Z9: 10-18 | AA9: 10-18 | AB9: 10-18 | AC9: 10-18 | AD9: 10-18 | AE9: 10-18 | AF9: 10-18 | AH9: =IF(Obliczenia!$E580=1,ROUND(Obliczenia!$B580,2),"") | AI9: =IF(Obliczenia!$E580=1,Obliczenia!$C580,"") | AJ9: =IF(Obliczenia!$E580=1,Obliczenia!$D580,"") | AK9: =IF(Obliczenia!$L580=0,"",ROUNDDOWN(ROUND(Obliczenia!$F580*60,0)/60,1)) | AL9: =IF(Obliczenia!$M580=0,"",ROUNDDOWN(ROUND(Obliczenia!$G580*60,0)/60,1)) | AM9: =IF(Obliczenia!$N580=0,"",ROUNDDOWN(ROUND(Obliczenia!$H580*60,0)/60,1)) | AN9: =IF(Obliczenia!$O580=0,"",ROUNDDOWN(ROUND(Obliczenia!$I580*60,0)/60,1)) | AO9: =IF(Obliczenia!$P580=0,"",ROUNDDOWN(ROUND(Obliczenia!$J580*60,0)/60,1)) | AP9: =IF(Obliczenia!$Q580=0,"",ROUNDDOWN(ROUND(Obliczenia!$K580*60,0)/60,1))
AH10: =IF(Obliczenia!$E581=1,ROUND(Obliczenia!$B581,2),"") | AI10: =IF(Obliczenia!$E581=1,Obliczenia!$C581,"") | AJ10: =IF(Obliczenia!$E581=1,Obliczenia!$D581,"") | AK10: =IF(Obliczenia!$L581=0,"",ROUNDDOWN(ROUND(Obliczenia!$F581*60,0)/60,1)) | AL10: =IF(Obliczenia!$M581=0,"",ROUNDDOWN(ROUND(Obliczenia!$G581*60,0)/60,1)) | AM10: =IF(Obliczenia!$N581=0,"",ROUNDDOWN(ROUND(Obliczenia!$H581*60,0)/60,1)) | AN10: =IF(Obliczenia!$O581=0,"",ROUNDDOWN(ROUND(Obliczenia!$I581*60,0)/60,1)) | AO10: =IF(Obliczenia!$P581=0,"",ROUNDDOWN(ROUND(Obliczenia!$J581*60,0)/60,1)) | AP10: =IF(Obliczenia!$Q581=0,"",ROUNDDOWN(ROUND(Obliczenia!$K581*60,0)/60,1))
AH11: =IF(Obliczenia!$E582=1,ROUND(Obliczenia!$B582,2),"") | AI11: =IF(Obliczenia!$E582=1,Obliczenia!$C582,"") | AJ11: =IF(Obliczenia!$E582=1,Obliczenia!$D582,"") | AK11: =IF(Obliczenia!$L582=0,"",ROUNDDOWN(ROUND(Obliczenia!$F582*60,0)/60,1)) | AL11: =IF(Obliczenia!$M582=0,"",ROUNDDOWN(ROUND(Obliczenia!$G582*60,0)/60,1)) | AM11: =IF(Obliczenia!$N582=0,"",ROUNDDOWN(ROUND(Obliczenia!$H582*60,0)/60,1)) | AN11: =IF(Obliczenia!$O582=0,"",ROUNDDOWN(ROUND(Obliczenia!$I582*60,0)/60,1)) | AO11: =IF(Obliczenia!$P582=0,"",ROUNDDOWN(ROUND(Obliczenia!$J582*60,0)/60,1)) | AP11: =IF(Obliczenia!$Q582=0,"",ROUNDDOWN(ROUND(Obliczenia!$K582*60,0)/60,1))
AH12: =IF(Obliczenia!$E583=1,ROUND(Obliczenia!$B583,2),"") | AI12: =IF(Obliczenia!$E583=1,Obliczenia!$C583,"") | AJ12: =IF(Obliczenia!$E583=1,Obliczenia!$D583,"") | AK12: =IF(Obliczenia!$L583=0,"",ROUNDDOWN(ROUND(Obliczenia!$F583*60,0)/60,1)) | AL12: =IF(Obliczenia!$M583=0,"",ROUNDDOWN(ROUND(Obliczenia!$G583*60,0)/60,1)) | AM12: =IF(Obliczenia!$N583=0,"",ROUNDDOWN(ROUND(Obliczenia!$H583*60,0)/60,1)) | AN12: =IF(Obliczenia!$O583=0,"",ROUNDDOWN(ROUND(Obliczenia!$I583*60,0)/60,1)) | AO12: =IF(Obliczenia!$P583=0,"",ROUNDDOWN(ROUND(Obliczenia!$J583*60,0)/60,1)) | AP12: =IF(Obliczenia!$Q583=0,"",ROUNDDOWN(ROUND(Obliczenia!$K583*60,0)/60,1))
AH13: =IF(Obliczenia!$E584=1,ROUND(Obliczenia!$B584,2),"") | AI13: =IF(Obliczenia!$E584=1,Obliczenia!$C584,"") | AJ13: =IF(Obliczenia!$E584=1,Obliczenia!$D584,"") | AK13: =IF(Obliczenia!$L584=0,"",ROUNDDOWN(ROUND(Obliczenia!$F584*60,0)/60,1)) | AL13: =IF(Obliczenia!$M584=0,"",ROUNDDOWN(ROUND(Obliczenia!$G584*60,0)/60,1)) | AM13: =IF(Obliczenia!$N584=0,"",ROUNDDOWN(ROUND(Obliczenia!$H584*60,0)/60,1)) | AN13: =IF(Obliczenia!$O584=0,"",ROUNDDOWN(ROUND(Obliczenia!$I584*60,0)/60,1)) | AO13: =IF(Obliczenia!$P584=0,"",ROUNDDOWN(ROUND(Obliczenia!$J584*60,0)/60,1)) | AP13: =IF(Obliczenia!$Q584=0,"",ROUNDDOWN(ROUND(Obliczenia!$K584*60,0)/60,1))
AH14: =IF(Obliczenia!$E585=1,ROUND(Obliczenia!$B585,2),"") | AI14: =IF(Obliczenia!$E585=1,Obliczenia!$C585,"") | AJ14: =IF(Obliczenia!$E585=1,Obliczenia!$D585,"") | AK14: =IF(Obliczenia!$L585=0,"",ROUNDDOWN(ROUND(Obliczenia!$F585*60,0)/60,1)) | AL14: =IF(Obliczenia!$M585=0,"",ROUNDDOWN(ROUND(Obliczenia!$G585*60,0)/60,1)) | AM14: =IF(Obliczenia!$N585=0,"",ROUNDDOWN(ROUND(Obliczenia!$H585*60,0)/60,1)) | AN14: =IF(Obliczenia!$O585=0,"",ROUNDDOWN(ROUND(Obliczenia!$I585*60,0)/60,1)) | AO14: =IF(Obliczenia!$P585=0,"",ROUNDDOWN(ROUND(Obliczenia!$J585*60,0)/60,1)) | AP14: =IF(Obliczenia!$Q585=0,"",ROUNDDOWN(ROUND(Obliczenia!$K585*60,0)/60,1))
AH15: =IF(Obliczenia!$E586=1,ROUND(Obliczenia!$B586,2),"") | AI15: =IF(Obliczenia!$E586=1,Obliczenia!$C586,"") | AJ15: =IF(Obliczenia!$E586=1,Obliczenia!$D586,"") | AK15: =IF(Obliczenia!$L586=0,"",ROUNDDOWN(ROUND(Obliczenia!$F586*60,0)/60,1)) | AL15: =IF(Obliczenia!$M586=0,"",ROUNDDOWN(ROUND(Obliczenia!$G586*60,0)/60,1)) | AM15: =IF(Obliczenia!$N586=0,"",ROUNDDOWN(ROUND(Obliczenia!$H586*60,0)/60,1)) | AN15: =IF(Obliczenia!$O586=0,"",ROUNDDOWN(ROUND(Obliczenia!$I586*60,0)/60,1)) | AO15: =IF(Obliczenia!$P586=0,"",ROUNDDOWN(ROUND(Obliczenia!$J586*60,0)/60,1)) | AP15: =IF(Obliczenia!$Q586=0,"",ROUNDDOWN(ROUND(Obliczenia!$K586*60,0)/60,1))
AH16: =IF(Obliczenia!$E587=1,ROUND(Obliczenia!$B587,2),"") | AI16: =IF(Obliczenia!$E587=1,Obliczenia!$C587,"") | AJ16: =IF(Obliczenia!$E587=1,Obliczenia!$D587,"") | AK16: =IF(Obliczenia!$L587=0,"",ROUNDDOWN(ROUND(Obliczenia!$F587*60,0)/60,1)) | AL16: =IF(Obliczenia!$M587=0,"",ROUNDDOWN(ROUND(Obliczenia!$G587*60,0)/60,1)) | AM16: =IF(Obliczenia!$N587=0,"",ROUNDDOWN(ROUND(Obliczenia!$H587*60,0)/60,1)) | AN16: =IF(Obliczenia!$O587=0,"",ROUNDDOWN(ROUND(Obliczenia!$I587*60,0)/60,1)) | AO16: =IF(Obliczenia!$P587=0,"",ROUNDDOWN(ROUND(Obliczenia!$J587*60,0)/60,1)) | AP16: =IF(Obliczenia!$Q587=0,"",ROUNDDOWN(ROUND(Obliczenia!$K587*60,0)/60,1))
AH17: =IF(Obliczenia!$E588=1,ROUND(Obliczenia!$B588,2),"") | AI17: =IF(Obliczenia!$E588=1,Obliczenia!$C588,"") | AJ17: =IF(Obliczenia!$E588=1,Obliczenia!$D588,"") | AK17: =IF(Obliczenia!$L588=0,"",ROUNDDOWN(ROUND(Obliczenia!$F588*60,0)/60,1)) | AL17: =IF(Obliczenia!$M588=0,"",ROUNDDOWN(ROUND(Obliczenia!$G588*60,0)/60,1)) | AM17: =IF(Obliczenia!$N588=0,"",ROUNDDOWN(ROUND(Obliczenia!$H588*60,0)/60,1)) | AN17: =IF(Obliczenia!$O588=0,"",ROUNDDOWN(ROUND(Obliczenia!$I588*60,0)/60,1)) | AO17: =IF(Obliczenia!$P588=0,"",ROUNDDOWN(ROUND(Obliczenia!$J588*60,0)/60,1)) | AP17: =IF(Obliczenia!$Q588=0,"",ROUNDDOWN(ROUND(Obliczenia!$K588*60,0)/60,1))
AH18: =IF(Obliczenia!$E589=1,ROUND(Obliczenia!$B589,2),"") | AI18: =IF(Obliczenia!$E589=1,Obliczenia!$C589,"") | AJ18: =IF(Obliczenia!$E589=1,Obliczenia!$D589,"") | AK18: =IF(Obliczenia!$L589=0,"",ROUNDDOWN(ROUND(Obliczenia!$F589*60,0)/60,1)) | AL18: =IF(Obliczenia!$M589=0,"",ROUNDDOWN(ROUND(Obliczenia!$G589*60,0)/60,1)) | AM18: =IF(Obliczenia!$N589=0,"",ROUNDDOWN(ROUND(Obliczenia!$H589*60,0)/60,1)) | AN18: =IF(Obliczenia!$O589=0,"",ROUNDDOWN(ROUND(Obliczenia!$I589*60,0)/60,1)) | AO18: =IF(Obliczenia!$P589=0,"",ROUNDDOWN(ROUND(Obliczenia!$J589*60,0)/60,1)) | AP18: =IF(Obliczenia!$Q589=0,"",ROUNDDOWN(ROUND(Obliczenia!$K589*60,0)/60,1))
AH19: =IF(Obliczenia!$E590=1,ROUND(Obliczenia!$B590,2),"") | AI19: =IF(Obliczenia!$E590=1,Obliczenia!$C590,"") | AJ19: =IF(Obliczenia!$E590=1,Obliczenia!$D590,"") | AK19: =IF(Obliczenia!$L590=0,"",ROUNDDOWN(ROUND(Obliczenia!$F590*60,0)/60,1)) | AL19: =IF(Obliczenia!$M590=0,"",ROUNDDOWN(ROUND(Obliczenia!$G590*60,0)/60,1)) | AM19: =IF(Obliczenia!$N590=0,"",ROUNDDOWN(ROUND(Obliczenia!$H590*60,0)/60,1)) | AN19: =IF(Obliczenia!$O590=0,"",ROUNDDOWN(ROUND(Obliczenia!$I590*60,0)/60,1)) | AO19: =IF(Obliczenia!$P590=0,"",ROUNDDOWN(ROUND(Obliczenia!$J590*60,0)/60,1)) | AP19: =IF(Obliczenia!$Q590=0,"",ROUNDDOWN(ROUND(Obliczenia!$K590*60,0)/60,1))
AH20: =IF(Obliczenia!$E591=1,ROUND(Obliczenia!$B591,2),"") | AI20: =IF(Obliczenia!$E591=1,Obliczenia!$C591,"") | AJ20: =IF(Obliczenia!$E591=1,Obliczenia!$D591,"") | AK20: =IF(Obliczenia!$L591=0,"",ROUNDDOWN(ROUND(Obliczenia!$F591*60,0)/60,1)) | AL20: =IF(Obliczenia!$M591=0,"",ROUNDDOWN(ROUND(Obliczenia!$G591*60,0)/60,1)) | AM20: =IF(Obliczenia!$N591=0,"",ROUNDDOWN(ROUND(Obliczenia!$H591*60,0)/60,1)) | AN20: =IF(Obliczenia!$O591=0,"",ROUNDDOWN(ROUND(Obliczenia!$I591*60,0)/60,1)) | AO20: =IF(Obliczenia!$P591=0,"",ROUNDDOWN(ROUND(Obliczenia!$J591*60,0)/60,1)) | AP20: =IF(Obliczenia!$Q591=0,"",ROUNDDOWN(ROUND(Obliczenia!$K591*60,0)/60,1))
AH21: =IF(Obliczenia!$E592=1,ROUND(Obliczenia!$B592,2),"") | AI21: =IF(Obliczenia!$E592=1,Obliczenia!$C592,"") | AJ21: =IF(Obliczenia!$E592=1,Obliczenia!$D592,"") | AK21: =IF(Obliczenia!$L592=0,"",ROUNDDOWN(ROUND(Obliczenia!$F592*60,0)/60,1)) | AL21: =IF(Obliczenia!$M592=0,"",ROUNDDOWN(ROUND(Obliczenia!$G592*60,0)/60,1)) | AM21: =IF(Obliczenia!$N592=0,"",ROUNDDOWN(ROUND(Obliczenia!$H592*60,0)/60,1)) | AN21: =IF(Obliczenia!$O592=0,"",ROUNDDOWN(ROUND(Obliczenia!$I592*60,0)/60,1)) | AO21: =IF(Obliczenia!$P592=0,"",ROUNDDOWN(ROUND(Obliczenia!$J592*60,0)/60,1)) | AP21: =IF(Obliczenia!$Q592=0,"",ROUNDDOWN(ROUND(Obliczenia!$K592*60,0)/60,1))
... AH31: =IF(Obliczenia!$E602=1,ROUND(Obliczenia!$B602,2),"") | AI31: =IF(Obliczenia!$E602=1,Obliczenia!$C602,"") | AJ31: =IF(Obliczenia!$E602=1,Obliczenia!$D602,"") | AK31: =IF(Obliczenia!$L602=0,"",ROUNDDOWN(ROUND(Obliczenia!$F602*60,0)/60,1)) | AL31: =IF(Obliczenia!$M602=0,"",ROUNDDOWN(ROUND(Obliczenia!$G602*60,0)/60,1)) | AM31: =IF(Obliczenia!$N602=0,"",ROUNDDOWN(ROUND(Obliczenia!$H602*60,0)/60,1)) | AN31: =IF(Obliczenia!$O602=0,"",ROUNDDOWN(ROUND(Obliczenia!$I602*60,0)/60,1)) | AO31: =IF(Obliczenia!$P602=0,"",ROUNDDOWN(ROUND(Obliczenia!$J602*60,0)/60,1)) | AP31: =IF(Obliczenia!$Q602=0,"",ROUNDDOWN(ROUND(Obliczenia!$K602*60,0)/60,1))
A33: Legenda
C34: < 11 h odpoczynku przed zmianą lub zmiana > 13 h (art. 132 KP); w tygodniu: < 35 h (art. 133 KP)
C35: tydzień wychodzi poza miesiąc i w widocznej części brak 35 h – sprawdź z sąsiednim grafikiem
C36: nieczytelny wpis – popraw na OD-DO, np. 10-18 (do tego czasu kontrole są niepewne)
C37: sobota i niedziela
A38: Szablon pomaga wyłapać typowe błędy, nie zastępuje porady prawnej. Czego nie sprawdza – zakładka Instrukcja.

Sheet Instrukcja
B1: Szablon grafiku pracy dla gastronomii – instrukcja
B2: Grafik na miesiąc dla maks. 25 osób, z automatyczną kontrolą odpoczynku dobowego (11 h) i tygodniowego (35 h). Bez makr – działa w Excelu i LibreOffice.
B4: Jak użyć – 3 kroki
B5: 1. W arkuszu Grafik wpisz miesiąc w komórce „Miesiąc”, np. 2026-11. Daty, dni tygodnia i weekendy ustawią się same. Usuń przykładowe wpisy z wierszy Pracownik 1–3 (zaznacz i naciśnij Delete).
B6: 2. Wpisz pracowników w kolumnie A, a w dniach godziny zmiany w formacie OD-DO: 10-18, 9:30-17:30, 16-01 (koniec mniejszy niż początek = zmiana kończy się po północy). Dzień wolny: zostaw pusty albo wpisz W, U, L4. W kolumnie „Poprz. dzień” wpisz zmianę z ostatniego dnia poprzedniego miesiąca – wtedy kontrola 11 h działa też dla 1. dnia (puste = szablon przyjmuje, że był to dzień wolny).
B7: 3. Sprawdź kolory i wydrukuj: czerwony dzień = za krótki odpoczynek dobowy, czerwona liczba w „Tydz.” = najdłuższy odpoczynek w tym tygodniu krótszy niż 35 h, żółta = tydzień niepełny (sprawdź ręcznie), pomarańczowa komórka = nieczytelny wpis. Wydruk jest ustawiony na A4 poziomo, 1 strona.
B9: Dlaczego zapis „10-18” w jednej komórce
B10: Jedna komórka na dzień to najszybsze wpisywanie (bez dwukropków i bez skakania między kolumnami Od/Do), 31 dni mieści się na jednej kartce A4 i zespół czyta grafik tak, jak zwykle go pisze. Formuły same rozbijają wpis na początek i koniec. Minuty: 9:30-17:30 (kropka też działa: 9.30-17.30). Komórki są w formacie tekstowym, żeby Excel nie zamieniał „10-18” na datę.
B12: Jak liczy kontrola 11 h (art. 132 KP)
B13: Dla każdego dnia ze zmianą szablon liczy czas od końca poprzedniej zmiany do początku tej. Mniej niż 11 h = dzień na czerwono (dokładnie 11 h jest OK). Na czerwono jest też zmiana dłuższa niż 13 h, bo wtedy w tej dobie zostaje mniej niż 11 h odpoczynku. Kolumna „< 11 h” pokazuje, ile takich dni ma osoba.
B15: Jak liczy kontrola 35 h (art. 133 KP) i jej ograniczenia
B16: • Tydzień to 7 kolejnych dni od pierwszego dnia okresu rozliczeniowego (art. 128 § 3 pkt 2 KP). Domyślnie szablon liczy tygodnie od 1. dnia miesiąca (1–7, 8–14 …). Jeśli okres rozliczeniowy zaczął się wcześniej, wpisz jego pierwszy dzień w polu „Tygodnie od” (np. 2026-10-01). Wolisz tygodnie pn–nd? Wpisz tam dowolny poniedziałek.
... B37: Chcesz, żeby to liczyło się samo, a zespół widział grafik w telefonie? kadryhr.pl/zalozycielski

Sheet Obliczenia
A1: Arkusz pomocniczy szablonu – nie edytuj. Wszystko liczy się z arkusza Grafik. | B1: rok | C1: miesiąc | D1: miesiąc OK | E1: 1. dzień | F1: dni w mies. | G1: pocz. okresu | H1: data OK | I1: przesunięcie tyg. | J1: koniec znanego (h)
B2: =IF(ISNUMBER(Grafik!$B$2),YEAR(Grafik!$B$2),VALUE(LEFT(TRIM(Grafik!$B$2&""),4))) | C2: =IF(ISNUMBER(Grafik!$B$2),MONTH(Grafik!$B$2),VALUE(MID(TRIM(Grafik!$B$2&""),6,2))) | D2: =IF(ISERROR(B2+C2),0,IF(AND(B2>=1990,B2<=2200,C2>=1,C2<=12,C2=INT(C2)),1,0)) | E2: =IF(D2=1,DATE(B2,C2,1),DATE(YEAR(TODAY()),MONTH(TODAY()),1)) | F2: =DAY(DATE(YEAR(E2),MONTH(E2)+1,0)) | G2: =IF(TRIM(Grafik!$AG$2&"")="",E2,IF(ISNUMBER(Grafik!$AG$2),INT(Grafik!$AG$2),IFERROR(DATE(VALUE(LEFT(TRIM(Grafik!$AG$2&""),4)),VALUE(MID(TRIM(Grafik!$AG$2&""),6,2)),VALUE(MID(TRIM(Grafik!$AG$2&""),9,2))),E2))) | H2: =IF(TRIM(Grafik!$AG$2&"")="",1,IF(ISNUMBER(Grafik!$AG$2),1,IF(ISERROR(DATE(VALUE(LEFT(TRIM(Grafik!$AG$2&""),4)),VALUE(MID(TRIM(Grafik!$AG$2&""),6,2)),VALUE(MID(TRIM(Grafik!$AG$2&""),9,2)))),0,1))) | I2: =MOD(E2-G2,7) | J2: =24*(F2+1)
A3: dzień | B3: 0 | C3: 1 | D3: 2 | E3: 3 | F3: 4 | G3: 5 | H3: 6 | I3: 7 | J3: 8 | K3: 9 | L3: 10 | M3: 11 | N3: 12 | O3: 13 | P3: 14 | Q3: 15 | R3: 16 | S3: 17 | T3: 18 | U3: 19 | V3: 20 | W3: 21 | X3: 22 | Y3: 23 | Z3: 24 | AA3: 25 | AB3: 26 | AC3: 27 | AD3: 28 | AE3: 29 | AF3: 30 | AG3: 31
A4: aktywny | B4: =IF(B$3<=$F$2,1,0) | C4: =IF(C$3<=$F$2,1,0) | D4: =IF(D$3<=$F$2,1,0) | E4: =IF(E$3<=$F$2,1,0) | F4: =IF(F$3<=$F$2,1,0) | G4: =IF(G$3<=$F$2,1,0) | H4: =IF(H$3<=$F$2,1,0) | I4: =IF(I$3<=$F$2,1,0) | ... AG4: =IF(AG$3<=$F$2,1,0)
A5: data | B5: =$E$2+B$3-1 | C5: =$E$2+C$3-1 | D5: =$E$2+D$3-1 | E5: =$E$2+E$3-1 | F5: =$E$2+F$3-1 | G5: =$E$2+G$3-1 | H5: =$E$2+H$3-1 | I5: =$E$2+I$3-1 | ... AG5: =$E$2+AG$3-1
A7: tydzień | B7: 1 | C7: 2 | D7: 3 | E7: 4 | F7: 5 | G7: 6
A8: dzień od | B8: =1-$I$2+7*(B7-1) | C8: =1-$I$2+7*(C7-1) | D8: =1-$I$2+7*(D7-1) | E8: =1-$I$2+7*(E7-1) | F8: =1-$I$2+7*(F7-1) | G8: =1-$I$2+7*(G7-1)
A9: dzień do | B9: =B8+6 | C9: =C8+6 | D9: =D8+6 | E9: =E8+6 | F9: =F8+6 | G9: =G8+6
A10: W0 (h) | B10: =24*B8 | C10: =24*C8 | D10: =24*D8 | E10: =24*E8 | F10: =24*F8 | G10: =24*G8
A11: W1 (h) | B11: =B10+168 | C11: =C10+168 | D11: =D10+168 | E11: =E10+168 | F11: =F10+168 | G11: =G10+168
A12: istnieje | B12: =IF(B8<=$F$2,1,0) | C12: =IF(C8<=$F$2,1,0) | D12: =IF(D8<=$F$2,1,0) | E12: =IF(E8<=$F$2,1,0) | F12: =IF(F8<=$F$2,1,0) | G12: =IF(G8<=$F$2,1,0)
A13: pełny | B13: =IF(AND(B8>=0,B9<=$F$2),1,0) | C13: =IF(AND(C8>=0,C9<=$F$2),1,0) | D13: =IF(AND(D8>=0,D9<=$F$2),1,0) | E13: =IF(AND(E8>=0,E9<=$F$2),1,0) | F13: =IF(AND(F8>=0,F9<=$F$2),1,0) | G13: =IF(AND(G8>=0,G9<=$F$2),1,0)
A14: etykieta | B14: =IF(B12=1,DAY(($E$2+B8-1))&"."&MONTH(($E$2+B8-1))&"–"&DAY(($E$2+B9-1))&"."&MONTH(($E$2+B9-1))&IF(B13=1,"","*"),"") | C14: =IF(C12=1,DAY(($E$2+C8-1))&"."&MONTH(($E$2+C8-1))&"–"&DAY(($E$2+C9-1))&"."&MONTH(($E$2+C9-1))&IF(C13=1,"","*"),"") | D14: =IF(D12=1,DAY(($E$2+D8-1))&"."&MONTH(($E$2+D8-1))&"–"&DAY(($E$2+D9-1))&"."&MONTH(($E$2+D9-1))&IF(D13=1,"","*"),"") | E14: =IF(E12=1,DAY(($E$2+E8-1))&"."&MONTH(($E$2+E8-1))&"–"&DAY(($E$2+E9-1))&"."&MONTH(($E$2+E9-1))&IF(E13=1,"","*"),"") | F14: =IF(F12=1,DAY(($E$2+F8-1))&"."&MONTH(($E$2+F8-1))&"–"&DAY(($E$2+F9-1))&"."&MONTH(($E$2+F9-1))&IF(F13=1,"","*"),"") | G14: =IF(G12=1,DAY(($E$2+G8-1))&"."&MONTH(($E$2+G8-1))&"–"&DAY(($E$2+G9-1))&"."&MONTH(($E$2+G9-1))&IF(G13=1,"","*"),"")
A17: [TXT]
B18: =IF(B$4=1,SUBSTITUTE(SUBSTITUTE(SUBSTITUTE(SUBSTITUTE(SUBSTITUTE(TRIM(Grafik!B7&""),".",":"),",",":"),"–","-"),"—","-")," ",""),"") | C18: =IF(C$4=1,SUBSTITUTE(SUBSTITUTE(SUBSTITUTE(SUBSTITUTE(SUBSTITUTE(TRIM(Grafik!C7&""),".",":"),",",":"),"–","-"),"—","-")," ",""),"") | D18: =IF(D$4=1,SUBSTITUTE(SUBSTITUTE(SUBSTITUTE(SUBSTITUTE(SUBSTITUTE(TRIM(Grafik!D7&""),".",":"),",",":"),"–","-"),"—","-")," ",""),"") | E18: =IF(E$4=1,SUBSTITUTE(SUBSTITUTE(SUBSTITUTE(SUBSTITUTE(SUBSTITUTE(TRIM(Grafik!E7&""),".",":"),",",":"),"–","-"),"—","-")," ",""),"") | F18: =IF(F$4=1,SUBSTITUTE(SUBSTITUTE(SUBSTITUTE(SUBSTITUTE(SUBSTITUTE(TRIM(Grafik!F7&""),".",":"),",",":"),"–","-"),"—","-")," ",""),"") | G18: =IF(G$4=1,SUBSTITUTE(SUBSTITUTE(SUBSTITUTE(SUBSTITUTE(SUBSTITUTE(TRIM(Grafik!G7&""),".",":"),",",":"),"–","-"),"—","-")," ",""),"") | H18: =IF(H$4=1,SUBSTITUTE(SUBSTITUTE(SUBSTITUTE(SUBSTITUTE(SUBSTITUTE(TRIM(Grafik!H7&""),".",":"),",",":"),"–","-"),"—","-")," ",""),"") | I18: =IF(I$4=1,SUBSTITUTE(SUBSTITUTE(SUBSTITUTE(SUBSTITUTE(SUBSTITUTE(TRIM(Grafik!I7&""),".",":"),",",":"),"–","-"),"—","-")," ",""),"") | ... AG18: =IF(AG$4=1,SUBSTITUTE(SUBSTITUTE(SUBSTITUTE(SUBSTITUTE(SUBSTITUTE(TRIM(Grafik!AG7&""),".",":"),",",":"),"–","-"),"—","-")," ",""),"")
B19: =IF(B$4=1,SUBSTITUTE(SUBSTITUTE(SUBSTITUTE(SUBSTITUTE(SUBSTITUTE(TRIM(Grafik!B8&""),".",":"),",",":"),"–","-"),"—","-")," ",""),"") | C19: =IF(C$4=1,SUBSTITUTE(SUBSTITUTE(SUBSTITUTE(SUBSTITUTE(SUBSTITUTE(TRIM(Grafik!C8&""),".",":"),",",":"),"–","-"),"—","-")," ",""),"") | D19: =IF(D$4=1,SUBSTITUTE(SUBSTITUTE(SUBSTITUTE(SUBSTITUTE(SUBSTITUTE(TRIM(Grafik!D8&""),".",":"),",",":"),"–","-"),"—","-")," ",""),"") | E19: =IF(E$4=1,SUBSTITUTE(SUBSTITUTE(SUBSTITUTE(SUBSTITUTE(SUBSTITUTE(TRIM(Grafik!E8&""),".",":"),",",":"),"–","-"),"—","-")," ",""),"") | F19: =IF(F$4=1,SUBSTITUTE(SUBSTITUTE(SUBSTITUTE(SUBSTITUTE(SUBSTITUTE(TRIM(Grafik!F8&""),".",":"),",",":"),"–","-"),"—","-")," ",""),"") | G19: =IF(G$4=1,SUBSTITUTE(SUBSTITUTE(SUBSTITUTE(SUBSTITUTE(SUBSTITUTE(TRIM(Grafik!G8&""),".",":"),",",":"),"–","-"),"—","-")," ",""),"") | H19: =IF(H$4=1,SUBSTITUTE(SUBSTITUTE(SUBSTITUTE(SUBSTITUTE(SUBSTITUTE(TRIM(Grafik!H8&""),".",":"),",",":"),"–","-"),"—","-")," ",""),"") | I19: =IF(I$4=1,SUBSTITUTE(SUBSTITUTE(SUBSTITUTE(SUBSTITUTE(SUBSTITUTE(TRIM(Grafik!I8&""),".",":"),",",":"),"–","-"),"—","-")," ",""),"") | ... AG19: =IF(AG$4=1,SUBSTITUTE(SUBSTITUTE(SUBSTITUTE(SUBSTITUTE(SUBSTITUTE(TRIM(Grafik!AG8&""),".",":"),",",":"),"–","-"),"—","-")," ",""),"")
B20: =IF(B$4=1,SUBSTITUTE(SUBSTITUTE(SUBSTITUTE(SUBSTITUTE(SUBSTITUTE(TRIM(Grafik!B9&""),".",":"),",",":"),"–","-"),"—","-")," ",""),"") | C20: =IF(C$4=1,SUBSTITUTE(SUBSTITUTE(SUBSTITUTE(SUBSTITUTE(SUBSTITUTE(TRIM(Grafik!C9&""),".",":"),",",":"),"–","-"),"—","-")," ",""),"") | D20: =IF(D$4=1,SUBSTITUTE(SUBSTITUTE(SUBSTITUTE(SUBSTITUTE(SUBSTITUTE(TRIM(Grafik!D9&""),".",":"),",",":"),"–","-"),"—","-")," ",""),"") | E20: =IF(E$4=1,SUBSTITUTE(SUBSTITUTE(SUBSTITUTE(SUBSTITUTE(SUBSTITUTE(TRIM(Grafik!E9&""),".",":"),",",":"),"–","-"),"—","-")," ",""),"") | F20: =IF(F$4=1,SUBSTITUTE(SUBSTITUTE(SUBSTITUTE(SUBSTITUTE(SUBSTITUTE(TRIM(Grafik!F9&""),".",":"),",",":"),"–","-"),"—","-")," ",""),"") | G20: =IF(G$4=1,SUBSTITUTE(SUBSTITUTE(SUBSTITUTE(SUBSTITUTE(SUBSTITUTE(TRIM(Grafik!G9&""),".",":"),",",":"),"–","-"),"—","-")," ",""),"") | H20: =IF(H$4=1,SUBSTITUTE(SUBSTITUTE(SUBSTITUTE(SUBSTITUTE(SUBSTITUTE(TRIM(Grafik!H9&""),".",":"),",",":"),"–","-"),"—","-")," ",""),"") | I20: =IF(I$4=1,SUBSTITUTE(SUBSTITUTE(SUBSTITUTE(SUBSTITUTE(SUBSTITUTE(TRIM(Grafik!I9&""),".",":"),",",":"),"–","-"),"—","-")," ",""),"") | ... AG20: =IF(AG$4=1,SUBSTITUTE(SUBSTITUTE(SUBSTITUTE(SUBSTITUTE(SUBSTITUTE(TRIM(Grafik!AG9&""),".",":"),",",":"),"–","-"),"—","-")," ",""),"")
B21: =IF(B$4=1,SUBSTITUTE(SUBSTITUTE(SUBSTITUTE(SUBSTITUTE(SUBSTITUTE(TRIM(Grafik!B10&""),".",":"),",",":"),"–","-"),"—","-")," ",""),"") | C21: =IF(C$4=1,SUBSTITUTE(SUBSTITUTE(SUBSTITUTE(SUBSTITUTE(SUBSTITUTE(TRIM(Grafik!C10&""),".",":"),",",":"),"–","-"),"—","-")," ",""),"") | D21: =IF(D$4=1,SUBSTITUTE(SUBSTITUTE(SUBSTITUTE(SUBSTITUTE(SUBSTITUTE(TRIM(Grafik!D10&""),".",":"),",",":"),"–","-"),"—","-")," ",""),"") | E21: =IF(E$4=1,SUBSTITUTE(SUBSTITUTE(SUBSTITUTE(SUBSTITUTE(SUBSTITUTE(TRIM(Grafik!E10&""),".",":"),",",":"),"–","-"),"—","-")," ",""),"") | F21: =IF(F$4=1,SUBSTITUTE(SUBSTITUTE(SUBSTITUTE(SUBSTITUTE(SUBSTITUTE(TRIM(Grafik!F10&""),".",":"),",",":"),"–","-"),"—","-")," ",""),"") | G21: =IF(G$4=1,SUBSTITUTE(SUBSTITUTE(SUBSTITUTE(SUBSTITUTE(SUBSTITUTE(TRIM(Grafik!G10&""),".",":"),",",":"),"–","-"),"—","-")," ",""),"") | H21: =IF(H$4=1,SUBSTITUTE(SUBSTITUTE(SUBSTITUTE(SUBSTITUTE(SUBSTITUTE(TRIM(Grafik!H10&""),".",":"),",",":"),"–","-"),"—","-")," ",""),"") | I21: =IF(I$4=1,SUBSTITUTE(SUBSTITUTE(SUBSTITUTE(SUBSTITUTE(SUBSTITUTE(TRIM(Grafik!I10&""),".",":"),",",":"),"–","-"),"—","-")," ",""),"") | ... AG21: =IF(AG$4=1,SUBSTITUTE(SUBSTITUTE(SUBSTITUTE(SUBSTITUTE(SUBSTITUTE(TRIM(Grafik!AG10&""),".",":"),",",":"),"–","-"),"—","-")," ",""),"")
B22: =IF(B$4=1,SUBSTITUTE(SUBSTITUTE(SUBSTITUTE(SUBSTITUTE(SUBSTITUTE(TRIM(Grafik!B11&""),".",":"),",",":"),"–","-"),"—","-")," ",""),"") | C22: =IF(C$4=1,SUBSTITUTE(SUBSTITUTE(SUBSTITUTE(SUBSTITUTE(SUBSTITUTE(TRIM(Grafik!C11&""),".",":"),",",":"),"–","-"),"—","-")," ",""),"") | D22: =IF(D$4=1,SUBSTITUTE(SUBSTITUTE(SUBSTITUTE(SUBSTITUTE(SUBSTITUTE(TRIM(Grafik!D11&""),".",":"),",",":"),"–","-"),"—","-")," ",""),"") | E22: =IF(E$4=1,SUBSTITUTE(SUBSTITUTE(SUBSTITUTE(SUBSTITUTE(SUBSTITUTE(TRIM(Grafik!E11&""),".",":"),",",":"),"–","-"),"—","-")," ",""),"") | F22: =IF(F$4=1,SUBSTITUTE(SUBSTITUTE(SUBSTITUTE(SUBSTITUTE(SUBSTITUTE(TRIM(Grafik!F11&""),".",":"),",",":"),"–","-"),"—","-")," ",""),"") | G22: =IF(G$4=1,SUBSTITUTE(SUBSTITUTE(SUBSTITUTE(SUBSTITUTE(SUBSTITUTE(TRIM(Grafik!G11&""),".",":"),",",":"),"–","-"),"—","-")," ",""),"") | H22: =IF(H$4=1,SUBSTITUTE(SUBSTITUTE(SUBSTITUTE(SUBSTITUTE(SUBSTITUTE(TRIM(Grafik!H11&""),".",":"),",",":"),"–","-"),"—","-")," ",""),"") | I22: =IF(I$4=1,SUBSTITUTE(SUBSTITUTE(SUBSTITUTE(SUBSTITUTE(SUBSTITUTE(TRIM(Grafik!I11&""),".",":"),",",":"),"–","-"),"—","-")," ",""),"") | ... AG22: =IF(AG$4=1,SUBSTITUTE(SUBSTITUTE(SUBSTITUTE(SUBSTITUTE(SUBSTITUTE(TRIM(Grafik!AG11&""),".",":"),",",":"),"–","-"),"—","-")," ",""),"")
B23: =IF(B$4=1,SUBSTITUTE(SUBSTITUTE(SUBSTITUTE(SUBSTITUTE(SUBSTITUTE(TRIM(Grafik!B12&""),".",":"),",",":"),"–","-"),"—","-")," ",""),"") | C23: =IF(C$4=1,SUBSTITUTE(SUBSTITUTE(SUBSTITUTE(SUBSTITUTE(SUBSTITUTE(TRIM(Grafik!C12&""),".",":"),",",":"),"–","-"),"—","-")," ",""),"") | D23: =IF(D$4=1,SUBSTITUTE(SUBSTITUTE(SUBSTITUTE(SUBSTITUTE(SUBSTITUTE(TRIM(Grafik!D12&""),".",":"),",",":"),"–","-"),"—","-")," ",""),"") | E23: =IF(E$4=1,SUBSTITUTE(SUBSTITUTE(SUBSTITUTE(SUBSTITUTE(SUBSTITUTE(TRIM(Grafik!E12&""),".",":"),",",":"),"–","-"),"—","-")," ",""),"") | F23: =IF(F$4=1,SUBSTITUTE(SUBSTITUTE(SUBSTITUTE(SUBSTITUTE(SUBSTITUTE(TRIM(Grafik!F12&""),".",":"),",",":"),"–","-"),"—","-")," ",""),"") | G23: =IF(G$4=1,SUBSTITUTE(SUBSTITUTE(SUBSTITUTE(SUBSTITUTE(SUBSTITUTE(TRIM(Grafik!G12&""),".",":"),",",":"),"–","-"),"—","-")," ",""),"") | H23: =IF(H$4=1,SUBSTITUTE(SUBSTITUTE(SUBSTITUTE(SUBSTITUTE(SUBSTITUTE(TRIM(Grafik!H12&""),".",":"),",",":"),"–","-"),"—","-")," ",""),"") | I23: =IF(I$4=1,SUBSTITUTE(SUBSTITUTE(SUBSTITUTE(SUBSTITUTE(SUBSTITUTE(TRIM(Grafik!I12&""),".",":"),",",":"),"–","-"),"—","-")," ",""),"") | ... AG23: =IF(AG$4=1,SUBSTITUTE(SUBSTITUTE(SUBSTITUTE(SUBSTITUTE(SUBSTITUTE(TRIM(Grafik!AG12&""),".",":"),",",":"),"–","-"),"—","-")," ",""),"")
B24: =IF(B$4=1,SUBSTITUTE(SUBSTITUTE(SUBSTITUTE(SUBSTITUTE(SUBSTITUTE(TRIM(Grafik!B13&""),".",":"),",",":"),"–","-"),"—","-")," ",""),"") | C24: =IF(C$4=1,SUBSTITUTE(SUBSTITUTE(SUBSTITUTE(SUBSTITUTE(SUBSTITUTE(TRIM(Grafik!C13&""),".",":"),",",":"),"–","-"),"—","-")," ",""),"") | D24: =IF(D$4=1,SUBSTITUTE(SUBSTITUTE(SUBSTITUTE(SUBSTITUTE(SUBSTITUTE(TRIM(Grafik!D13&""),".",":"),",",":"),"–","-"),"—","-")," ",""),"") | E24: =IF(E$4=1,SUBSTITUTE(SUBSTITUTE(SUBSTITUTE(SUBSTITUTE(SUBSTITUTE(TRIM(Grafik!E13&""),".",":"),",",":"),"–","-"),"—","-")," ",""),"") | F24: =IF(F$4=1,SUBSTITUTE(SUBSTITUTE(SUBSTITUTE(SUBSTITUTE(SUBSTITUTE(TRIM(Grafik!F13&""),".",":"),",",":"),"–","-"),"—","-")," ",""),"") | G24: =IF(G$4=1,SUBSTITUTE(SUBSTITUTE(SUBSTITUTE(SUBSTITUTE(SUBSTITUTE(TRIM(Grafik!G13&""),".",":"),",",":"),"–","-"),"—","-")," ",""),"") | H24: =IF(H$4=1,SUBSTITUTE(SUBSTITUTE(SUBSTITUTE(SUBSTITUTE(SUBSTITUTE(TRIM(Grafik!H13&""),".",":"),",",":"),"–","-"),"—","-")," ",""),"") | I24: =IF(I$4=1,SUBSTITUTE(SUBSTITUTE(SUBSTITUTE(SUBSTITUTE(SUBSTITUTE(TRIM(Grafik!I13&""),".",":"),",",":"),"–","-"),"—","-")," ",""),"") | ... AG24: =IF(AG$4=1,SUBSTITUTE(SUBSTITUTE(SUBSTITUTE(SUBSTITUTE(SUBSTITUTE(TRIM(Grafik!AG13&""),".",":"),",",":"),"–","-"),"—","-")," ",""),"")
B25: =IF(B$4=1,SUBSTITUTE(SUBSTITUTE(SUBSTITUTE(SUBSTITUTE(SUBSTITUTE(TRIM(Grafik!B14&""),".",":"),",",":"),"–","-"),"—","-")," ",""),"") | C25: =IF(C$4=1,SUBSTITUTE(SUBSTITUTE(SUBSTITUTE(SUBSTITUTE(SUBSTITUTE(TRIM(Grafik!C14&""),".",":"),",",":"),"–","-"),"—","-")," ",""),"") | D25: =IF(D$4=1,SUBSTITUTE(SUBSTITUTE(SUBSTITUTE(SUBSTITUTE(SUBSTITUTE(TRIM(Grafik!D14&""),".",":"),",",":"),"–","-"),"—","-")," ",""),"") | E25: =IF(E$4=1,SUBSTITUTE(SUBSTITUTE(SUBSTITUTE(SUBSTITUTE(SUBSTITUTE(TRIM(Grafik!E14&""),".",":"),",",":"),"–","-"),"—","-")," ",""),"") | F25: =IF(F$4=1,SUBSTITUTE(SUBSTITUTE(SUBSTITUTE(SUBSTITUTE(SUBSTITUTE(TRIM(Grafik!F14&""),".",":"),",",":"),"–","-"),"—","-")," ",""),"") | G25: =IF(G$4=1,SUBSTITUTE(SUBSTITUTE(SUBSTITUTE(SUBSTITUTE(SUBSTITUTE(TRIM(Grafik!G14&""),".",":"),",",":"),"–","-"),"—","-")," ",""),"") | H25: =IF(H$4=1,SUBSTITUTE(SUBSTITUTE(SUBSTITUTE(SUBSTITUTE(SUBSTITUTE(TRIM(Grafik!H14&""),".",":"),",",":"),"–","-"),"—","-")," ",""),"") | I25: =IF(I$4=1,SUBSTITUTE(SUBSTITUTE(SUBSTITUTE(SUBSTITUTE(SUBSTITUTE(TRIM(Grafik!I14&""),".",":"),",",":"),"–","-"),"—","-")," ",""),"") | ... AG25: =IF(AG$4=1,SUBSTITUTE(SUBSTITUTE(SUBSTITUTE(SUBSTITUTE(SUBSTITUTE(TRIM(Grafik!AG14&""),".",":"),",",":"),"–","-"),"—","-")," ",""),"")
B26: =IF(B$4=1,SUBSTITUTE(SUBSTITUTE(SUBSTITUTE(SUBSTITUTE(SUBSTITUTE(TRIM(Grafik!B15&""),".",":"),",",":"),"–","-"),"—","-")," ",""),"") | C26: =IF(C$4=1,SUBSTITUTE(SUBSTITUTE(SUBSTITUTE(SUBSTITUTE(SUBSTITUTE(TRIM(Grafik!C15&""),".",":"),",",":"),"–","-"),"—","-")," ",""),"") | D26: =IF(D$4=1,SUBSTITUTE(SUBSTITUTE(SUBSTITUTE(SUBSTITUTE(SUBSTITUTE(TRIM(Grafik!D15&""),".",":"),",",":"),"–","-"),"—","-")," ",""),"") | E26: =IF(E$4=1,SUBSTITUTE(SUBSTITUTE(SUBSTITUTE(SUBSTITUTE(SUBSTITUTE(TRIM(Grafik!E15&""),".",":"),",",":"),"–","-"),"—","-")," ",""),"") | F26: =IF(F$4=1,SUBSTITUTE(SUBSTITUTE(SUBSTITUTE(SUBSTITUTE(SUBSTITUTE(TRIM(Grafik!F15&""),".",":"),",",":"),"–","-"),"—","-")," ",""),"") | G26: =IF(G$4=1,SUBSTITUTE(SUBSTITUTE(SUBSTITUTE(SUBSTITUTE(SUBSTITUTE(TRIM(Grafik!G15&""),".",":"),",",":"),"–","-"),"—","-")," ",""),"") | H26: =IF(H$4=1,SUBSTITUTE(SUBSTITUTE(SUBSTITUTE(SUBSTITUTE(SUBSTITUTE(TRIM(Grafik!H15&""),".",":"),",",":"),"–","-"),"—","-")," ",""),"") | I26: =IF(I$4=1,SUBSTITUTE(SUBSTITUTE(SUBSTITUTE(SUBSTITUTE(SUBSTITUTE(TRIM(Grafik!I15&""),".",":"),",",":"),"–","-"),"—","-")," ",""),"") | ... AG26: =IF(AG$4=1,SUBSTITUTE(SUBSTITUTE(SUBSTITUTE(SUBSTITUTE(SUBSTITUTE(TRIM(Grafik!AG15&""),".",":"),",",":"),"–","-"),"—","-")," ",""),"")
B27: =IF(B$4=1,SUBSTITUTE(SUBSTITUTE(SUBSTITUTE(SUBSTITUTE(SUBSTITUTE(TRIM(Grafik!B16&""),".",":"),",",":"),"–","-"),"—","-")," ",""),"") | C27: =IF(C$4=1,SUBSTITUTE(SUBSTITUTE(SUBSTITUTE(SUBSTITUTE(SUBSTITUTE(TRIM(Grafik!C16&""),".",":"),",",":"),"–","-"),"—","-")," ",""),"") | D27: =IF(D$4=1,SUBSTITUTE(SUBSTITUTE(SUBSTITUTE(SUBSTITUTE(SUBSTITUTE(TRIM(Grafik!D16&""),".",":"),",",":"),"–","-"),"—","-")," ",""),"") | E27: =IF(E$4=1,SUBSTITUTE(SUBSTITUTE(SUBSTITUTE(SUBSTITUTE(SUBSTITUTE(TRIM(Grafik!E16&""),".",":"),",",":"),"–","-"),"—","-")," ",""),"") | F27: =IF(F$4=1,SUBSTITUTE(SUBSTITUTE(SUBSTITUTE(SUBSTITUTE(SUBSTITUTE(TRIM(Grafik!F16&""),".",":"),",",":"),"–","-"),"—","-")," ",""),"") | G27: =IF(G$4=1,SUBSTITUTE(SUBSTITUTE(SUBSTITUTE(SUBSTITUTE(SUBSTITUTE(TRIM(Grafik!G16&""),".",":"),",",":"),"–","-"),"—","-")," ",""),"") | H27: =IF(H$4=1,SUBSTITUTE(SUBSTITUTE(SUBSTITUTE(SUBSTITUTE(SUBSTITUTE(TRIM(Grafik!H16&""),".",":"),",",":"),"–","-"),"—","-")," ",""),"") | I27: =IF(I$4=1,SUBSTITUTE(SUBSTITUTE(SUBSTITUTE(SUBSTITUTE(SUBSTITUTE(TRIM(Grafik!I16&""),".",":"),",",":"),"–","-"),"—","-")," ",""),"") | ... AG27: =IF(AG$4=1,SUBSTITUTE(SUBSTITUTE(SUBSTITUTE(SUBSTITUTE(SUBSTITUTE(TRIM(Grafik!AG16&""),".",":"),",",":"),"–","-"),"—","-")," ",""),"")
B28: =IF(B$4=1,SUBSTITUTE(SUBSTITUTE(SUBSTITUTE(SUBSTITUTE(SUBSTITUTE(TRIM(Grafik!B17&""),".",":"),",",":"),"–","-"),"—","-")," ",""),"") | C28: =IF(C$4=1,SUBSTITUTE(SUBSTITUTE(SUBSTITUTE(SUBSTITUTE(SUBSTITUTE(TRIM(Grafik!C17&""),".",":"),",",":"),"–","-"),"—","-")," ",""),"") | D28: =IF(D$4=1,SUBSTITUTE(SUBSTITUTE(SUBSTITUTE(SUBSTITUTE(SUBSTITUTE(TRIM(Grafik!D17&""),".",":"),",",":"),"–","-"),"—","-")," ",""),"") | E28: =IF(E$4=1,SUBSTITUTE(SUBSTITUTE(SUBSTITUTE(SUBSTITUTE(SUBSTITUTE(TRIM(Grafik!E17&""),".",":"),",",":"),"–","-"),"—","-")," ",""),"") | F28: =IF(F$4=1,SUBSTITUTE(SUBSTITUTE(SUBSTITUTE(SUBSTITUTE(SUBSTITUTE(TRIM(Grafik!F17&""),".",":"),",",":"),"–","-"),"—","-")," ",""),"") | G28: =IF(G$4=1,SUBSTITUTE(SUBSTITUTE(SUBSTITUTE(SUBSTITUTE(SUBSTITUTE(TRIM(Grafik!G17&""),".",":"),",",":"),"–","-"),"—","-")," ",""),"") | H28: =IF(H$4=1,SUBSTITUTE(SUBSTITUTE(SUBSTITUTE(SUBSTITUTE(SUBSTITUTE(TRIM(Grafik!H17&""),".",":"),",",":"),"–","-"),"—","-")," ",""),"") | I28: =IF(I$4=1,SUBSTITUTE(SUBSTITUTE(SUBSTITUTE(SUBSTITUTE(SUBSTITUTE(TRIM(Grafik!I17&""),".",":"),",",":"),"–","-"),"—","-")," ",""),"") | ... AG28: =IF(AG$4=1,SUBSTITUTE(SUBSTITUTE(SUBSTITUTE(SUBSTITUTE(SUBSTITUTE(TRIM(Grafik!AG17&""),".",":"),",",":"),"–","-"),"—","-")," ",""),"")
B29: =IF(B$4=1,SUBSTITUTE(SUBSTITUTE(SUBSTITUTE(SUBSTITUTE(SUBSTITUTE(TRIM(Grafik!B18&""),".",":"),",",":"),"–","-"),"—","-")," ",""),"") | C29: =IF(C$4=1,SUBSTITUTE(SUBSTITUTE(SUBSTITUTE(SUBSTITUTE(SUBSTITUTE(TRIM(Grafik!C18&""),".",":"),",",":"),"–","-"),"—","-")," ",""),"") | D29: =IF(D$4=1,SUBSTITUTE(SUBSTITUTE(SUBSTITUTE(SUBSTITUTE(SUBSTITUTE(TRIM(Grafik!D18&""),".",":"),",",":"),"–","-"),"—","-")," ",""),"") | E29: =IF(E$4=1,SUBSTITUTE(SUBSTITUTE(SUBSTITUTE(SUBSTITUTE(SUBSTITUTE(TRIM(Grafik!E18&""),".",":"),",",":"),"–","-"),"—","-")," ",""),"") | F29: =IF(F$4=1,SUBSTITUTE(SUBSTITUTE(SUBSTITUTE(SUBSTITUTE(SUBSTITUTE(TRIM(Grafik!F18&""),".",":"),",",":"),"–","-"),"—","-")," ",""),"") | G29: =IF(G$4=1,SUBSTITUTE(SUBSTITUTE(SUBSTITUTE(SUBSTITUTE(SUBSTITUTE(TRIM(Grafik!G18&""),".",":"),",",":"),"–","-"),"—","-")," ",""),"") | H29: =IF(H$4=1,SUBSTITUTE(SUBSTITUTE(SUBSTITUTE(SUBSTITUTE(SUBSTITUTE(TRIM(Grafik!H18&""),".",":"),",",":"),"–","-"),"—","-")," ",""),"") | I29: =IF(I$4=1,SUBSTITUTE(SUBSTITUTE(SUBSTITUTE(SUBSTITUTE(SUBSTITUTE(TRIM(Grafik!I18&""),".",":"),",",":"),"–","-"),"—","-")," ",""),"") | ... AG29: =IF(AG$4=1,SUBSTITUTE(SUBSTITUTE(SUBSTITUTE(SUBSTITUTE(SUBSTITUTE(TRIM(Grafik!AG18&""),".",":"),",",":"),"–","-"),"—","-")," ",""),"")
... B42: =IF(B$4=1,SUBSTITUTE(SUBSTITUTE(SUBSTITUTE(SUBSTITUTE(SUBSTITUTE(TRIM(Grafik!B31&""),".",":"),",",":"),"–","-"),"—","-")," ",""),"") | C42: =IF(C$4=1,SUBSTITUTE(SUBSTITUTE(SUBSTITUTE(SUBSTITUTE(SUBSTITUTE(TRIM(Grafik!C31&""),".",":"),",",":"),"–","-"),"—","-")," ",""),"") | D42: =IF(D$4=1,SUBSTITUTE(SUBSTITUTE(SUBSTITUTE(SUBSTITUTE(SUBSTITUTE(TRIM(Grafik!D31&""),".",":"),",",":"),"–","-"),"—","-")," ",""),"") | E42: =IF(E$4=1,SUBSTITUTE(SUBSTITUTE(SUBSTITUTE(SUBSTITUTE(SUBSTITUTE(TRIM(Grafik!E31&""),".",":"),",",":"),"–","-"),"—","-")," ",""),"") | F42: =IF(F$4=1,SUBSTITUTE(SUBSTITUTE(SUBSTITUTE(SUBSTITUTE(SUBSTITUTE(TRIM(Grafik!F31&""),".",":"),",",":"),"–","-"),"—","-")," ",""),"") | G42: =IF(G$4=1,SUBSTITUTE(SUBSTITUTE(SUBSTITUTE(SUBSTITUTE(SUBSTITUTE(TRIM(Grafik!G31&""),".",":"),",",":"),"–","-"),"—","-")," ",""),"") | H42: =IF(H$4=1,SUBSTITUTE(SUBSTITUTE(SUBSTITUTE(SUBSTITUTE(SUBSTITUTE(TRIM(Grafik!H31&""),".",":"),",",":"),"–","-"),"—","-")," ",""),"") | I42: =IF(I$4=1,SUBSTITUTE(SUBSTITUTE(SUBSTITUTE(SUBSTITUTE(SUBSTITUTE(TRIM(Grafik!I31&""),".",":"),",",":"),"–","-"),"—","-")," ",""),"") | ... AG42: =IF(AG$4=1,SUBSTITUTE(SUBSTITUTE(SUBSTITUTE(SUBSTITUTE(SUBSTITUTE(TRIM(Grafik!AG31&""),".",":"),",",":"),"–","-"),"—","-")," ",""),"")
A45: [POS]
B46: =IFERROR(FIND("-",B18),0) | C46: =IFERROR(FIND("-",C18),0) | D46: =IFERROR(FIND("-",D18),0) | E46: =IFERROR(FIND("-",E18),0) | F46: =IFERROR(FIND("-",F18),0) | G46: =IFERROR(FIND("-",G18),0) | H46: =IFERROR(FIND("-",H18),0) | I46: =IFERROR(FIND("-",I18),0) | ... AG46: =IFERROR(FIND("-",AG18),0)
B47: =IFERROR(FIND("-",B19),0) | C47: =IFERROR(FIND("-",C19),0) | D47: =IFERROR(FIND("-",D19),0) | E47: =IFERROR(FIND("-",E19),0) | F47: =IFERROR(FIND("-",F19),0) | G47: =IFERROR(FIND("-",G19),0) | H47: =IFERROR(FIND("-",H19),0) | I47: =IFERROR(FIND("-",I19),0) | ... AG47: =IFERROR(FIND("-",AG19),0)
B48: =IFERROR(FIND("-",B20),0) | C48: =IFERROR(FIND("-",C20),0) | D48: =IFERROR(FIND("-",D20),0) | E48: =IFERROR(FIND("-",E20),0) | F48: =IFERROR(FIND("-",F20),0) | G48: =IFERROR(FIND("-",G20),0) | H48: =IFERROR(FIND("-",H20),0) | I48: =IFERROR(FIND("-",I20),0) | ... AG48: =IFERROR(FIND("-",AG20),0)
B49: =IFERROR(FIND("-",B21),0) | C49: =IFERROR(FIND("-",C21),0) | D49: =IFERROR(FIND("-",D21),0) | E49: =IFERROR(FIND("-",E21),0) | F49: =IFERROR(FIND("-",F21),0) | G49: =IFERROR(FIND("-",G21),0) | H49: =IFERROR(FIND("-",H21),0) | I49: =IFERROR(FIND("-",I21),0) | ... AG49: =IFERROR(FIND("-",AG21),0)
B50: =IFERROR(FIND("-",B22),0) | C50: =IFERROR(FIND("-",C22),0) | D50: =IFERROR(FIND("-",D22),0) | E50: =IFERROR(FIND("-",E22),0) | F50: =IFERROR(FIND("-",F22),0) | G50: =IFERROR(FIND("-",G22),0) | H50: =IFERROR(FIND("-",H22),0) | I50: =IFERROR(FIND("-",I22),0) | ... AG50: =IFERROR(FIND("-",AG22),0)
B51: =IFERROR(FIND("-",B23),0) | C51: =IFERROR(FIND("-",C23),0) | D51: =IFERROR(FIND("-",D23),0) | E51: =IFERROR(FIND("-",E23),0) | F51: =IFERROR(FIND("-",F23),0) | G51: =IFERROR(FIND("-",G23),0) | H51: =IFERROR(FIND("-",H23),0) | I51: =IFERROR(FIND("-",I23),0) | ... AG51: =IFERROR(FIND("-",AG23),0)
B52: =IFERROR(FIND("-",B24),0) | C52: =IFERROR(FIND("-",C24),0) | D52: =IFERROR(FIND("-",D24),0) | E52: =IFERROR(FIND("-",E24),0) | F52: =IFERROR(FIND("-",F24),0) | G52: =IFERROR(FIND("-",G24),0) | H52: =IFERROR(FIND("-",H24),0) | I52: =IFERROR(FIND("-",I24),0) | ... AG52: =IFERROR(FIND("-",AG24),0)
B53: =IFERROR(FIND("-",B25),0) | C53: =IFERROR(FIND("-",C25),0) | D53: =IFERROR(FIND("-",D25),0) | E53: =IFERROR(FIND("-",E25),0) | F53: =IFERROR(FIND("-",F25),0) | G53: =IFERROR(FIND("-",G25),0) | H53: =IFERROR(FIND("-",H25),0) | I53: =IFERROR(FIND("-",I25),0) | ... AG53: =IFERROR(FIND("-",AG25),0)
B54: =IFERROR(FIND("-",B26),0) | C54: =IFERROR(FIND("-",C26),0) | D54: =IFERROR(FIND("-",D26),0) | E54: =IFERROR(FIND("-",E26),0) | F54: =IFERROR(FIND("-",F26),0) | G54: =IFERROR(FIND("-",G26),0) | H54: =IFERROR(FIND("-",H26),0) | I54: =IFERROR(FIND("-",I26),0) | ... AG54: =IFERROR(FIND("-",AG26),0)
B55: =IFERROR(FIND("-",B27),0) | C55: =IFERROR(FIND("-",C27),0) | D55: =IFERROR(FIND("-",D27),0) | E55: =IFERROR(FIND("-",E27),0) | F55: =IFERROR(FIND("-",F27),0) | G55: =IFERROR(FIND("-",G27),0) | H55: =IFERROR(FIND("-",H27),0) | I55: =IFERROR(FIND("-",I27),0) | ... AG55: =IFERROR(FIND("-",AG27),0)
B56: =IFERROR(FIND("-",B28),0) | C56: =IFERROR(FIND("-",C28),0) | D56: =IFERROR(FIND("-",D28),0) | E56: =IFERROR(FIND("-",E28),0) | F56: =IFERROR(FIND("-",F28),0) | G56: =IFERROR(FIND("-",G28),0) | H56: =IFERROR(FIND("-",H28),0) | I56: =IFERROR(FIND("-",I28),0) | ... AG56: =IFERROR(FIND("-",AG28),0)
B57: =IFERROR(FIND("-",B29),0) | C57: =IFERROR(FIND("-",C29),0) | D57: =IFERROR(FIND("-",D29),0) | E57: =IFERROR(FIND("-",E29),0) | F57: =IFERROR(FIND("-",F29),0) | G57: =IFERROR(FIND("-",G29),0) | H57: =IFERROR(FIND("-",H29),0) | I57: =IFERROR(FIND("-",I29),0) | ... AG57: =IFERROR(FIND("-",AG29),0)
... B70: =IFERROR(FIND("-",B42),0) | C70: =IFERROR(FIND("-",C42),0) | D70: =IFERROR(FIND("-",D42),0) | E70: =IFERROR(FIND("-",E42),0) | F70: =IFERROR(FIND("-",F42),0) | G70: =IFERROR(FIND("-",G42),0) | H70: =IFERROR(FIND("-",H42),0) | I70: =IFERROR(FIND("-",I42),0) | ... AG70: =IFERROR(FIND("-",AG42),0)
A73: [LT]
B74: =IF(B46>0,LEFT(B18,B46-1),"") | C74: =IF(C46>0,LEFT(C18,C46-1),"") | D74: =IF(D46>0,LEFT(D18,D46-1),"") | E74: =IF(E46>0,LEFT(E18,E46-1),"") | F74: =IF(F46>0,LEFT(F18,F46-1),"") | G74: =IF(G46>0,LEFT(G18,G46-1),"") | H74: =IF(H46>0,LEFT(H18,H46-1),"") | I74: =IF(I46>0,LEFT(I18,I46-1),"") | ... AG74: =IF(AG46>0,LEFT(AG18,AG46-1),"")
B75: =IF(B47>0,LEFT(B19,B47-1),"") | C75: =IF(C47>0,LEFT(C19,C47-1),"") | D75: =IF(D47>0,LEFT(D19,D47-1),"") | E75: =IF(E47>0,LEFT(E19,E47-1),"") | F75: =IF(F47>0,LEFT(F19,F47-1),"") | G75: =IF(G47>0,LEFT(G19,G47-1),"") | H75: =IF(H47>0,LEFT(H19,H47-1),"") | I75: =IF(I47>0,LEFT(I19,I47-1),"") | ... AG75: =IF(AG47>0,LEFT(AG19,AG47-1),"")
B76: =IF(B48>0,LEFT(B20,B48-1),"") | C76: =IF(C48>0,LEFT(C20,C48-1),"") | D76: =IF(D48>0,LEFT(D20,D48-1),"") | E76: =IF(E48>0,LEFT(E20,E48-1),"") | F76: =IF(F48>0,LEFT(F20,F48-1),"") | G76: =IF(G48>0,LEFT(G20,G48-1),"") | H76: =IF(H48>0,LEFT(H20,H48-1),"") | I76: =IF(I48>0,LEFT(I20,I48-1),"") | ... AG76: =IF(AG48>0,LEFT(AG20,AG48-1),"")
B77: =IF(B49>0,LEFT(B21,B49-1),"") | C77: =IF(C49>0,LEFT(C21,C49-1),"") | D77: =IF(D49>0,LEFT(D21,D49-1),"") | E77: =IF(E49>0,LEFT(E21,E49-1),"") | F77: =IF(F49>0,LEFT(F21,F49-1),"") | G77: =IF(G49>0,LEFT(G21,G49-1),"") | H77: =IF(H49>0,LEFT(H21,H49-1),"") | I77: =IF(I49>0,LEFT(I21,I49-1),"") | ... AG77: =IF(AG49>0,LEFT(AG21,AG49-1),"")
B78: =IF(B50>0,LEFT(B22,B50-1),"") | C78: =IF(C50>0,LEFT(C22,C50-1),"") | D78: =IF(D50>0,LEFT(D22,D50-1),"") | E78: =IF(E50>0,LEFT(E22,E50-1),"") | F78: =IF(F50>0,LEFT(F22,F50-1),"") | G78: =IF(G50>0,LEFT(G22,G50-1),"") | H78: =IF(H50>0,LEFT(H22,H50-1),"") | I78: =IF(I50>0,LEFT(I22,I50-1),"") | ... AG78: =IF(AG50>0,LEFT(AG22,AG50-1),"")
B79: =IF(B51>0,LEFT(B23,B51-1),"") | C79: =IF(C51>0,LEFT(C23,C51-1),"") | D79: =IF(D51>0,LEFT(D23,D51-1),"") | E79: =IF(E51>0,LEFT(E23,E51-1),"") | F79: =IF(F51>0,LEFT(F23,F51-1),"") | G79: =IF(G51>0,LEFT(G23,G51-1),"") | H79: =IF(H51>0,LEFT(H23,H51-1),"") | I79: =IF(I51>0,LEFT(I23,I51-1),"") | ... AG79: =IF(AG51>0,LEFT(AG23,AG51-1),"")
B80: =IF(B52>0,LEFT(B24,B52-1),"") | C80: =IF(C52>0,LEFT(C24,C52-1),"") | D80: =IF(D52>0,LEFT(D24,D52-1),"") | E80: =IF(E52>0,LEFT(E24,E52-1),"") | F80: =IF(F52>0,LEFT(F24,F52-1),"") | G80: =IF(G52>0,LEFT(G24,G52-1),"") | H80: =IF(H52>0,LEFT(H24,H52-1),"") | I80: =IF(I52>0,LEFT(I24,I52-1),"") | ... AG80: =IF(AG52>0,LEFT(AG24,AG52-1),"")
B81: =IF(B53>0,LEFT(B25,B53-1),"") | C81: =IF(C53>0,LEFT(C25,C53-1),"") | D81: =IF(D53>0,LEFT(D25,D53-1),"") | E81: =IF(E53>0,LEFT(E25,E53-1),"") | F81: =IF(F53>0,LEFT(F25,F53-1),"") | G81: =IF(G53>0,LEFT(G25,G53-1),"") | H81: =IF(H53>0,LEFT(H25,H53-1),"") | I81: =IF(I53>0,LEFT(I25,I53-1),"") | ... AG81: =IF(AG53>0,LEFT(AG25,AG53-1),"")
B82: =IF(B54>0,LEFT(B26,B54-1),"") | C82: =IF(C54>0,LEFT(C26,C54-1),"") | D82: =IF(D54>0,LEFT(D26,D54-1),"") | E82: =IF(E54>0,LEFT(E26,E54-1),"") | F82: =IF(F54>0,LEFT(F26,F54-1),"") | G82: =IF(G54>0,LEFT(G26,G54-1),"") | H82: =IF(H54>0,LEFT(H26,H54-1),"") | I82: =IF(I54>0,LEFT(I26,I54-1),"") | ... AG82: =IF(AG54>0,LEFT(AG26,AG54-1),"")
B83: =IF(B55>0,LEFT(B27,B55-1),"") | C83: =IF(C55>0,LEFT(C27,C55-1),"") | D83: =IF(D55>0,LEFT(D27,D55-1),"") | E83: =IF(E55>0,LEFT(E27,E55-1),"") | F83: =IF(F55>0,LEFT(F27,F55-1),"") | G83: =IF(G55>0,LEFT(G27,G55-1),"") | H83: =IF(H55>0,LEFT(H27,H55-1),"") | I83: =IF(I55>0,LEFT(I27,I55-1),"") | ... AG83: =IF(AG55>0,LEFT(AG27,AG55-1),"")
B84: =IF(B56>0,LEFT(B28,B56-1),"") | C84: =IF(C56>0,LEFT(C28,C56-1),"") | D84: =IF(D56>0,LEFT(D28,D56-1),"") | E84: =IF(E56>0,LEFT(E28,E56-1),"") | F84: =IF(F56>0,LEFT(F28,F56-1),"") | G84: =IF(G56>0,LEFT(G28,G56-1),"") | H84: =IF(H56>0,LEFT(H28,H56-1),"") | I84: =IF(I56>0,LEFT(I28,I56-1),"") | ... AG84: =IF(AG56>0,LEFT(AG28,AG56-1),"")
B85: =IF(B57>0,LEFT(B29,B57-1),"") | C85: =IF(C57>0,LEFT(C29,C57-1),"") | D85: =IF(D57>0,LEFT(D29,D57-1),"") | E85: =IF(E57>0,LEFT(E29,E57-1),"") | F85: =IF(F57>0,LEFT(F29,F57-1),"") | G85: =IF(G57>0,LEFT(G29,G57-1),"") | H85: =IF(H57>0,LEFT(H29,H57-1),"") | I85: =IF(I57>0,LEFT(I29,I57-1),"") | ... AG85: =IF(AG57>0,LEFT(AG29,AG57-1),"")
... B98: =IF(B70>0,LEFT(B42,B70-1),"") | C98: =IF(C70>0,LEFT(C42,C70-1),"") | D98: =IF(D70>0,LEFT(D42,D70-1),"") | E98: =IF(E70>0,LEFT(E42,E70-1),"") | F98: =IF(F70>0,LEFT(F42,F70-1),"") | G98: =IF(G70>0,LEFT(G42,G70-1),"") | H98: =IF(H70>0,LEFT(H42,H70-1),"") | I98: =IF(I70>0,LEFT(I42,I70-1),"") | ... AG98: =IF(AG70>0,LEFT(AG42,AG70-1),"")
A101: [RT]
B102: =IF(B46>0,MID(B18,B46+1,50),"") | C102: =IF(C46>0,MID(C18,C46+1,50),"") | D102: =IF(D46>0,MID(D18,D46+1,50),"") | E102: =IF(E46>0,MID(E18,E46+1,50),"") | F102: =IF(F46>0,MID(F18,F46+1,50),"") | G102: =IF(G46>0,MID(G18,G46+1,50),"") | H102: =IF(H46>0,MID(H18,H46+1,50),"") | I102: =IF(I46>0,MID(I18,I46+1,50),"") | ... AG102: =IF(AG46>0,MID(AG18,AG46+1,50),"")
B103: =IF(B47>0,MID(B19,B47+1,50),"") | C103: =IF(C47>0,MID(C19,C47+1,50),"") | D103: =IF(D47>0,MID(D19,D47+1,50),"") | E103: =IF(E47>0,MID(E19,E47+1,50),"") | F103: =IF(F47>0,MID(F19,F47+1,50),"") | G103: =IF(G47>0,MID(G19,G47+1,50),"") | H103: =IF(H47>0,MID(H19,H47+1,50),"") | I103: =IF(I47>0,MID(I19,I47+1,50),"") | ... AG103: =IF(AG47>0,MID(AG19,AG47+1,50),"")
B104: =IF(B48>0,MID(B20,B48+1,50),"") | C104: =IF(C48>0,MID(C20,C48+1,50),"") | D104: =IF(D48>0,MID(D20,D48+1,50),"") | E104: =IF(E48>0,MID(E20,E48+1,50),"") | F104: =IF(F48>0,MID(F20,F48+1,50),"") | G104: =IF(G48>0,MID(G20,G48+1,50),"") | H104: =IF(H48>0,MID(H20,H48+1,50),"") | I104: =IF(I48>0,MID(I20,I48+1,50),"") | ... AG104: =IF(AG48>0,MID(AG20,AG48+1,50),"")
B105: =IF(B49>0,MID(B21,B49+1,50),"") | C105: =IF(C49>0,MID(C21,C49+1,50),"") | D105: =IF(D49>0,MID(D21,D49+1,50),"") | E105: =IF(E49>0,MID(E21,E49+1,50),"") | F105: =IF(F49>0,MID(F21,F49+1,50),"") | G105: =IF(G49>0,MID(G21,G49+1,50),"") | H105: =IF(H49>0,MID(H21,H49+1,50),"") | I105: =IF(I49>0,MID(I21,I49+1,50),"") | ... AG105: =IF(AG49>0,MID(AG21,AG49+1,50),"")
B106: =IF(B50>0,MID(B22,B50+1,50),"") | C106: =IF(C50>0,MID(C22,C50+1,50),"") | D106: =IF(D50>0,MID(D22,D50+1,50),"") | E106: =IF(E50>0,MID(E22,E50+1,50),"") | F106: =IF(F50>0,MID(F22,F50+1,50),"") | G106: =IF(G50>0,MID(G22,G50+1,50),"") | H106: =IF(H50>0,MID(H22,H50+1,50),"") | I106: =IF(I50>0,MID(I22,I50+1,50),"") | ... AG106: =IF(AG50>0,MID(AG22,AG50+1,50),"")
B107: =IF(B51>0,MID(B23,B51+1,50),"") | C107: =IF(C51>0,MID(C23,C51+1,50),"") | D107: =IF(D51>0,MID(D23,D51+1,50),"") | E107: =IF(E51>0,MID(E23,E51+1,50),"") | F107: =IF(F51>0,MID(F23,F51+1,50),"") | G107: =IF(G51>0,MID(G23,G51+1,50),"") | H107: =IF(H51>0,MID(H23,H51+1,50),"") | I107: =IF(I51>0,MID(I23,I51+1,50),"") | ... AG107: =IF(AG51>0,MID(AG23,AG51+1,50),"")
B108: =IF(B52>0,MID(B24,B52+1,50),"") | C108: =IF(C52>0,MID(C24,C52+1,50),"") | D108: =IF(D52>0,MID(D24,D52+1,50),"") | E108: =IF(E52>0,MID(E24,E52+1,50),"") | F108: =IF(F52>0,MID(F24,F52+1,50),"") | G108: =IF(G52>0,MID(G24,G52+1,50),"") | H108: =IF(H52>0,MID(H24,H52+1,50),"") | I108: =IF(I52>0,MID(I24,I52+1,50),"") | ... AG108: =IF(AG52>0,MID(AG24,AG52+1,50),"")
B109: =IF(B53>0,MID(B25,B53+1,50),"") | C109: =IF(C53>0,MID(C25,C53+1,50),"") | D109: =IF(D53>0,MID(D25,D53+1,50),"") | E109: =IF(E53>0,MID(E25,E53+1,50),"") | F109: =IF(F53>0,MID(F25,F53+1,50),"") | G109: =IF(G53>0,MID(G25,G53+1,50),"") | H109: =IF(H53>0,MID(H25,H53+1,50),"") | I109: =IF(I53>0,MID(I25,I53+1,50),"") | ... AG109: =IF(AG53>0,MID(AG25,AG53+1,50),"")
B110: =IF(B54>0,MID(B26,B54+1,50),"") | C110: =IF(C54>0,MID(C26,C54+1,50),"") | D110: =IF(D54>0,MID(D26,D54+1,50),"") | E110: =IF(E54>0,MID(E26,E54+1,50),"") | F110: =IF(F54>0,MID(F26,F54+1,50),"") | G110: =IF(G54>0,MID(G26,G54+1,50),"") | H110: =IF(H54>0,MID(H26,H54+1,50),"") | I110: =IF(I54>0,MID(I26,I54+1,50),"") | ... AG110: =IF(AG54>0,MID(AG26,AG54+1,50),"")
B111: =IF(B55>0,MID(B27,B55+1,50),"") | C111: =IF(C55>0,MID(C27,C55+1,50),"") | D111: =IF(D55>0,MID(D27,D55+1,50),"") | E111: =IF(E55>0,MID(E27,E55+1,50),"") | F111: =IF(F55>0,MID(F27,F55+1,50),"") | G111: =IF(G55>0,MID(G27,G55+1,50),"") | H111: =IF(H55>0,MID(H27,H55+1,50),"") | I111: =IF(I55>0,MID(I27,I55+1,50),"") | ... AG111: =IF(AG55>0,MID(AG27,AG55+1,50),"")
B112: =IF(B56>0,MID(B28,B56+1,50),"") | C112: =IF(C56>0,MID(C28,C56+1,50),"") | D112: =IF(D56>0,MID(D28,D56+1,50),"") | E112: =IF(E56>0,MID(E28,E56+1,50),"") | F112: =IF(F56>0,MID(F28,F56+1,50),"") | G112: =IF(G56>0,MID(G28,G56+1,50),"") | H112: =IF(H56>0,MID(H28,H56+1,50),"") | I112: =IF(I56>0,MID(I28,I56+1,50),"") | ... AG112: =IF(AG56>0,MID(AG28,AG56+1,50),"")
B113: =IF(B57>0,MID(B29,B57+1,50),"") | C113: =IF(C57>0,MID(C29,C57+1,50),"") | D113: =IF(D57>0,MID(D29,D57+1,50),"") | E113: =IF(E57>0,MID(E29,E57+1,50),"") | F113: =IF(F57>0,MID(F29,F57+1,50),"") | G113: =IF(G57>0,MID(G29,G57+1,50),"") | H113: =IF(H57>0,MID(H29,H57+1,50),"") | I113: =IF(I57>0,MID(I29,I57+1,50),"") | ... AG113: =IF(AG57>0,MID(AG29,AG57+1,50),"")
... B126: =IF(B70>0,MID(B42,B70+1,50),"") | C126: =IF(C70>0,MID(C42,C70+1,50),"") | D126: =IF(D70>0,MID(D42,D70+1,50),"") | E126: =IF(E70>0,MID(E42,E70+1,50),"") | F126: =IF(F70>0,MID(F42,F70+1,50),"") | G126: =IF(G70>0,MID(G42,G70+1,50),"") | H126: =IF(H70>0,MID(H42,H70+1,50),"") | I126: =IF(I70>0,MID(I42,I70+1,50),"") | ... AG126: =IF(AG70>0,MID(AG42,AG70+1,50),"")
A129: [SH]
B130: =IF(B74="","",IFERROR(VALUE(IF(ISNUMBER(FIND(":",B74)),LEFT(B74,FIND(":",B74)-1),B74))+IF(ISNUMBER(FIND(":",B74)),IF(VALUE(MID(B74,FIND(":",B74)+1,50))<60,VALUE(MID(B74,FIND(":",B74)+1,50))/60,NA()),0),"x")) | C130: =IF(C74="","",IFERROR(VALUE(IF(ISNUMBER(FIND(":",C74)),LEFT(C74,FIND(":",C74)-1),C74))+IF(ISNUMBER(FIND(":",C74)),IF(VALUE(MID(C74,FIND(":",C74)+1,50))<60,VALUE(MID(C74,FIND(":",C74)+1,50))/60,NA()),0),"x")) | D130: =IF(D74="","",IFERROR(VALUE(IF(ISNUMBER(FIND(":",D74)),LEFT(D74,FIND(":",D74)-1),D74))+IF(ISNUMBER(FIND(":",D74)),IF(VALUE(MID(D74,FIND(":",D74)+1,50))<60,VALUE(MID(D74,FIND(":",D74)+1,50))/60,NA()),0),"x")) | E130: =IF(E74="","",IFERROR(VALUE(IF(ISNUMBER(FIND(":",E74)),LEFT(E74,FIND(":",E74)-1),E74))+IF(ISNUMBER(FIND(":",E74)),IF(VALUE(MID(E74,FIND(":",E74)+1,50))<60,VALUE(MID(E74,FIND(":",E74)+1,50))/60,NA()),0),"x")) | F130: =IF(F74="","",IFERROR(VALUE(IF(ISNUMBER(FIND(":",F74)),LEFT(F74,FIND(":",F74)-1),F74))+IF(ISNUMBER(FIND(":",F74)),IF(VALUE(MID(F74,FIND(":",F74)+1,50))<60,VALUE(MID(F74,FIND(":",F74)+1,50))/60,NA()),0),"x")) | G130: =IF(G74="","",IFERROR(VALUE(IF(ISNUMBER(FIND(":",G74)),LEFT(G74,FIND(":",G74)-1),G74))+IF(ISNUMBER(FIND(":",G74)),IF(VALUE(MID(G74,FIND(":",G74)+1,50))<60,VALUE(MID(G74,FIND(":",G74)+1,50))/60,NA()),0),"x")) | H130: =IF(H74="","",IFERROR(VALUE(IF(ISNUMBER(FIND(":",H74)),LEFT(H74,FIND(":",H74)-1),H74))+IF(ISNUMBER(FIND(":",H74)),IF(VALUE(MID(H74,FIND(":",H74)+1,50))<60,VALUE(MID(H74,FIND(":",H74)+1,50))/60,NA()),0),"x")) | I130: =IF(I74="","",IFERROR(VALUE(IF(ISNUMBER(FIND(":",I74)),LEFT(I74,FIND(":",I74)-1),I74))+IF(ISNUMBER(FIND(":",I74)),IF(VALUE(MID(I74,FIND(":",I74)+1,50))<60,VALUE(MID(I74,FIND(":",I74)+1,50))/60,NA()),0),"x")) | ... AG130: =IF(AG74="","",IFERROR(VALUE(IF(ISNUMBER(FIND(":",AG74)),LEFT(AG74,FIND(":",AG74)-1),AG74))+IF(ISNUMBER(FIND(":",AG74)),IF(VALUE(MID(AG74,FIND(":",AG74)+1,50))<60,VALUE(MID(AG74,FIND(":",AG74)+1,50))/60,NA()),0),"x"))
B131: =IF(B75="","",IFERROR(VALUE(IF(ISNUMBER(FIND(":",B75)),LEFT(B75,FIND(":",B75)-1),B75))+IF(ISNUMBER(FIND(":",B75)),IF(VALUE(MID(B75,FIND(":",B75)+1,50))<60,VALUE(MID(B75,FIND(":",B75)+1,50))/60,NA()),0),"x")) | C131: =IF(C75="","",IFERROR(VALUE(IF(ISNUMBER(FIND(":",C75)),LEFT(C75,FIND(":",C75)-1),C75))+IF(ISNUMBER(FIND(":",C75)),IF(VALUE(MID(C75,FIND(":",C75)+1,50))<60,VALUE(MID(C75,FIND(":",C75)+1,50))/60,NA()),0),"x")) | D131: =IF(D75="","",IFERROR(VALUE(IF(ISNUMBER(FIND(":",D75)),LEFT(D75,FIND(":",D75)-1),D75))+IF(ISNUMBER(FIND(":",D75)),IF(VALUE(MID(D75,FIND(":",D75)+1,50))<60,VALUE(MID(D75,FIND(":",D75)+1,50))/60,NA()),0),"x")) | E131: =IF(E75="","",IFERROR(VALUE(IF(ISNUMBER(FIND(":",E75)),LEFT(E75,FIND(":",E75)-1),E75))+IF(ISNUMBER(FIND(":",E75)),IF(VALUE(MID(E75,FIND(":",E75)+1,50))<60,VALUE(MID(E75,FIND(":",E75)+1,50))/60,NA()),0),"x")) | F131: =IF(F75="","",IFERROR(VALUE(IF(ISNUMBER(FIND(":",F75)),LEFT(F75,FIND(":",F75)-1),F75))+IF(ISNUMBER(FIND(":",F75)),IF(VALUE(MID(F75,FIND(":",F75)+1,50))<60,VALUE(MID(F75,FIND(":",F75)+1,50))/60,NA()),0),"x")) | G131: =IF(G75="","",IFERROR(VALUE(IF(ISNUMBER(FIND(":",G75)),LEFT(G75,FIND(":",G75)-1),G75))+IF(ISNUMBER(FIND(":",G75)),IF(VALUE(MID(G75,FIND(":",G75)+1,50))<60,VALUE(MID(G75,FIND(":",G75)+1,50))/60,NA()),0),"x")) | H131: =IF(H75="","",IFERROR(VALUE(IF(ISNUMBER(FIND(":",H75)),LEFT(H75,FIND(":",H75)-1),H75))+IF(ISNUMBER(FIND(":",H75)),IF(VALUE(MID(H75,FIND(":",H75)+1,50))<60,VALUE(MID(H75,FIND(":",H75)+1,50))/60,NA()),0),"x")) | I131: =IF(I75="","",IFERROR(VALUE(IF(ISNUMBER(FIND(":",I75)),LEFT(I75,FIND(":",I75)-1),I75))+IF(ISNUMBER(FIND(":",I75)),IF(VALUE(MID(I75,FIND(":",I75)+1,50))<60,VALUE(MID(I75,FIND(":",I75)+1,50))/60,NA()),0),"x")) | ... AG131: =IF(AG75="","",IFERROR(VALUE(IF(ISNUMBER(FIND(":",AG75)),LEFT(AG75,FIND(":",AG75)-1),AG75))+IF(ISNUMBER(FIND(":",AG75)),IF(VALUE(MID(AG75,FIND(":",AG75)+1,50))<60,VALUE(MID(AG75,FIND(":",AG75)+1,50))/60,NA()),0),"x"))
B132: =IF(B76="","",IFERROR(VALUE(IF(ISNUMBER(FIND(":",B76)),LEFT(B76,FIND(":",B76)-1),B76))+IF(ISNUMBER(FIND(":",B76)),IF(VALUE(MID(B76,FIND(":",B76)+1,50))<60,VALUE(MID(B76,FIND(":",B76)+1,50))/60,NA()),0),"x")) | C132: =IF(C76="","",IFERROR(VALUE(IF(ISNUMBER(FIND(":",C76)),LEFT(C76,FIND(":",C76)-1),C76))+IF(ISNUMBER(FIND(":",C76)),IF(VALUE(MID(C76,FIND(":",C76)+1,50))<60,VALUE(MID(C76,FIND(":",C76)+1,50))/60,NA()),0),"x")) | D132: =IF(D76="","",IFERROR(VALUE(IF(ISNUMBER(FIND(":",D76)),LEFT(D76,FIND(":",D76)-1),D76))+IF(ISNUMBER(FIND(":",D76)),IF(VALUE(MID(D76,FIND(":",D76)+1,50))<60,VALUE(MID(D76,FIND(":",D76)+1,50))/60,NA()),0),"x")) | E132: =IF(E76="","",IFERROR(VALUE(IF(ISNUMBER(FIND(":",E76)),LEFT(E76,FIND(":",E76)-1),E76))+IF(ISNUMBER(FIND(":",E76)),IF(VALUE(MID(E76,FIND(":",E76)+1,50))<60,VALUE(MID(E76,FIND(":",E76)+1,50))/60,NA()),0),"x")) | F132: =IF(F76="","",IFERROR(VALUE(IF(ISNUMBER(FIND(":",F76)),LEFT(F76,FIND(":",F76)-1),F76))+IF(ISNUMBER(FIND(":",F76)),IF(VALUE(MID(F76,FIND(":",F76)+1,50))<60,VALUE(MID(F76,FIND(":",F76)+1,50))/60,NA()),0),"x")) | G132: =IF(G76="","",IFERROR(VALUE(IF(ISNUMBER(FIND(":",G76)),LEFT(G76,FIND(":",G76)-1),G76))+IF(ISNUMBER(FIND(":",G76)),IF(VALUE(MID(G76,FIND(":",G76)+1,50))<60,VALUE(MID(G76,FIND(":",G76)+1,50))/60,NA()),0),"x")) | H132: =IF(H76="","",IFERROR(VALUE(IF(ISNUMBER(FIND(":",H76)),LEFT(H76,FIND(":",H76)-1),H76))+IF(ISNUMBER(FIND(":",H76)),IF(VALUE(MID(H76,FIND(":",H76)+1,50))<60,VALUE(MID(H76,FIND(":",H76)+1,50))/60,NA()),0),"x")) | I132: =IF(I76="","",IFERROR(VALUE(IF(ISNUMBER(FIND(":",I76)),LEFT(I76,FIND(":",I76)-1),I76))+IF(ISNUMBER(FIND(":",I76)),IF(VALUE(MID(I76,FIND(":",I76)+1,50))<60,VALUE(MID(I76,FIND(":",I76)+1,50))/60,NA()),0),"x")) | ... AG132: =IF(AG76="","",IFERROR(VALUE(IF(ISNUMBER(FIND(":",AG76)),LEFT(AG76,FIND(":",AG76)-1),AG76))+IF(ISNUMBER(FIND(":",AG76)),IF(VALUE(MID(AG76,FIND(":",AG76)+1,50))<60,VALUE(MID(AG76,FIND(":",AG76)+1,50))/60,NA()),0),"x"))
B133: =IF(B77="","",IFERROR(VALUE(IF(ISNUMBER(FIND(":",B77)),LEFT(B77,FIND(":",B77)-1),B77))+IF(ISNUMBER(FIND(":",B77)),IF(VALUE(MID(B77,FIND(":",B77)+1,50))<60,VALUE(MID(B77,FIND(":",B77)+1,50))/60,NA()),0),"x")) | C133: =IF(C77="","",IFERROR(VALUE(IF(ISNUMBER(FIND(":",C77)),LEFT(C77,FIND(":",C77)-1),C77))+IF(ISNUMBER(FIND(":",C77)),IF(VALUE(MID(C77,FIND(":",C77)+1,50))<60,VALUE(MID(C77,FIND(":",C77)+1,50))/60,NA()),0),"x")) | D133: =IF(D77="","",IFERROR(VALUE(IF(ISNUMBER(FIND(":",D77)),LEFT(D77,FIND(":",D77)-1),D77))+IF(ISNUMBER(FIND(":",D77)),IF(VALUE(MID(D77,FIND(":",D77)+1,50))<60,VALUE(MID(D77,FIND(":",D77)+1,50))/60,NA()),0),"x")) | E133: =IF(E77="","",IFERROR(VALUE(IF(ISNUMBER(FIND(":",E77)),LEFT(E77,FIND(":",E77)-1),E77))+IF(ISNUMBER(FIND(":",E77)),IF(VALUE(MID(E77,FIND(":",E77)+1,50))<60,VALUE(MID(E77,FIND(":",E77)+1,50))/60,NA()),0),"x")) | F133: =IF(F77="","",IFERROR(VALUE(IF(ISNUMBER(FIND(":",F77)),LEFT(F77,FIND(":",F77)-1),F77))+IF(ISNUMBER(FIND(":",F77)),IF(VALUE(MID(F77,FIND(":",F77)+1,50))<60,VALUE(MID(F77,FIND(":",F77)+1,50))/60,NA()),0),"x")) | G133: =IF(G77="","",IFERROR(VALUE(IF(ISNUMBER(FIND(":",G77)),LEFT(G77,FIND(":",G77)-1),G77))+IF(ISNUMBER(FIND(":",G77)),IF(VALUE(MID(G77,FIND(":",G77)+1,50))<60,VALUE(MID(G77,FIND(":",G77)+1,50))/60,NA()),0),"x")) | H133: =IF(H77="","",IFERROR(VALUE(IF(ISNUMBER(FIND(":",H77)),LEFT(H77,FIND(":",H77)-1),H77))+IF(ISNUMBER(FIND(":",H77)),IF(VALUE(MID(H77,FIND(":",H77)+1,50))<60,VALUE(MID(H77,FIND(":",H77)+1,50))/60,NA()),0),"x")) | I133: =IF(I77="","",IFERROR(VALUE(IF(ISNUMBER(FIND(":",I77)),LEFT(I77,FIND(":",I77)-1),I77))+IF(ISNUMBER(FIND(":",I77)),IF(VALUE(MID(I77,FIND(":",I77)+1,50))<60,VALUE(MID(I77,FIND(":",I77)+1,50))/60,NA()),0),"x")) | ... AG133: =IF(AG77="","",IFERROR(VALUE(IF(ISNUMBER(FIND(":",AG77)),LEFT(AG77,FIND(":",AG77)-1),AG77))+IF(ISNUMBER(FIND(":",AG77)),IF(VALUE(MID(AG77,FIND(":",AG77)+1,50))<60,VALUE(MID(AG77,FIND(":",AG77)+1,50))/60,NA()),0),"x"))
B134: =IF(B78="","",IFERROR(VALUE(IF(ISNUMBER(FIND(":",B78)),LEFT(B78,FIND(":",B78)-1),B78))+IF(ISNUMBER(FIND(":",B78)),IF(VALUE(MID(B78,FIND(":",B78)+1,50))<60,VALUE(MID(B78,FIND(":",B78)+1,50))/60,NA()),0),"x")) | C134: =IF(C78="","",IFERROR(VALUE(IF(ISNUMBER(FIND(":",C78)),LEFT(C78,FIND(":",C78)-1),C78))+IF(ISNUMBER(FIND(":",C78)),IF(VALUE(MID(C78,FIND(":",C78)+1,50))<60,VALUE(MID(C78,FIND(":",C78)+1,50))/60,NA()),0),"x")) | D134: =IF(D78="","",IFERROR(VALUE(IF(ISNUMBER(FIND(":",D78)),LEFT(D78,FIND(":",D78)-1),D78))+IF(ISNUMBER(FIND(":",D78)),IF(VALUE(MID(D78,FIND(":",D78)+1,50))<60,VALUE(MID(D78,FIND(":",D78)+1,50))/60,NA()),0),"x")) | E134: =IF(E78="","",IFERROR(VALUE(IF(ISNUMBER(FIND(":",E78)),LEFT(E78,FIND(":",E78)-1),E78))+IF(ISNUMBER(FIND(":",E78)),IF(VALUE(MID(E78,FIND(":",E78)+1,50))<60,VALUE(MID(E78,FIND(":",E78)+1,50))/60,NA()),0),"x")) | F134: =IF(F78="","",IFERROR(VALUE(IF(ISNUMBER(FIND(":",F78)),LEFT(F78,FIND(":",F78)-1),F78))+IF(ISNUMBER(FIND(":",F78)),IF(VALUE(MID(F78,FIND(":",F78)+1,50))<60,VALUE(MID(F78,FIND(":",F78)+1,50))/60,NA()),0),"x")) | G134: =IF(G78="","",IFERROR(VALUE(IF(ISNUMBER(FIND(":",G78)),LEFT(G78,FIND(":",G78)-1),G78))+IF(ISNUMBER(FIND(":",G78)),IF(VALUE(MID(G78,FIND(":",G78)+1,50))<60,VALUE(MID(G78,FIND(":",G78)+1,50))/60,NA()),0),"x")) | H134: =IF(H78="","",IFERROR(VALUE(IF(ISNUMBER(FIND(":",H78)),LEFT(H78,FIND(":",H78)-1),H78))+IF(ISNUMBER(FIND(":",H78)),IF(VALUE(MID(H78,FIND(":",H78)+1,50))<60,VALUE(MID(H78,FIND(":",H78)+1,50))/60,NA()),0),"x")) | I134: =IF(I78="","",IFERROR(VALUE(IF(ISNUMBER(FIND(":",I78)),LEFT(I78,FIND(":",I78)-1),I78))+IF(ISNUMBER(FIND(":",I78)),IF(VALUE(MID(I78,FIND(":",I78)+1,50))<60,VALUE(MID(I78,FIND(":",I78)+1,50))/60,NA()),0),"x")) | ... AG134: =IF(AG78="","",IFERROR(VALUE(IF(ISNUMBER(FIND(":",AG78)),LEFT(AG78,FIND(":",AG78)-1),AG78))+IF(ISNUMBER(FIND(":",AG78)),IF(VALUE(MID(AG78,FIND(":",AG78)+1,50))<60,VALUE(MID(AG78,FIND(":",AG78)+1,50))/60,NA()),0),"x"))
B135: =IF(B79="","",IFERROR(VALUE(IF(ISNUMBER(FIND(":",B79)),LEFT(B79,FIND(":",B79)-1),B79))+IF(ISNUMBER(FIND(":",B79)),IF(VALUE(MID(B79,FIND(":",B79)+1,50))<60,VALUE(MID(B79,FIND(":",B79)+1,50))/60,NA()),0),"x")) | C135: =IF(C79="","",IFERROR(VALUE(IF(ISNUMBER(FIND(":",C79)),LEFT(C79,FIND(":",C79)-1),C79))+IF(ISNUMBER(FIND(":",C79)),IF(VALUE(MID(C79,FIND(":",C79)+1,50))<60,VALUE(MID(C79,FIND(":",C79)+1,50))/60,NA()),0),"x")) | D135: =IF(D79="","",IFERROR(VALUE(IF(ISNUMBER(FIND(":",D79)),LEFT(D79,FIND(":",D79)-1),D79))+IF(ISNUMBER(FIND(":",D79)),IF(VALUE(MID(D79,FIND(":",D79)+1,50))<60,VALUE(MID(D79,FIND(":",D79)+1,50))/60,NA()),0),"x")) | E135: =IF(E79="","",IFERROR(VALUE(IF(ISNUMBER(FIND(":",E79)),LEFT(E79,FIND(":",E79)-1),E79))+IF(ISNUMBER(FIND(":",E79)),IF(VALUE(MID(E79,FIND(":",E79)+1,50))<60,VALUE(MID(E79,FIND(":",E79)+1,50))/60,NA()),0),"x")) | F135: =IF(F79="","",IFERROR(VALUE(IF(ISNUMBER(FIND(":",F79)),LEFT(F79,FIND(":",F79)-1),F79))+IF(ISNUMBER(FIND(":",F79)),IF(VALUE(MID(F79,FIND(":",F79)+1,50))<60,VALUE(MID(F79,FIND(":",F79)+1,50))/60,NA()),0),"x")) | G135: =IF(G79="","",IFERROR(VALUE(IF(ISNUMBER(FIND(":",G79)),LEFT(G79,FIND(":",G79)-1),G79))+IF(ISNUMBER(FIND(":",G79)),IF(VALUE(MID(G79,FIND(":",G79)+1,50))<60,VALUE(MID(G79,FIND(":",G79)+1,50))/60,NA()),0),"x")) | H135: =IF(H79="","",IFERROR(VALUE(IF(ISNUMBER(FIND(":",H79)),LEFT(H79,FIND(":",H79)-1),H79))+IF(ISNUMBER(FIND(":",H79)),IF(VALUE(MID(H79,FIND(":",H79)+1,50))<60,VALUE(MID(H79,FIND(":",H79)+1,50))/60,NA()),0),"x")) | I135: =IF(I79="","",IFERROR(VALUE(IF(ISNUMBER(FIND(":",I79)),LEFT(I79,FIND(":",I79)-1),I79))+IF(ISNUMBER(FIND(":",I79)),IF(VALUE(MID(I79,FIND(":",I79)+1,50))<60,VALUE(MID(I79,FIND(":",I79)+1,50))/60,NA()),0),"x")) | ... AG135: =IF(AG79="","",IFERROR(VALUE(IF(ISNUMBER(FIND(":",AG79)),LEFT(AG79,FIND(":",AG79)-1),AG79))+IF(ISNUMBER(FIND(":",AG79)),IF(VALUE(MID(AG79,FIND(":",AG79)+1,50))<60,VALUE(MID(AG79,FIND(":",AG79)+1,50))/60,NA()),0),"x"))
B136: =IF(B80="","",IFERROR(VALUE(IF(ISNUMBER(FIND(":",B80)),LEFT(B80,FIND(":",B80)-1),B80))+IF(ISNUMBER(FIND(":",B80)),IF(VALUE(MID(B80,FIND(":",B80)+1,50))<60,VALUE(MID(B80,FIND(":",B80)+1,50))/60,NA()),0),"x")) | C136: =IF(C80="","",IFERROR(VALUE(IF(ISNUMBER(FIND(":",C80)),LEFT(C80,FIND(":",C80)-1),C80))+IF(ISNUMBER(FIND(":",C80)),IF(VALUE(MID(C80,FIND(":",C80)+1,50))<60,VALUE(MID(C80,FIND(":",C80)+1,50))/60,NA()),0),"x")) | D136: =IF(D80="","",IFERROR(VALUE(IF(ISNUMBER(FIND(":",D80)),LEFT(D80,FIND(":",D80)-1),D80))+IF(ISNUMBER(FIND(":",D80)),IF(VALUE(MID(D80,FIND(":",D80)+1,50))<60,VALUE(MID(D80,FIND(":",D80)+1,50))/60,NA()),0),"x")) | E136: =IF(E80="","",IFERROR(VALUE(IF(ISNUMBER(FIND(":",E80)),LEFT(E80,FIND(":",E80)-1),E80))+IF(ISNUMBER(FIND(":",E80)),IF(VALUE(MID(E80,FIND(":",E80)+1,50))<60,VALUE(MID(E80,FIND(":",E80)+1,50))/60,NA()),0),"x")) | F136: =IF(F80="","",IFERROR(VALUE(IF(ISNUMBER(FIND(":",F80)),LEFT(F80,FIND(":",F80)-1),F80))+IF(ISNUMBER(FIND(":",F80)),IF(VALUE(MID(F80,FIND(":",F80)+1,50))<60,VALUE(MID(F80,FIND(":",F80)+1,50))/60,NA()),0),"x")) | G136: =IF(G80="","",IFERROR(VALUE(IF(ISNUMBER(FIND(":",G80)),LEFT(G80,FIND(":",G80)-1),G80))+IF(ISNUMBER(FIND(":",G80)),IF(VALUE(MID(G80,FIND(":",G80)+1,50))<60,VALUE(MID(G80,FIND(":",G80)+1,50))/60,NA()),0),"x")) | H136: =IF(H80="","",IFERROR(VALUE(IF(ISNUMBER(FIND(":",H80)),LEFT(H80,FIND(":",H80)-1),H80))+IF(ISNUMBER(FIND(":",H80)),IF(VALUE(MID(H80,FIND(":",H80)+1,50))<60,VALUE(MID(H80,FIND(":",H80)+1,50))/60,NA()),0),"x")) | I136: =IF(I80="","",IFERROR(VALUE(IF(ISNUMBER(FIND(":",I80)),LEFT(I80,FIND(":",I80)-1),I80))+IF(ISNUMBER(FIND(":",I80)),IF(VALUE(MID(I80,FIND(":",I80)+1,50))<60,VALUE(MID(I80,FIND(":",I80)+1,50))/60,NA()),0),"x")) | ... AG136: =IF(AG80="","",IFERROR(VALUE(IF(ISNUMBER(FIND(":",AG80)),LEFT(AG80,FIND(":",AG80)-1),AG80))+IF(ISNUMBER(FIND(":",AG80)),IF(VALUE(MID(AG80,FIND(":",AG80)+1,50))<60,VALUE(MID(AG80,FIND(":",AG80)+1,50))/60,NA()),0),"x"))
B137: =IF(B81="","",IFERROR(VALUE(IF(ISNUMBER(FIND(":",B81)),LEFT(B81,FIND(":",B81)-1),B81))+IF(ISNUMBER(FIND(":",B81)),IF(VALUE(MID(B81,FIND(":",B81)+1,50))<60,VALUE(MID(B81,FIND(":",B81)+1,50))/60,NA()),0),"x")) | C137: =IF(C81="","",IFERROR(VALUE(IF(ISNUMBER(FIND(":",C81)),LEFT(C81,FIND(":",C81)-1),C81))+IF(ISNUMBER(FIND(":",C81)),IF(VALUE(MID(C81,FIND(":",C81)+1,50))<60,VALUE(MID(C81,FIND(":",C81)+1,50))/60,NA()),0),"x")) | D137: =IF(D81="","",IFERROR(VALUE(IF(ISNUMBER(FIND(":",D81)),LEFT(D81,FIND(":",D81)-1),D81))+IF(ISNUMBER(FIND(":",D81)),IF(VALUE(MID(D81,FIND(":",D81)+1,50))<60,VALUE(MID(D81,FIND(":",D81)+1,50))/60,NA()),0),"x")) | E137: =IF(E81="","",IFERROR(VALUE(IF(ISNUMBER(FIND(":",E81)),LEFT(E81,FIND(":",E81)-1),E81))+IF(ISNUMBER(FIND(":",E81)),IF(VALUE(MID(E81,FIND(":",E81)+1,50))<60,VALUE(MID(E81,FIND(":",E81)+1,50))/60,NA()),0),"x")) | F137: =IF(F81="","",IFERROR(VALUE(IF(ISNUMBER(FIND(":",F81)),LEFT(F81,FIND(":",F81)-1),F81))+IF(ISNUMBER(FIND(":",F81)),IF(VALUE(MID(F81,FIND(":",F81)+1,50))<60,VALUE(MID(F81,FIND(":",F81)+1,50))/60,NA()),0),"x")) | G137: =IF(G81="","",IFERROR(VALUE(IF(ISNUMBER(FIND(":",G81)),LEFT(G81,FIND(":",G81)-1),G81))+IF(ISNUMBER(FIND(":",G81)),IF(VALUE(MID(G81,FIND(":",G81)+1,50))<60,VALUE(MID(G81,FIND(":",G81)+1,50))/60,NA()),0),"x")) | H137: =IF(H81="","",IFERROR(VALUE(IF(ISNUMBER(FIND(":",H81)),LEFT(H81,FIND(":",H81)-1),H81))+IF(ISNUMBER(FIND(":",H81)),IF(VALUE(MID(H81,FIND(":",H81)+1,50))<60,VALUE(MID(H81,FIND(":",H81)+1,50))/60,NA()),0),"x")) | I137: =IF(I81="","",IFERROR(VALUE(IF(ISNUMBER(FIND(":",I81)),LEFT(I81,FIND(":",I81)-1),I81))+IF(ISNUMBER(FIND(":",I81)),IF(VALUE(MID(I81,FIND(":",I81)+1,50))<60,VALUE(MID(I81,FIND(":",I81)+1,50))/60,NA()),0),"x")) | ... AG137: =IF(AG81="","",IFERROR(VALUE(IF(ISNUMBER(FIND(":",AG81)),LEFT(AG81,FIND(":",AG81)-1),AG81))+IF(ISNUMBER(FIND(":",AG81)),IF(VALUE(MID(AG81,FIND(":",AG81)+1,50))<60,VALUE(MID(AG81,FIND(":",AG81)+1,50))/60,NA()),0),"x"))
B138: =IF(B82="","",IFERROR(VALUE(IF(ISNUMBER(FIND(":",B82)),LEFT(B82,FIND(":",B82)-1),B82))+IF(ISNUMBER(FIND(":",B82)),IF(VALUE(MID(B82,FIND(":",B82)+1,50))<60,VALUE(MID(B82,FIND(":",B82)+1,50))/60,NA()),0),"x")) | C138: =IF(C82="","",IFERROR(VALUE(IF(ISNUMBER(FIND(":",C82)),LEFT(C82,FIND(":",C82)-1),C82))+IF(ISNUMBER(FIND(":",C82)),IF(VALUE(MID(C82,FIND(":",C82)+1,50))<60,VALUE(MID(C82,FIND(":",C82)+1,50))/60,NA()),0),"x")) | D138: =IF(D82="","",IFERROR(VALUE(IF(ISNUMBER(FIND(":",D82)),LEFT(D82,FIND(":",D82)-1),D82))+IF(ISNUMBER(FIND(":",D82)),IF(VALUE(MID(D82,FIND(":",D82)+1,50))<60,VALUE(MID(D82,FIND(":",D82)+1,50))/60,NA()),0),"x")) | E138: =IF(E82="","",IFERROR(VALUE(IF(ISNUMBER(FIND(":",E82)),LEFT(E82,FIND(":",E82)-1),E82))+IF(ISNUMBER(FIND(":",E82)),IF(VALUE(MID(E82,FIND(":",E82)+1,50))<60,VALUE(MID(E82,FIND(":",E82)+1,50))/60,NA()),0),"x")) | F138: =IF(F82="","",IFERROR(VALUE(IF(ISNUMBER(FIND(":",F82)),LEFT(F82,FIND(":",F82)-1),F82))+IF(ISNUMBER(FIND(":",F82)),IF(VALUE(MID(F82,FIND(":",F82)+1,50))<60,VALUE(MID(F82,FIND(":",F82)+1,50))/60,NA()),0),"x")) | G138: =IF(G82="","",IFERROR(VALUE(IF(ISNUMBER(FIND(":",G82)),LEFT(G82,FIND(":",G82)-1),G82))+IF(ISNUMBER(FIND(":",G82)),IF(VALUE(MID(G82,FIND(":",G82)+1,50))<60,VALUE(MID(G82,FIND(":",G82)+1,50))/60,NA()),0),"x")) | H138: =IF(H82="","",IFERROR(VALUE(IF(ISNUMBER(FIND(":",H82)),LEFT(H82,FIND(":",H82)-1),H82))+IF(ISNUMBER(FIND(":",H82)),IF(VALUE(MID(H82,FIND(":",H82)+1,50))<60,VALUE(MID(H82,FIND(":",H82)+1,50))/60,NA()),0),"x")) | I138: =IF(I82="","",IFERROR(VALUE(IF(ISNUMBER(FIND(":",I82)),LEFT(I82,FIND(":",I82)-1),I82))+IF(ISNUMBER(FIND(":",I82)),IF(VALUE(MID(I82,FIND(":",I82)+1,50))<60,VALUE(MID(I82,FIND(":",I82)+1,50))/60,NA()),0),"x")) | ... AG138: =IF(AG82="","",IFERROR(VALUE(IF(ISNUMBER(FIND(":",AG82)),LEFT(AG82,FIND(":",AG82)-1),AG82))+IF(ISNUMBER(FIND(":",AG82)),IF(VALUE(MID(AG82,FIND(":",AG82)+1,50))<60,VALUE(MID(AG82,FIND(":",AG82)+1,50))/60,NA()),0),"x"))
B139: =IF(B83="","",IFERROR(VALUE(IF(ISNUMBER(FIND(":",B83)),LEFT(B83,FIND(":",B83)-1),B83))+IF(ISNUMBER(FIND(":",B83)),IF(VALUE(MID(B83,FIND(":",B83)+1,50))<60,VALUE(MID(B83,FIND(":",B83)+1,50))/60,NA()),0),"x")) | C139: =IF(C83="","",IFERROR(VALUE(IF(ISNUMBER(FIND(":",C83)),LEFT(C83,FIND(":",C83)-1),C83))+IF(ISNUMBER(FIND(":",C83)),IF(VALUE(MID(C83,FIND(":",C83)+1,50))<60,VALUE(MID(C83,FIND(":",C83)+1,50))/60,NA()),0),"x")) | D139: =IF(D83="","",IFERROR(VALUE(IF(ISNUMBER(FIND(":",D83)),LEFT(D83,FIND(":",D83)-1),D83))+IF(ISNUMBER(FIND(":",D83)),IF(VALUE(MID(D83,FIND(":",D83)+1,50))<60,VALUE(MID(D83,FIND(":",D83)+1,50))/60,NA()),0),"x")) | E139: =IF(E83="","",IFERROR(VALUE(IF(ISNUMBER(FIND(":",E83)),LEFT(E83,FIND(":",E83)-1),E83))+IF(ISNUMBER(FIND(":",E83)),IF(VALUE(MID(E83,FIND(":",E83)+1,50))<60,VALUE(MID(E83,FIND(":",E83)+1,50))/60,NA()),0),"x")) | F139: =IF(F83="","",IFERROR(VALUE(IF(ISNUMBER(FIND(":",F83)),LEFT(F83,FIND(":",F83)-1),F83))+IF(ISNUMBER(FIND(":",F83)),IF(VALUE(MID(F83,FIND(":",F83)+1,50))<60,VALUE(MID(F83,FIND(":",F83)+1,50))/60,NA()),0),"x")) | G139: =IF(G83="","",IFERROR(VALUE(IF(ISNUMBER(FIND(":",G83)),LEFT(G83,FIND(":",G83)-1),G83))+IF(ISNUMBER(FIND(":",G83)),IF(VALUE(MID(G83,FIND(":",G83)+1,50))<60,VALUE(MID(G83,FIND(":",G83)+1,50))/60,NA()),0),"x")) | H139: =IF(H83="","",IFERROR(VALUE(IF(ISNUMBER(FIND(":",H83)),LEFT(H83,FIND(":",H83)-1),H83))+IF(ISNUMBER(FIND(":",H83)),IF(VALUE(MID(H83,FIND(":",H83)+1,50))<60,VALUE(MID(H83,FIND(":",H83)+1,50))/60,NA()),0),"x")) | I139: =IF(I83="","",IFERROR(VALUE(IF(ISNUMBER(FIND(":",I83)),LEFT(I83,FIND(":",I83)-1),I83))+IF(ISNUMBER(FIND(":",I83)),IF(VALUE(MID(I83,FIND(":",I83)+1,50))<60,VALUE(MID(I83,FIND(":",I83)+1,50))/60,NA()),0),"x")) | ... AG139: =IF(AG83="","",IFERROR(VALUE(IF(ISNUMBER(FIND(":",AG83)),LEFT(AG83,FIND(":",AG83)-1),AG83))+IF(ISNUMBER(FIND(":",AG83)),IF(VALUE(MID(AG83,FIND(":",AG83)+1,50))<60,VALUE(MID(AG83,FIND(":",AG83)+1,50))/60,NA()),0),"x"))
B140: =IF(B84="","",IFERROR(VALUE(IF(ISNUMBER(FIND(":",B84)),LEFT(B84,FIND(":",B84)-1),B84))+IF(ISNUMBER(FIND(":",B84)),IF(VALUE(MID(B84,FIND(":",B84)+1,50))<60,VALUE(MID(B84,FIND(":",B84)+1,50))/60,NA()),0),"x")) | C140: =IF(C84="","",IFERROR(VALUE(IF(ISNUMBER(FIND(":",C84)),LEFT(C84,FIND(":",C84)-1),C84))+IF(ISNUMBER(FIND(":",C84)),IF(VALUE(MID(C84,FIND(":",C84)+1,50))<60,VALUE(MID(C84,FIND(":",C84)+1,50))/60,NA()),0),"x")) | D140: =IF(D84="","",IFERROR(VALUE(IF(ISNUMBER(FIND(":",D84)),LEFT(D84,FIND(":",D84)-1),D84))+IF(ISNUMBER(FIND(":",D84)),IF(VALUE(MID(D84,FIND(":",D84)+1,50))<60,VALUE(MID(D84,FIND(":",D84)+1,50))/60,NA()),0),"x")) | E140: =IF(E84="","",IFERROR(VALUE(IF(ISNUMBER(FIND(":",E84)),LEFT(E84,FIND(":",E84)-1),E84))+IF(ISNUMBER(FIND(":",E84)),IF(VALUE(MID(E84,FIND(":",E84)+1,50))<60,VALUE(MID(E84,FIND(":",E84)+1,50))/60,NA()),0),"x")) | F140: =IF(F84="","",IFERROR(VALUE(IF(ISNUMBER(FIND(":",F84)),LEFT(F84,FIND(":",F84)-1),F84))+IF(ISNUMBER(FIND(":",F84)),IF(VALUE(MID(F84,FIND(":",F84)+1,50))<60,VALUE(MID(F84,FIND(":",F84)+1,50))/60,NA()),0),"x")) | G140: =IF(G84="","",IFERROR(VALUE(IF(ISNUMBER(FIND(":",G84)),LEFT(G84,FIND(":",G84)-1),G84))+IF(ISNUMBER(FIND(":",G84)),IF(VALUE(MID(G84,FIND(":",G84)+1,50))<60,VALUE(MID(G84,FIND(":",G84)+1,50))/60,NA()),0),"x")) | H140: =IF(H84="","",IFERROR(VALUE(IF(ISNUMBER(FIND(":",H84)),LEFT(H84,FIND(":",H84)-1),H84))+IF(ISNUMBER(FIND(":",H84)),IF(VALUE(MID(H84,FIND(":",H84)+1,50))<60,VALUE(MID(H84,FIND(":",H84)+1,50))/60,NA()),0),"x")) | I140: =IF(I84="","",IFERROR(VALUE(IF(ISNUMBER(FIND(":",I84)),LEFT(I84,FIND(":",I84)-1),I84))+IF(ISNUMBER(FIND(":",I84)),IF(VALUE(MID(I84,FIND(":",I84)+1,50))<60,VALUE(MID(I84,FIND(":",I84)+1,50))/60,NA()),0),"x")) | ... AG140: =IF(AG84="","",IFERROR(VALUE(IF(ISNUMBER(FIND(":",AG84)),LEFT(AG84,FIND(":",AG84)-1),AG84))+IF(ISNUMBER(FIND(":",AG84)),IF(VALUE(MID(AG84,FIND(":",AG84)+1,50))<60,VALUE(MID(AG84,FIND(":",AG84)+1,50))/60,NA()),0),"x"))
B141: =IF(B85="","",IFERROR(VALUE(IF(ISNUMBER(FIND(":",B85)),LEFT(B85,FIND(":",B85)-1),B85))+IF(ISNUMBER(FIND(":",B85)),IF(VALUE(MID(B85,FIND(":",B85)+1,50))<60,VALUE(MID(B85,FIND(":",B85)+1,50))/60,NA()),0),"x")) | C141: =IF(C85="","",IFERROR(VALUE(IF(ISNUMBER(FIND(":",C85)),LEFT(C85,FIND(":",C85)-1),C85))+IF(ISNUMBER(FIND(":",C85)),IF(VALUE(MID(C85,FIND(":",C85)+1,50))<60,VALUE(MID(C85,FIND(":",C85)+1,50))/60,NA()),0),"x")) | D141: =IF(D85="","",IFERROR(VALUE(IF(ISNUMBER(FIND(":",D85)),LEFT(D85,FIND(":",D85)-1),D85))+IF(ISNUMBER(FIND(":",D85)),IF(VALUE(MID(D85,FIND(":",D85)+1,50))<60,VALUE(MID(D85,FIND(":",D85)+1,50))/60,NA()),0),"x")) | E141: =IF(E85="","",IFERROR(VALUE(IF(ISNUMBER(FIND(":",E85)),LEFT(E85,FIND(":",E85)-1),E85))+IF(ISNUMBER(FIND(":",E85)),IF(VALUE(MID(E85,FIND(":",E85)+1,50))<60,VALUE(MID(E85,FIND(":",E85)+1,50))/60,NA()),0),"x")) | F141: =IF(F85="","",IFERROR(VALUE(IF(ISNUMBER(FIND(":",F85)),LEFT(F85,FIND(":",F85)-1),F85))+IF(ISNUMBER(FIND(":",F85)),IF(VALUE(MID(F85,FIND(":",F85)+1,50))<60,VALUE(MID(F85,FIND(":",F85)+1,50))/60,NA()),0),"x")) | G141: =IF(G85="","",IFERROR(VALUE(IF(ISNUMBER(FIND(":",G85)),LEFT(G85,FIND(":",G85)-1),G85))+IF(ISNUMBER(FIND(":",G85)),IF(VALUE(MID(G85,FIND(":",G85)+1,50))<60,VALUE(MID(G85,FIND(":",G85)+1,50))/60,NA()),0),"x")) | H141: =IF(H85="","",IFERROR(VALUE(IF(ISNUMBER(FIND(":",H85)),LEFT(H85,FIND(":",H85)-1),H85))+IF(ISNUMBER(FIND(":",H85)),IF(VALUE(MID(H85,FIND(":",H85)+1,50))<60,VALUE(MID(H85,FIND(":",H85)+1,50))/60,NA()),0),"x")) | I141: =IF(I85="","",IFERROR(VALUE(IF(ISNUMBER(FIND(":",I85)),LEFT(I85,FIND(":",I85)-1),I85))+IF(ISNUMBER(FIND(":",I85)),IF(VALUE(MID(I85,FIND(":",I85)+1,50))<60,VALUE(MID(I85,FIND(":",I85)+1,50))/60,NA()),0),"x")) | ... AG141: =IF(AG85="","",IFERROR(VALUE(IF(ISNUMBER(FIND(":",AG85)),LEFT(AG85,FIND(":",AG85)-1),AG85))+IF(ISNUMBER(FIND(":",AG85)),IF(VALUE(MID(AG85,FIND(":",AG85)+1,50))<60,VALUE(MID(AG85,FIND(":",AG85)+1,50))/60,NA()),0),"x"))
... B154: =IF(B98="","",IFERROR(VALUE(IF(ISNUMBER(FIND(":",B98)),LEFT(B98,FIND(":",B98)-1),B98))+IF(ISNUMBER(FIND(":",B98)),IF(VALUE(MID(B98,FIND(":",B98)+1,50))<60,VALUE(MID(B98,FIND(":",B98)+1,50))/60,NA()),0),"x")) | C154: =IF(C98="","",IFERROR(VALUE(IF(ISNUMBER(FIND(":",C98)),LEFT(C98,FIND(":",C98)-1),C98))+IF(ISNUMBER(FIND(":",C98)),IF(VALUE(MID(C98,FIND(":",C98)+1,50))<60,VALUE(MID(C98,FIND(":",C98)+1,50))/60,NA()),0),"x")) | D154: =IF(D98="","",IFERROR(VALUE(IF(ISNUMBER(FIND(":",D98)),LEFT(D98,FIND(":",D98)-1),D98))+IF(ISNUMBER(FIND(":",D98)),IF(VALUE(MID(D98,FIND(":",D98)+1,50))<60,VALUE(MID(D98,FIND(":",D98)+1,50))/60,NA()),0),"x")) | E154: =IF(E98="","",IFERROR(VALUE(IF(ISNUMBER(FIND(":",E98)),LEFT(E98,FIND(":",E98)-1),E98))+IF(ISNUMBER(FIND(":",E98)),IF(VALUE(MID(E98,FIND(":",E98)+1,50))<60,VALUE(MID(E98,FIND(":",E98)+1,50))/60,NA()),0),"x")) | F154: =IF(F98="","",IFERROR(VALUE(IF(ISNUMBER(FIND(":",F98)),LEFT(F98,FIND(":",F98)-1),F98))+IF(ISNUMBER(FIND(":",F98)),IF(VALUE(MID(F98,FIND(":",F98)+1,50))<60,VALUE(MID(F98,FIND(":",F98)+1,50))/60,NA()),0),"x")) | G154: =IF(G98="","",IFERROR(VALUE(IF(ISNUMBER(FIND(":",G98)),LEFT(G98,FIND(":",G98)-1),G98))+IF(ISNUMBER(FIND(":",G98)),IF(VALUE(MID(G98,FIND(":",G98)+1,50))<60,VALUE(MID(G98,FIND(":",G98)+1,50))/60,NA()),0),"x")) | H154: =IF(H98="","",IFERROR(VALUE(IF(ISNUMBER(FIND(":",H98)),LEFT(H98,FIND(":",H98)-1),H98))+IF(ISNUMBER(FIND(":",H98)),IF(VALUE(MID(H98,FIND(":",H98)+1,50))<60,VALUE(MID(H98,FIND(":",H98)+1,50))/60,NA()),0),"x")) | I154: =IF(I98="","",IFERROR(VALUE(IF(ISNUMBER(FIND(":",I98)),LEFT(I98,FIND(":",I98)-1),I98))+IF(ISNUMBER(FIND(":",I98)),IF(VALUE(MID(I98,FIND(":",I98)+1,50))<60,VALUE(MID(I98,FIND(":",I98)+1,50))/60,NA()),0),"x")) | ... AG154: =IF(AG98="","",IFERROR(VALUE(IF(ISNUMBER(FIND(":",AG98)),LEFT(AG98,FIND(":",AG98)-1),AG98))+IF(ISNUMBER(FIND(":",AG98)),IF(VALUE(MID(AG98,FIND(":",AG98)+1,50))<60,VALUE(MID(AG98,FIND(":",AG98)+1,50))/60,NA()),0),"x"))
A157: [EH]
B158: =IF(B102="","",IFERROR(VALUE(IF(ISNUMBER(FIND(":",B102)),LEFT(B102,FIND(":",B102)-1),B102))+IF(ISNUMBER(FIND(":",B102)),IF(VALUE(MID(B102,FIND(":",B102)+1,50))<60,VALUE(MID(B102,FIND(":",B102)+1,50))/60,NA()),0),"x")) | C158: =IF(C102="","",IFERROR(VALUE(IF(ISNUMBER(FIND(":",C102)),LEFT(C102,FIND(":",C102)-1),C102))+IF(ISNUMBER(FIND(":",C102)),IF(VALUE(MID(C102,FIND(":",C102)+1,50))<60,VALUE(MID(C102,FIND(":",C102)+1,50))/60,NA()),0),"x")) | D158: =IF(D102="","",IFERROR(VALUE(IF(ISNUMBER(FIND(":",D102)),LEFT(D102,FIND(":",D102)-1),D102))+IF(ISNUMBER(FIND(":",D102)),IF(VALUE(MID(D102,FIND(":",D102)+1,50))<60,VALUE(MID(D102,FIND(":",D102)+1,50))/60,NA()),0),"x")) | E158: =IF(E102="","",IFERROR(VALUE(IF(ISNUMBER(FIND(":",E102)),LEFT(E102,FIND(":",E102)-1),E102))+IF(ISNUMBER(FIND(":",E102)),IF(VALUE(MID(E102,FIND(":",E102)+1,50))<60,VALUE(MID(E102,FIND(":",E102)+1,50))/60,NA()),0),"x")) | F158: =IF(F102="","",IFERROR(VALUE(IF(ISNUMBER(FIND(":",F102)),LEFT(F102,FIND(":",F102)-1),F102))+IF(ISNUMBER(FIND(":",F102)),IF(VALUE(MID(F102,FIND(":",F102)+1,50))<60,VALUE(MID(F102,FIND(":",F102)+1,50))/60,NA()),0),"x")) | G158: =IF(G102="","",IFERROR(VALUE(IF(ISNUMBER(FIND(":",G102)),LEFT(G102,FIND(":",G102)-1),G102))+IF(ISNUMBER(FIND(":",G102)),IF(VALUE(MID(G102,FIND(":",G102)+1,50))<60,VALUE(MID(G102,FIND(":",G102)+1,50))/60,NA()),0),"x")) | H158: =IF(H102="","",IFERROR(VALUE(IF(ISNUMBER(FIND(":",H102)),LEFT(H102,FIND(":",H102)-1),H102))+IF(ISNUMBER(FIND(":",H102)),IF(VALUE(MID(H102,FIND(":",H102)+1,50))<60,VALUE(MID(H102,FIND(":",H102)+1,50))/60,NA()),0),"x")) | I158: =IF(I102="","",IFERROR(VALUE(IF(ISNUMBER(FIND(":",I102)),LEFT(I102,FIND(":",I102)-1),I102))+IF(ISNUMBER(FIND(":",I102)),IF(VALUE(MID(I102,FIND(":",I102)+1,50))<60,VALUE(MID(I102,FIND(":",I102)+1,50))/60,NA()),0),"x")) | ... AG158: =IF(AG102="","",IFERROR(VALUE(IF(ISNUMBER(FIND(":",AG102)),LEFT(AG102,FIND(":",AG102)-1),AG102))+IF(ISNUMBER(FIND(":",AG102)),IF(VALUE(MID(AG102,FIND(":",AG102)+1,50))<60,VALUE(MID(AG102,FIND(":",AG102)+1,50))/60,NA()),0),"x"))
B159: =IF(B103="","",IFERROR(VALUE(IF(ISNUMBER(FIND(":",B103)),LEFT(B103,FIND(":",B103)-1),B103))+IF(ISNUMBER(FIND(":",B103)),IF(VALUE(MID(B103,FIND(":",B103)+1,50))<60,VALUE(MID(B103,FIND(":",B103)+1,50))/60,NA()),0),"x")) | C159: =IF(C103="","",IFERROR(VALUE(IF(ISNUMBER(FIND(":",C103)),LEFT(C103,FIND(":",C103)-1),C103))+IF(ISNUMBER(FIND(":",C103)),IF(VALUE(MID(C103,FIND(":",C103)+1,50))<60,VALUE(MID(C103,FIND(":",C103)+1,50))/60,NA()),0),"x")) | D159: =IF(D103="","",IFERROR(VALUE(IF(ISNUMBER(FIND(":",D103)),LEFT(D103,FIND(":",D103)-1),D103))+IF(ISNUMBER(FIND(":",D103)),IF(VALUE(MID(D103,FIND(":",D103)+1,50))<60,VALUE(MID(D103,FIND(":",D103)+1,50))/60,NA()),0),"x")) | E159: =IF(E103="","",IFERROR(VALUE(IF(ISNUMBER(FIND(":",E103)),LEFT(E103,FIND(":",E103)-1),E103))+IF(ISNUMBER(FIND(":",E103)),IF(VALUE(MID(E103,FIND(":",E103)+1,50))<60,VALUE(MID(E103,FIND(":",E103)+1,50))/60,NA()),0),"x")) | F159: =IF(F103="","",IFERROR(VALUE(IF(ISNUMBER(FIND(":",F103)),LEFT(F103,FIND(":",F103)-1),F103))+IF(ISNUMBER(FIND(":",F103)),IF(VALUE(MID(F103,FIND(":",F103)+1,50))<60,VALUE(MID(F103,FIND(":",F103)+1,50))/60,NA()),0),"x")) | G159: =IF(G103="","",IFERROR(VALUE(IF(ISNUMBER(FIND(":",G103)),LEFT(G103,FIND(":",G103)-1),G103))+IF(ISNUMBER(FIND(":",G103)),IF(VALUE(MID(G103,FIND(":",G103)+1,50))<60,VALUE(MID(G103,FIND(":",G103)+1,50))/60,NA()),0),"x")) | H159: =IF(H103="","",IFERROR(VALUE(IF(ISNUMBER(FIND(":",H103)),LEFT(H103,FIND(":",H103)-1),H103))+IF(ISNUMBER(FIND(":",H103)),IF(VALUE(MID(H103,FIND(":",H103)+1,50))<60,VALUE(MID(H103,FIND(":",H103)+1,50))/60,NA()),0),"x")) | I159: =IF(I103="","",IFERROR(VALUE(IF(ISNUMBER(FIND(":",I103)),LEFT(I103,FIND(":",I103)-1),I103))+IF(ISNUMBER(FIND(":",I103)),IF(VALUE(MID(I103,FIND(":",I103)+1,50))<60,VALUE(MID(I103,FIND(":",I103)+1,50))/60,NA()),0),"x")) | ... AG159: =IF(AG103="","",IFERROR(VALUE(IF(ISNUMBER(FIND(":",AG103)),LEFT(AG103,FIND(":",AG103)-1),AG103))+IF(ISNUMBER(FIND(":",AG103)),IF(VALUE(MID(AG103,FIND(":",AG103)+1,50))<60,VALUE(MID(AG103,FIND(":",AG103)+1,50))/60,NA()),0),"x"))
B160: =IF(B104="","",IFERROR(VALUE(IF(ISNUMBER(FIND(":",B104)),LEFT(B104,FIND(":",B104)-1),B104))+IF(ISNUMBER(FIND(":",B104)),IF(VALUE(MID(B104,FIND(":",B104)+1,50))<60,VALUE(MID(B104,FIND(":",B104)+1,50))/60,NA()),0),"x")) | C160: =IF(C104="","",IFERROR(VALUE(IF(ISNUMBER(FIND(":",C104)),LEFT(C104,FIND(":",C104)-1),C104))+IF(ISNUMBER(FIND(":",C104)),IF(VALUE(MID(C104,FIND(":",C104)+1,50))<60,VALUE(MID(C104,FIND(":",C104)+1,50))/60,NA()),0),"x")) | D160: =IF(D104="","",IFERROR(VALUE(IF(ISNUMBER(FIND(":",D104)),LEFT(D104,FIND(":",D104)-1),D104))+IF(ISNUMBER(FIND(":",D104)),IF(VALUE(MID(D104,FIND(":",D104)+1,50))<60,VALUE(MID(D104,FIND(":",D104)+1,50))/60,NA()),0),"x")) | E160: =IF(E104="","",IFERROR(VALUE(IF(ISNUMBER(FIND(":",E104)),LEFT(E104,FIND(":",E104)-1),E104))+IF(ISNUMBER(FIND(":",E104)),IF(VALUE(MID(E104,FIND(":",E104)+1,50))<60,VALUE(MID(E104,FIND(":",E104)+1,50))/60,NA()),0),"x")) | F160: =IF(F104="","",IFERROR(VALUE(IF(ISNUMBER(FIND(":",F104)),LEFT(F104,FIND(":",F104)-1),F104))+IF(ISNUMBER(FIND(":",F104)),IF(VALUE(MID(F104,FIND(":",F104)+1,50))<60,VALUE(MID(F104,FIND(":",F104)+1,50))/60,NA()),0),"x")) | G160: =IF(G104="","",IFERROR(VALUE(IF(ISNUMBER(FIND(":",G104)),LEFT(G104,FIND(":",G104)-1),G104))+IF(ISNUMBER(FIND(":",G104)),IF(VALUE(MID(G104,FIND(":",G104)+1,50))<60,VALUE(MID(G104,FIND(":",G104)+1,50))/60,NA()),0),"x")) | H160: =IF(H104="","",IFERROR(VALUE(IF(ISNUMBER(FIND(":",H104)),LEFT(H104,FIND(":",H104)-1),H104))+IF(ISNUMBER(FIND(":",H104)),IF(VALUE(MID(H104,FIND(":",H104)+1,50))<60,VALUE(MID(H104,FIND(":",H104)+1,50))/60,NA()),0),"x")) | I160: =IF(I104="","",IFERROR(VALUE(IF(ISNUMBER(FIND(":",I104)),LEFT(I104,FIND(":",I104)-1),I104))+IF(ISNUMBER(FIND(":",I104)),IF(VALUE(MID(I104,FIND(":",I104)+1,50))<60,VALUE(MID(I104,FIND(":",I104)+1,50))/60,NA()),0),"x")) | ... AG160: =IF(AG104="","",IFERROR(VALUE(IF(ISNUMBER(FIND(":",AG104)),LEFT(AG104,FIND(":",AG104)-1),AG104))+IF(ISNUMBER(FIND(":",AG104)),IF(VALUE(MID(AG104,FIND(":",AG104)+1,50))<60,VALUE(MID(AG104,FIND(":",AG104)+1,50))/60,NA()),0),"x"))
B161: =IF(B105="","",IFERROR(VALUE(IF(ISNUMBER(FIND(":",B105)),LEFT(B105,FIND(":",B105)-1),B105))+IF(ISNUMBER(FIND(":",B105)),IF(VALUE(MID(B105,FIND(":",B105)+1,50))<60,VALUE(MID(B105,FIND(":",B105)+1,50))/60,NA()),0),"x")) | C161: =IF(C105="","",IFERROR(VALUE(IF(ISNUMBER(FIND(":",C105)),LEFT(C105,FIND(":",C105)-1),C105))+IF(ISNUMBER(FIND(":",C105)),IF(VALUE(MID(C105,FIND(":",C105)+1,50))<60,VALUE(MID(C105,FIND(":",C105)+1,50))/60,NA()),0),"x")) | D161: =IF(D105="","",IFERROR(VALUE(IF(ISNUMBER(FIND(":",D105)),LEFT(D105,FIND(":",D105)-1),D105))+IF(ISNUMBER(FIND(":",D105)),IF(VALUE(MID(D105,FIND(":",D105)+1,50))<60,VALUE(MID(D105,FIND(":",D105)+1,50))/60,NA()),0),"x")) | E161: =IF(E105="","",IFERROR(VALUE(IF(ISNUMBER(FIND(":",E105)),LEFT(E105,FIND(":",E105)-1),E105))+IF(ISNUMBER(FIND(":",E105)),IF(VALUE(MID(E105,FIND(":",E105)+1,50))<60,VALUE(MID(E105,FIND(":",E105)+1,50))/60,NA()),0),"x")) | F161: =IF(F105="","",IFERROR(VALUE(IF(ISNUMBER(FIND(":",F105)),LEFT(F105,FIND(":",F105)-1),F105))+IF(ISNUMBER(FIND(":",F105)),IF(VALUE(MID(F105,FIND(":",F105)+1,50))<60,VALUE(MID(F105,FIND(":",F105)+1,50))/60,NA()),0),"x")) | G161: =IF(G105="","",IFERROR(VALUE(IF(ISNUMBER(FIND(":",G105)),LEFT(G105,FIND(":",G105)-1),G105))+IF(ISNUMBER(FIND(":",G105)),IF(VALUE(MID(G105,FIND(":",G105)+1,50))<60,VALUE(MID(G105,FIND(":",G105)+1,50))/60,NA()),0),"x")) | H161: =IF(H105="","",IFERROR(VALUE(IF(ISNUMBER(FIND(":",H105)),LEFT(H105,FIND(":",H105)-1),H105))+IF(ISNUMBER(FIND(":",H105)),IF(VALUE(MID(H105,FIND(":",H105)+1,50))<60,VALUE(MID(H105,FIND(":",H105)+1,50))/60,NA()),0),"x")) | I161: =IF(I105="","",IFERROR(VALUE(IF(ISNUMBER(FIND(":",I105)),LEFT(I105,FIND(":",I105)-1),I105))+IF(ISNUMBER(FIND(":",I105)),IF(VALUE(MID(I105,FIND(":",I105)+1,50))<60,VALUE(MID(I105,FIND(":",I105)+1,50))/60,NA()),0),"x")) | ... AG161: =IF(AG105="","",IFERROR(VALUE(IF(ISNUMBER(FIND(":",AG105)),LEFT(AG105,FIND(":",AG105)-1),AG105))+IF(ISNUMBER(FIND(":",AG105)),IF(VALUE(MID(AG105,FIND(":",AG105)+1,50))<60,VALUE(MID(AG105,FIND(":",AG105)+1,50))/60,NA()),0),"x"))
B162: =IF(B106="","",IFERROR(VALUE(IF(ISNUMBER(FIND(":",B106)),LEFT(B106,FIND(":",B106)-1),B106))+IF(ISNUMBER(FIND(":",B106)),IF(VALUE(MID(B106,FIND(":",B106)+1,50))<60,VALUE(MID(B106,FIND(":",B106)+1,50))/60,NA()),0),"x")) | C162: =IF(C106="","",IFERROR(VALUE(IF(ISNUMBER(FIND(":",C106)),LEFT(C106,FIND(":",C106)-1),C106))+IF(ISNUMBER(FIND(":",C106)),IF(VALUE(MID(C106,FIND(":",C106)+1,50))<60,VALUE(MID(C106,FIND(":",C106)+1,50))/60,NA()),0),"x")) | D162: =IF(D106="","",IFERROR(VALUE(IF(ISNUMBER(FIND(":",D106)),LEFT(D106,FIND(":",D106)-1),D106))+IF(ISNUMBER(FIND(":",D106)),IF(VALUE(MID(D106,FIND(":",D106)+1,50))<60,VALUE(MID(D106,FIND(":",D106)+1,50))/60,NA()),0),"x")) | E162: =IF(E106="","",IFERROR(VALUE(IF(ISNUMBER(FIND(":",E106)),LEFT(E106,FIND(":",E106)-1),E106))+IF(ISNUMBER(FIND(":",E106)),IF(VALUE(MID(E106,FIND(":",E106)+1,50))<60,VALUE(MID(E106,FIND(":",E106)+1,50))/60,NA()),0),"x")) | F162: =IF(F106="","",IFERROR(VALUE(IF(ISNUMBER(FIND(":",F106)),LEFT(F106,FIND(":",F106)-1),F106))+IF(ISNUMBER(FIND(":",F106)),IF(VALUE(MID(F106,FIND(":",F106)+1,50))<60,VALUE(MID(F106,FIND(":",F106)+1,50))/60,NA()),0),"x")) | G162: =IF(G106="","",IFERROR(VALUE(IF(ISNUMBER(FIND(":",G106)),LEFT(G106,FIND(":",G106)-1),G106))+IF(ISNUMBER(FIND(":",G106)),IF(VALUE(MID(G106,FIND(":",G106)+1,50))<60,VALUE(MID(G106,FIND(":",G106)+1,50))/60,NA()),0),"x")) | H162: =IF(H106="","",IFERROR(VALUE(IF(ISNUMBER(FIND(":",H106)),LEFT(H106,FIND(":",H106)-1),H106))+IF(ISNUMBER(FIND(":",H106)),IF(VALUE(MID(H106,FIND(":",H106)+1,50))<60,VALUE(MID(H106,FIND(":",H106)+1,50))/60,NA()),0),"x")) | I162: =IF(I106="","",IFERROR(VALUE(IF(ISNUMBER(FIND(":",I106)),LEFT(I106,FIND(":",I106)-1),I106))+IF(ISNUMBER(FIND(":",I106)),IF(VALUE(MID(I106,FIND(":",I106)+1,50))<60,VALUE(MID(I106,FIND(":",I106)+1,50))/60,NA()),0),"x")) | ... AG162: =IF(AG106="","",IFERROR(VALUE(IF(ISNUMBER(FIND(":",AG106)),LEFT(AG106,FIND(":",AG106)-1),AG106))+IF(ISNUMBER(FIND(":",AG106)),IF(VALUE(MID(AG106,FIND(":",AG106)+1,50))<60,VALUE(MID(AG106,FIND(":",AG106)+1,50))/60,NA()),0),"x"))
B163: =IF(B107="","",IFERROR(VALUE(IF(ISNUMBER(FIND(":",B107)),LEFT(B107,FIND(":",B107)-1),B107))+IF(ISNUMBER(FIND(":",B107)),IF(VALUE(MID(B107,FIND(":",B107)+1,50))<60,VALUE(MID(B107,FIND(":",B107)+1,50))/60,NA()),0),"x")) | C163: =IF(C107="","",IFERROR(VALUE(IF(ISNUMBER(FIND(":",C107)),LEFT(C107,FIND(":",C107)-1),C107))+IF(ISNUMBER(FIND(":",C107)),IF(VALUE(MID(C107,FIND(":",C107)+1,50))<60,VALUE(MID(C107,FIND(":",C107)+1,50))/60,NA()),0),"x")) | D163: =IF(D107="","",IFERROR(VALUE(IF(ISNUMBER(FIND(":",D107)),LEFT(D107,FIND(":",D107)-1),D107))+IF(ISNUMBER(FIND(":",D107)),IF(VALUE(MID(D107,FIND(":",D107)+1,50))<60,VALUE(MID(D107,FIND(":",D107)+1,50))/60,NA()),0),"x")) | E163: =IF(E107="","",IFERROR(VALUE(IF(ISNUMBER(FIND(":",E107)),LEFT(E107,FIND(":",E107)-1),E107))+IF(ISNUMBER(FIND(":",E107)),IF(VALUE(MID(E107,FIND(":",E107)+1,50))<60,VALUE(MID(E107,FIND(":",E107)+1,50))/60,NA()),0),"x")) | F163: =IF(F107="","",IFERROR(VALUE(IF(ISNUMBER(FIND(":",F107)),LEFT(F107,FIND(":",F107)-1),F107))+IF(ISNUMBER(FIND(":",F107)),IF(VALUE(MID(F107,FIND(":",F107)+1,50))<60,VALUE(MID(F107,FIND(":",F107)+1,50))/60,NA()),0),"x")) | G163: =IF(G107="","",IFERROR(VALUE(IF(ISNUMBER(FIND(":",G107)),LEFT(G107,FIND(":",G107)-1),G107))+IF(ISNUMBER(FIND(":",G107)),IF(VALUE(MID(G107,FIND(":",G107)+1,50))<60,VALUE(MID(G107,FIND(":",G107)+1,50))/60,NA()),0),"x")) | H163: =IF(H107="","",IFERROR(VALUE(IF(ISNUMBER(FIND(":",H107)),LEFT(H107,FIND(":",H107)-1),H107))+IF(ISNUMBER(FIND(":",H107)),IF(VALUE(MID(H107,FIND(":",H107)+1,50))<60,VALUE(MID(H107,FIND(":",H107)+1,50))/60,NA()),0),"x")) | I163: =IF(I107="","",IFERROR(VALUE(IF(ISNUMBER(FIND(":",I107)),LEFT(I107,FIND(":",I107)-1),I107))+IF(ISNUMBER(FIND(":",I107)),IF(VALUE(MID(I107,FIND(":",I107)+1,50))<60,VALUE(MID(I107,FIND(":",I107)+1,50))/60,NA()),0),"x")) | ... AG163: =IF(AG107="","",IFERROR(VALUE(IF(ISNUMBER(FIND(":",AG107)),LEFT(AG107,FIND(":",AG107)-1),AG107))+IF(ISNUMBER(FIND(":",AG107)),IF(VALUE(MID(AG107,FIND(":",AG107)+1,50))<60,VALUE(MID(AG107,FIND(":",AG107)+1,50))/60,NA()),0),"x"))
B164: =IF(B108="","",IFERROR(VALUE(IF(ISNUMBER(FIND(":",B108)),LEFT(B108,FIND(":",B108)-1),B108))+IF(ISNUMBER(FIND(":",B108)),IF(VALUE(MID(B108,FIND(":",B108)+1,50))<60,VALUE(MID(B108,FIND(":",B108)+1,50))/60,NA()),0),"x")) | C164: =IF(C108="","",IFERROR(VALUE(IF(ISNUMBER(FIND(":",C108)),LEFT(C108,FIND(":",C108)-1),C108))+IF(ISNUMBER(FIND(":",C108)),IF(VALUE(MID(C108,FIND(":",C108)+1,50))<60,VALUE(MID(C108,FIND(":",C108)+1,50))/60,NA()),0),"x")) | D164: =IF(D108="","",IFERROR(VALUE(IF(ISNUMBER(FIND(":",D108)),LEFT(D108,FIND(":",D108)-1),D108))+IF(ISNUMBER(FIND(":",D108)),IF(VALUE(MID(D108,FIND(":",D108)+1,50))<60,VALUE(MID(D108,FIND(":",D108)+1,50))/60,NA()),0),"x")) | E164: =IF(E108="","",IFERROR(VALUE(IF(ISNUMBER(FIND(":",E108)),LEFT(E108,FIND(":",E108)-1),E108))+IF(ISNUMBER(FIND(":",E108)),IF(VALUE(MID(E108,FIND(":",E108)+1,50))<60,VALUE(MID(E108,FIND(":",E108)+1,50))/60,NA()),0),"x")) | F164: =IF(F108="","",IFERROR(VALUE(IF(ISNUMBER(FIND(":",F108)),LEFT(F108,FIND(":",F108)-1),F108))+IF(ISNUMBER(FIND(":",F108)),IF(VALUE(MID(F108,FIND(":",F108)+1,50))<60,VALUE(MID(F108,FIND(":",F108)+1,50))/60,NA()),0),"x")) | G164: =IF(G108="","",IFERROR(VALUE(IF(ISNUMBER(FIND(":",G108)),LEFT(G108,FIND(":",G108)-1),G108))+IF(ISNUMBER(FIND(":",G108)),IF(VALUE(MID(G108,FIND(":",G108)+1,50))<60,VALUE(MID(G108,FIND(":",G108)+1,50))/60,NA()),0),"x")) | H164: =IF(H108="","",IFERROR(VALUE(IF(ISNUMBER(FIND(":",H108)),LEFT(H108,FIND(":",H108)-1),H108))+IF(ISNUMBER(FIND(":",H108)),IF(VALUE(MID(H108,FIND(":",H108)+1,50))<60,VALUE(MID(H108,FIND(":",H108)+1,50))/60,NA()),0),"x")) | I164: =IF(I108="","",IFERROR(VALUE(IF(ISNUMBER(FIND(":",I108)),LEFT(I108,FIND(":",I108)-1),I108))+IF(ISNUMBER(FIND(":",I108)),IF(VALUE(MID(I108,FIND(":",I108)+1,50))<60,VALUE(MID(I108,FIND(":",I108)+1,50))/60,NA()),0),"x")) | ... AG164: =IF(AG108="","",IFERROR(VALUE(IF(ISNUMBER(FIND(":",AG108)),LEFT(AG108,FIND(":",AG108)-1),AG108))+IF(ISNUMBER(FIND(":",AG108)),IF(VALUE(MID(AG108,FIND(":",AG108)+1,50))<60,VALUE(MID(AG108,FIND(":",AG108)+1,50))/60,NA()),0),"x"))
B165: =IF(B109="","",IFERROR(VALUE(IF(ISNUMBER(FIND(":",B109)),LEFT(B109,FIND(":",B109)-1),B109))+IF(ISNUMBER(FIND(":",B109)),IF(VALUE(MID(B109,FIND(":",B109)+1,50))<60,VALUE(MID(B109,FIND(":",B109)+1,50))/60,NA()),0),"x")) | C165: =IF(C109="","",IFERROR(VALUE(IF(ISNUMBER(FIND(":",C109)),LEFT(C109,FIND(":",C109)-1),C109))+IF(ISNUMBER(FIND(":",C109)),IF(VALUE(MID(C109,FIND(":",C109)+1,50))<60,VALUE(MID(C109,FIND(":",C109)+1,50))/60,NA()),0),"x")) | D165: =IF(D109="","",IFERROR(VALUE(IF(ISNUMBER(FIND(":",D109)),LEFT(D109,FIND(":",D109)-1),D109))+IF(ISNUMBER(FIND(":",D109)),IF(VALUE(MID(D109,FIND(":",D109)+1,50))<60,VALUE(MID(D109,FIND(":",D109)+1,50))/60,NA()),0),"x")) | E165: =IF(E109="","",IFERROR(VALUE(IF(ISNUMBER(FIND(":",E109)),LEFT(E109,FIND(":",E109)-1),E109))+IF(ISNUMBER(FIND(":",E109)),IF(VALUE(MID(E109,FIND(":",E109)+1,50))<60,VALUE(MID(E109,FIND(":",E109)+1,50))/60,NA()),0),"x")) | F165: =IF(F109="","",IFERROR(VALUE(IF(ISNUMBER(FIND(":",F109)),LEFT(F109,FIND(":",F109)-1),F109))+IF(ISNUMBER(FIND(":",F109)),IF(VALUE(MID(F109,FIND(":",F109)+1,50))<60,VALUE(MID(F109,FIND(":",F109)+1,50))/60,NA()),0),"x")) | G165: =IF(G109="","",IFERROR(VALUE(IF(ISNUMBER(FIND(":",G109)),LEFT(G109,FIND(":",G109)-1),G109))+IF(ISNUMBER(FIND(":",G109)),IF(VALUE(MID(G109,FIND(":",G109)+1,50))<60,VALUE(MID(G109,FIND(":",G109)+1,50))/60,NA()),0),"x")) | H165: =IF(H109="","",IFERROR(VALUE(IF(ISNUMBER(FIND(":",H109)),LEFT(H109,FIND(":",H109)-1),H109))+IF(ISNUMBER(FIND(":",H109)),IF(VALUE(MID(H109,FIND(":",H109)+1,50))<60,VALUE(MID(H109,FIND(":",H109)+1,50))/60,NA()),0),"x")) | I165: =IF(I109="","",IFERROR(VALUE(IF(ISNUMBER(FIND(":",I109)),LEFT(I109,FIND(":",I109)-1),I109))+IF(ISNUMBER(FIND(":",I109)),IF(VALUE(MID(I109,FIND(":",I109)+1,50))<60,VALUE(MID(I109,FIND(":",I109)+1,50))/60,NA()),0),"x")) | ... AG165: =IF(AG109="","",IFERROR(VALUE(IF(ISNUMBER(FIND(":",AG109)),LEFT(AG109,FIND(":",AG109)-1),AG109))+IF(ISNUMBER(FIND(":",AG109)),IF(VALUE(MID(AG109,FIND(":",AG109)+1,50))<60,VALUE(MID(AG109,FIND(":",AG109)+1,50))/60,NA()),0),"x"))
B166: =IF(B110="","",IFERROR(VALUE(IF(ISNUMBER(FIND(":",B110)),LEFT(B110,FIND(":",B110)-1),B110))+IF(ISNUMBER(FIND(":",B110)),IF(VALUE(MID(B110,FIND(":",B110)+1,50))<60,VALUE(MID(B110,FIND(":",B110)+1,50))/60,NA()),0),"x")) | C166: =IF(C110="","",IFERROR(VALUE(IF(ISNUMBER(FIND(":",C110)),LEFT(C110,FIND(":",C110)-1),C110))+IF(ISNUMBER(FIND(":",C110)),IF(VALUE(MID(C110,FIND(":",C110)+1,50))<60,VALUE(MID(C110,FIND(":",C110)+1,50))/60,NA()),0),"x")) | D166: =IF(D110="","",IFERROR(VALUE(IF(ISNUMBER(FIND(":",D110)),LEFT(D110,FIND(":",D110)-1),D110))+IF(ISNUMBER(FIND(":",D110)),IF(VALUE(MID(D110,FIND(":",D110)+1,50))<60,VALUE(MID(D110,FIND(":",D110)+1,50))/60,NA()),0),"x")) | E166: =IF(E110="","",IFERROR(VALUE(IF(ISNUMBER(FIND(":",E110)),LEFT(E110,FIND(":",E110)-1),E110))+IF(ISNUMBER(FIND(":",E110)),IF(VALUE(MID(E110,FIND(":",E110)+1,50))<60,VALUE(MID(E110,FIND(":",E110)+1,50))/60,NA()),0),"x")) | F166: =IF(F110="","",IFERROR(VALUE(IF(ISNUMBER(FIND(":",F110)),LEFT(F110,FIND(":",F110)-1),F110))+IF(ISNUMBER(FIND(":",F110)),IF(VALUE(MID(F110,FIND(":",F110)+1,50))<60,VALUE(MID(F110,FIND(":",F110)+1,50))/60,NA()),0),"x")) | G166: =IF(G110="","",IFERROR(VALUE(IF(ISNUMBER(FIND(":",G110)),LEFT(G110,FIND(":",G110)-1),G110))+IF(ISNUMBER(FIND(":",G110)),IF(VALUE(MID(G110,FIND(":",G110)+1,50))<60,VALUE(MID(G110,FIND(":",G110)+1,50))/60,NA()),0),"x")) | H166: =IF(H110="","",IFERROR(VALUE(IF(ISNUMBER(FIND(":",H110)),LEFT(H110,FIND(":",H110)-1),H110))+IF(ISNUMBER(FIND(":",H110)),IF(VALUE(MID(H110,FIND(":",H110)+1,50))<60,VALUE(MID(H110,FIND(":",H110)+1,50))/60,NA()),0),"x")) | I166: =IF(I110="","",IFERROR(VALUE(IF(ISNUMBER(FIND(":",I110)),LEFT(I110,FIND(":",I110)-1),I110))+IF(ISNUMBER(FIND(":",I110)),IF(VALUE(MID(I110,FIND(":",I110)+1,50))<60,VALUE(MID(I110,FIND(":",I110)+1,50))/60,NA()),0),"x")) | ... AG166: =IF(AG110="","",IFERROR(VALUE(IF(ISNUMBER(FIND(":",AG110)),LEFT(AG110,FIND(":",AG110)-1),AG110))+IF(ISNUMBER(FIND(":",AG110)),IF(VALUE(MID(AG110,FIND(":",AG110)+1,50))<60,VALUE(MID(AG110,FIND(":",AG110)+1,50))/60,NA()),0),"x"))
B167: =IF(B111="","",IFERROR(VALUE(IF(ISNUMBER(FIND(":",B111)),LEFT(B111,FIND(":",B111)-1),B111))+IF(ISNUMBER(FIND(":",B111)),IF(VALUE(MID(B111,FIND(":",B111)+1,50))<60,VALUE(MID(B111,FIND(":",B111)+1,50))/60,NA()),0),"x")) | C167: =IF(C111="","",IFERROR(VALUE(IF(ISNUMBER(FIND(":",C111)),LEFT(C111,FIND(":",C111)-1),C111))+IF(ISNUMBER(FIND(":",C111)),IF(VALUE(MID(C111,FIND(":",C111)+1,50))<60,VALUE(MID(C111,FIND(":",C111)+1,50))/60,NA()),0),"x")) | D167: =IF(D111="","",IFERROR(VALUE(IF(ISNUMBER(FIND(":",D111)),LEFT(D111,FIND(":",D111)-1),D111))+IF(ISNUMBER(FIND(":",D111)),IF(VALUE(MID(D111,FIND(":",D111)+1,50))<60,VALUE(MID(D111,FIND(":",D111)+1,50))/60,NA()),0),"x")) | E167: =IF(E111="","",IFERROR(VALUE(IF(ISNUMBER(FIND(":",E111)),LEFT(E111,FIND(":",E111)-1),E111))+IF(ISNUMBER(FIND(":",E111)),IF(VALUE(MID(E111,FIND(":",E111)+1,50))<60,VALUE(MID(E111,FIND(":",E111)+1,50))/60,NA()),0),"x")) | F167: =IF(F111="","",IFERROR(VALUE(IF(ISNUMBER(FIND(":",F111)),LEFT(F111,FIND(":",F111)-1),F111))+IF(ISNUMBER(FIND(":",F111)),IF(VALUE(MID(F111,FIND(":",F111)+1,50))<60,VALUE(MID(F111,FIND(":",F111)+1,50))/60,NA()),0),"x")) | G167: =IF(G111="","",IFERROR(VALUE(IF(ISNUMBER(FIND(":",G111)),LEFT(G111,FIND(":",G111)-1),G111))+IF(ISNUMBER(FIND(":",G111)),IF(VALUE(MID(G111,FIND(":",G111)+1,50))<60,VALUE(MID(G111,FIND(":",G111)+1,50))/60,NA()),0),"x")) | H167: =IF(H111="","",IFERROR(VALUE(IF(ISNUMBER(FIND(":",H111)),LEFT(H111,FIND(":",H111)-1),H111))+IF(ISNUMBER(FIND(":",H111)),IF(VALUE(MID(H111,FIND(":",H111)+1,50))<60,VALUE(MID(H111,FIND(":",H111)+1,50))/60,NA()),0),"x")) | I167: =IF(I111="","",IFERROR(VALUE(IF(ISNUMBER(FIND(":",I111)),LEFT(I111,FIND(":",I111)-1),I111))+IF(ISNUMBER(FIND(":",I111)),IF(VALUE(MID(I111,FIND(":",I111)+1,50))<60,VALUE(MID(I111,FIND(":",I111)+1,50))/60,NA()),0),"x")) | ... AG167: =IF(AG111="","",IFERROR(VALUE(IF(ISNUMBER(FIND(":",AG111)),LEFT(AG111,FIND(":",AG111)-1),AG111))+IF(ISNUMBER(FIND(":",AG111)),IF(VALUE(MID(AG111,FIND(":",AG111)+1,50))<60,VALUE(MID(AG111,FIND(":",AG111)+1,50))/60,NA()),0),"x"))
B168: =IF(B112="","",IFERROR(VALUE(IF(ISNUMBER(FIND(":",B112)),LEFT(B112,FIND(":",B112)-1),B112))+IF(ISNUMBER(FIND(":",B112)),IF(VALUE(MID(B112,FIND(":",B112)+1,50))<60,VALUE(MID(B112,FIND(":",B112)+1,50))/60,NA()),0),"x")) | C168: =IF(C112="","",IFERROR(VALUE(IF(ISNUMBER(FIND(":",C112)),LEFT(C112,FIND(":",C112)-1),C112))+IF(ISNUMBER(FIND(":",C112)),IF(VALUE(MID(C112,FIND(":",C112)+1,50))<60,VALUE(MID(C112,FIND(":",C112)+1,50))/60,NA()),0),"x")) | D168: =IF(D112="","",IFERROR(VALUE(IF(ISNUMBER(FIND(":",D112)),LEFT(D112,FIND(":",D112)-1),D112))+IF(ISNUMBER(FIND(":",D112)),IF(VALUE(MID(D112,FIND(":",D112)+1,50))<60,VALUE(MID(D112,FIND(":",D112)+1,50))/60,NA()),0),"x")) | E168: =IF(E112="","",IFERROR(VALUE(IF(ISNUMBER(FIND(":",E112)),LEFT(E112,FIND(":",E112)-1),E112))+IF(ISNUMBER(FIND(":",E112)),IF(VALUE(MID(E112,FIND(":",E112)+1,50))<60,VALUE(MID(E112,FIND(":",E112)+1,50))/60,NA()),0),"x")) | F168: =IF(F112="","",IFERROR(VALUE(IF(ISNUMBER(FIND(":",F112)),LEFT(F112,FIND(":",F112)-1),F112))+IF(ISNUMBER(FIND(":",F112)),IF(VALUE(MID(F112,FIND(":",F112)+1,50))<60,VALUE(MID(F112,FIND(":",F112)+1,50))/60,NA()),0),"x")) | G168: =IF(G112="","",IFERROR(VALUE(IF(ISNUMBER(FIND(":",G112)),LEFT(G112,FIND(":",G112)-1),G112))+IF(ISNUMBER(FIND(":",G112)),IF(VALUE(MID(G112,FIND(":",G112)+1,50))<60,VALUE(MID(G112,FIND(":",G112)+1,50))/60,NA()),0),"x")) | H168: =IF(H112="","",IFERROR(VALUE(IF(ISNUMBER(FIND(":",H112)),LEFT(H112,FIND(":",H112)-1),H112))+IF(ISNUMBER(FIND(":",H112)),IF(VALUE(MID(H112,FIND(":",H112)+1,50))<60,VALUE(MID(H112,FIND(":",H112)+1,50))/60,NA()),0),"x")) | I168: =IF(I112="","",IFERROR(VALUE(IF(ISNUMBER(FIND(":",I112)),LEFT(I112,FIND(":",I112)-1),I112))+IF(ISNUMBER(FIND(":",I112)),IF(VALUE(MID(I112,FIND(":",I112)+1,50))<60,VALUE(MID(I112,FIND(":",I112)+1,50))/60,NA()),0),"x")) | ... AG168: =IF(AG112="","",IFERROR(VALUE(IF(ISNUMBER(FIND(":",AG112)),LEFT(AG112,FIND(":",AG112)-1),AG112))+IF(ISNUMBER(FIND(":",AG112)),IF(VALUE(MID(AG112,FIND(":",AG112)+1,50))<60,VALUE(MID(AG112,FIND(":",AG112)+1,50))/60,NA()),0),"x"))
B169: =IF(B113="","",IFERROR(VALUE(IF(ISNUMBER(FIND(":",B113)),LEFT(B113,FIND(":",B113)-1),B113))+IF(ISNUMBER(FIND(":",B113)),IF(VALUE(MID(B113,FIND(":",B113)+1,50))<60,VALUE(MID(B113,FIND(":",B113)+1,50))/60,NA()),0),"x")) | C169: =IF(C113="","",IFERROR(VALUE(IF(ISNUMBER(FIND(":",C113)),LEFT(C113,FIND(":",C113)-1),C113))+IF(ISNUMBER(FIND(":",C113)),IF(VALUE(MID(C113,FIND(":",C113)+1,50))<60,VALUE(MID(C113,FIND(":",C113)+1,50))/60,NA()),0),"x")) | D169: =IF(D113="","",IFERROR(VALUE(IF(ISNUMBER(FIND(":",D113)),LEFT(D113,FIND(":",D113)-1),D113))+IF(ISNUMBER(FIND(":",D113)),IF(VALUE(MID(D113,FIND(":",D113)+1,50))<60,VALUE(MID(D113,FIND(":",D113)+1,50))/60,NA()),0),"x")) | E169: =IF(E113="","",IFERROR(VALUE(IF(ISNUMBER(FIND(":",E113)),LEFT(E113,FIND(":",E113)-1),E113))+IF(ISNUMBER(FIND(":",E113)),IF(VALUE(MID(E113,FIND(":",E113)+1,50))<60,VALUE(MID(E113,FIND(":",E113)+1,50))/60,NA()),0),"x")) | F169: =IF(F113="","",IFERROR(VALUE(IF(ISNUMBER(FIND(":",F113)),LEFT(F113,FIND(":",F113)-1),F113))+IF(ISNUMBER(FIND(":",F113)),IF(VALUE(MID(F113,FIND(":",F113)+1,50))<60,VALUE(MID(F113,FIND(":",F113)+1,50))/60,NA()),0),"x")) | G169: =IF(G113="","",IFERROR(VALUE(IF(ISNUMBER(FIND(":",G113)),LEFT(G113,FIND(":",G113)-1),G113))+IF(ISNUMBER(FIND(":",G113)),IF(VALUE(MID(G113,FIND(":",G113)+1,50))<60,VALUE(MID(G113,FIND(":",G113)+1,50))/60,NA()),0),"x")) | H169: =IF(H113="","",IFERROR(VALUE(IF(ISNUMBER(FIND(":",H113)),LEFT(H113,FIND(":",H113)-1),H113))+IF(ISNUMBER(FIND(":",H113)),IF(VALUE(MID(H113,FIND(":",H113)+1,50))<60,VALUE(MID(H113,FIND(":",H113)+1,50))/60,NA()),0),"x")) | I169: =IF(I113="","",IFERROR(VALUE(IF(ISNUMBER(FIND(":",I113)),LEFT(I113,FIND(":",I113)-1),I113))+IF(ISNUMBER(FIND(":",I113)),IF(VALUE(MID(I113,FIND(":",I113)+1,50))<60,VALUE(MID(I113,FIND(":",I113)+1,50))/60,NA()),0),"x")) | ... AG169: =IF(AG113="","",IFERROR(VALUE(IF(ISNUMBER(FIND(":",AG113)),LEFT(AG113,FIND(":",AG113)-1),AG113))+IF(ISNUMBER(FIND(":",AG113)),IF(VALUE(MID(AG113,FIND(":",AG113)+1,50))<60,VALUE(MID(AG113,FIND(":",AG113)+1,50))/60,NA()),0),"x"))
... B182: =IF(B126="","",IFERROR(VALUE(IF(ISNUMBER(FIND(":",B126)),LEFT(B126,FIND(":",B126)-1),B126))+IF(ISNUMBER(FIND(":",B126)),IF(VALUE(MID(B126,FIND(":",B126)+1,50))<60,VALUE(MID(B126,FIND(":",B126)+1,50))/60,NA()),0),"x")) | C182: =IF(C126="","",IFERROR(VALUE(IF(ISNUMBER(FIND(":",C126)),LEFT(C126,FIND(":",C126)-1),C126))+IF(ISNUMBER(FIND(":",C126)),IF(VALUE(MID(C126,FIND(":",C126)+1,50))<60,VALUE(MID(C126,FIND(":",C126)+1,50))/60,NA()),0),"x")) | D182: =IF(D126="","",IFERROR(VALUE(IF(ISNUMBER(FIND(":",D126)),LEFT(D126,FIND(":",D126)-1),D126))+IF(ISNUMBER(FIND(":",D126)),IF(VALUE(MID(D126,FIND(":",D126)+1,50))<60,VALUE(MID(D126,FIND(":",D126)+1,50))/60,NA()),0),"x")) | E182: =IF(E126="","",IFERROR(VALUE(IF(ISNUMBER(FIND(":",E126)),LEFT(E126,FIND(":",E126)-1),E126))+IF(ISNUMBER(FIND(":",E126)),IF(VALUE(MID(E126,FIND(":",E126)+1,50))<60,VALUE(MID(E126,FIND(":",E126)+1,50))/60,NA()),0),"x")) | F182: =IF(F126="","",IFERROR(VALUE(IF(ISNUMBER(FIND(":",F126)),LEFT(F126,FIND(":",F126)-1),F126))+IF(ISNUMBER(FIND(":",F126)),IF(VALUE(MID(F126,FIND(":",F126)+1,50))<60,VALUE(MID(F126,FIND(":",F126)+1,50))/60,NA()),0),"x")) | G182: =IF(G126="","",IFERROR(VALUE(IF(ISNUMBER(FIND(":",G126)),LEFT(G126,FIND(":",G126)-1),G126))+IF(ISNUMBER(FIND(":",G126)),IF(VALUE(MID(G126,FIND(":",G126)+1,50))<60,VALUE(MID(G126,FIND(":",G126)+1,50))/60,NA()),0),"x")) | H182: =IF(H126="","",IFERROR(VALUE(IF(ISNUMBER(FIND(":",H126)),LEFT(H126,FIND(":",H126)-1),H126))+IF(ISNUMBER(FIND(":",H126)),IF(VALUE(MID(H126,FIND(":",H126)+1,50))<60,VALUE(MID(H126,FIND(":",H126)+1,50))/60,NA()),0),"x")) | I182: =IF(I126="","",IFERROR(VALUE(IF(ISNUMBER(FIND(":",I126)),LEFT(I126,FIND(":",I126)-1),I126))+IF(ISNUMBER(FIND(":",I126)),IF(VALUE(MID(I126,FIND(":",I126)+1,50))<60,VALUE(MID(I126,FIND(":",I126)+1,50))/60,NA()),0),"x")) | ... AG182: =IF(AG126="","",IFERROR(VALUE(IF(ISNUMBER(FIND(":",AG126)),LEFT(AG126,FIND(":",AG126)-1),AG126))+IF(ISNUMBER(FIND(":",AG126)),IF(VALUE(MID(AG126,FIND(":",AG126)+1,50))<60,VALUE(MID(AG126,FIND(":",AG126)+1,50))/60,NA()),0),"x"))
A185: [ST]
B186: =IF(B$4=0,0,IF(ISNUMBER(Grafik!B7),2,IF(B18="",0,IF(B46=0,IF(ISNUMBER(VALUE(LEFT(B18,1))),2,0),IF(AND(ISNUMBER(B130),ISNUMBER(B158)),IF(AND(B130>=0,B130<24,B158>=0,B158<=24),1,2),2))))) | C186: =IF(C$4=0,0,IF(ISNUMBER(Grafik!C7),2,IF(C18="",0,IF(C46=0,IF(ISNUMBER(VALUE(LEFT(C18,1))),2,0),IF(AND(ISNUMBER(C130),ISNUMBER(C158)),IF(AND(C130>=0,C130<24,C158>=0,C158<=24),1,2),2))))) | D186: =IF(D$4=0,0,IF(ISNUMBER(Grafik!D7),2,IF(D18="",0,IF(D46=0,IF(ISNUMBER(VALUE(LEFT(D18,1))),2,0),IF(AND(ISNUMBER(D130),ISNUMBER(D158)),IF(AND(D130>=0,D130<24,D158>=0,D158<=24),1,2),2))))) | E186: =IF(E$4=0,0,IF(ISNUMBER(Grafik!E7),2,IF(E18="",0,IF(E46=0,IF(ISNUMBER(VALUE(LEFT(E18,1))),2,0),IF(AND(ISNUMBER(E130),ISNUMBER(E158)),IF(AND(E130>=0,E130<24,E158>=0,E158<=24),1,2),2))))) | F186: =IF(F$4=0,0,IF(ISNUMBER(Grafik!F7),2,IF(F18="",0,IF(F46=0,IF(ISNUMBER(VALUE(LEFT(F18,1))),2,0),IF(AND(ISNUMBER(F130),ISNUMBER(F158)),IF(AND(F130>=0,F130<24,F158>=0,F158<=24),1,2),2))))) | G186: =IF(G$4=0,0,IF(ISNUMBER(Grafik!G7),2,IF(G18="",0,IF(G46=0,IF(ISNUMBER(VALUE(LEFT(G18,1))),2,0),IF(AND(ISNUMBER(G130),ISNUMBER(G158)),IF(AND(G130>=0,G130<24,G158>=0,G158<=24),1,2),2))))) | H186: =IF(H$4=0,0,IF(ISNUMBER(Grafik!H7),2,IF(H18="",0,IF(H46=0,IF(ISNUMBER(VALUE(LEFT(H18,1))),2,0),IF(AND(ISNUMBER(H130),ISNUMBER(H158)),IF(AND(H130>=0,H130<24,H158>=0,H158<=24),1,2),2))))) | I186: =IF(I$4=0,0,IF(ISNUMBER(Grafik!I7),2,IF(I18="",0,IF(I46=0,IF(ISNUMBER(VALUE(LEFT(I18,1))),2,0),IF(AND(ISNUMBER(I130),ISNUMBER(I158)),IF(AND(I130>=0,I130<24,I158>=0,I158<=24),1,2),2))))) | ... AG186: =IF(AG$4=0,0,IF(ISNUMBER(Grafik!AG7),2,IF(AG18="",0,IF(AG46=0,IF(ISNUMBER(VALUE(LEFT(AG18,1))),2,0),IF(AND(ISNUMBER(AG130),ISNUMBER(AG158)),IF(AND(AG130>=0,AG130<24,AG158>=0,AG158<=24),1,2),2)))))
B187: =IF(B$4=0,0,IF(ISNUMBER(Grafik!B8),2,IF(B19="",0,IF(B47=0,IF(ISNUMBER(VALUE(LEFT(B19,1))),2,0),IF(AND(ISNUMBER(B131),ISNUMBER(B159)),IF(AND(B131>=0,B131<24,B159>=0,B159<=24),1,2),2))))) | C187: =IF(C$4=0,0,IF(ISNUMBER(Grafik!C8),2,IF(C19="",0,IF(C47=0,IF(ISNUMBER(VALUE(LEFT(C19,1))),2,0),IF(AND(ISNUMBER(C131),ISNUMBER(C159)),IF(AND(C131>=0,C131<24,C159>=0,C159<=24),1,2),2))))) | D187: =IF(D$4=0,0,IF(ISNUMBER(Grafik!D8),2,IF(D19="",0,IF(D47=0,IF(ISNUMBER(VALUE(LEFT(D19,1))),2,0),IF(AND(ISNUMBER(D131),ISNUMBER(D159)),IF(AND(D131>=0,D131<24,D159>=0,D159<=24),1,2),2))))) | E187: =IF(E$4=0,0,IF(ISNUMBER(Grafik!E8),2,IF(E19="",0,IF(E47=0,IF(ISNUMBER(VALUE(LEFT(E19,1))),2,0),IF(AND(ISNUMBER(E131),ISNUMBER(E159)),IF(AND(E131>=0,E131<24,E159>=0,E159<=24),1,2),2))))) | F187: =IF(F$4=0,0,IF(ISNUMBER(Grafik!F8),2,IF(F19="",0,IF(F47=0,IF(ISNUMBER(VALUE(LEFT(F19,1))),2,0),IF(AND(ISNUMBER(F131),ISNUMBER(F159)),IF(AND(F131>=0,F131<24,F159>=0,F159<=24),1,2),2))))) | G187: =IF(G$4=0,0,IF(ISNUMBER(Grafik!G8),2,IF(G19="",0,IF(G47=0,IF(ISNUMBER(VALUE(LEFT(G19,1))),2,0),IF(AND(ISNUMBER(G131),ISNUMBER(G159)),IF(AND(G131>=0,G131<24,G159>=0,G159<=24),1,2),2))))) | H187: =IF(H$4=0,0,IF(ISNUMBER(Grafik!H8),2,IF(H19="",0,IF(H47=0,IF(ISNUMBER(VALUE(LEFT(H19,1))),2,0),IF(AND(ISNUMBER(H131),ISNUMBER(H159)),IF(AND(H131>=0,H131<24,H159>=0,H159<=24),1,2),2))))) | I187: =IF(I$4=0,0,IF(ISNUMBER(Grafik!I8),2,IF(I19="",0,IF(I47=0,IF(ISNUMBER(VALUE(LEFT(I19,1))),2,0),IF(AND(ISNUMBER(I131),ISNUMBER(I159)),IF(AND(I131>=0,I131<24,I159>=0,I159<=24),1,2),2))))) | ... AG187: =IF(AG$4=0,0,IF(ISNUMBER(Grafik!AG8),2,IF(AG19="",0,IF(AG47=0,IF(ISNUMBER(VALUE(LEFT(AG19,1))),2,0),IF(AND(ISNUMBER(AG131),ISNUMBER(AG159)),IF(AND(AG131>=0,AG131<24,AG159>=0,AG159<=24),1,2),2)))))
...
