Workbook

Sheet Grafik
A1: Grafik pracy | AJ1: Darmowy szablon od KadryHR · kadryhr.pl
A2: Miesiąc (RRRR-MM): | B2: 2026-11 | G2: =IF(Obliczenia!$D$2=1,CHOOSE(Obliczenia!$C$2,"styczeń","luty","marzec","kwiecień","maj","czerwiec","lipiec","sierpień","wrzesień","październik","listopad","grudzień")&" "&Obliczenia!$B$2&" · "&Obliczenia!$F$2&" dni","Nie rozpoznano miesiąca – wpisz np. 2026-11") | U2: Tygodnie od (początek okresu rozl.): | AJ2: =IF(Obliczenia!$H$2=1,"puste = od 1. dnia miesiąca","Nie rozpoznano daty – wpisz np. 2026-10-01")
A3: Lokal: | G3: Wpisuj zmiany OD-DO: 10-18 · 9:30-17:30 · 16-01 (przez północ). Wolne: puste albo W / U / L4. Szczegóły: zakładka Instrukcja.
C4: Dni miesiąca – w komórce godziny zmiany OD-DO | AH4: Podsumowanie | AK4: Najdłuższy odpoczynek w tygodniu (h), min. 35
A5: Pracownik | B5: Poprz. dzień | C5: =IF(Obliczenia!C$4=1,Obliczenia!C$3,"") | D5: =IF(Obliczenia!D$4=1,Obliczenia!D$3,"") | E5: =IF(Obliczenia!E$4=1,Obliczenia!E$3,"") | F5: =IF(Obliczenia!F$4=1,Obliczenia!F$3,"") | G5: =IF(Obliczenia!G$4=1,Obliczenia!G$3,"") | H5: =IF(Obliczenia!H$4=1,Obliczenia!H$3,"") | I5: =IF(Obliczenia!I$4=1,Obliczenia!I$3,"") | J5: =IF(Obliczenia!J$4=1,Obliczenia!J$3,"") | ... AG5: =IF(Obliczenia!AG$4=1,Obliczenia!AG$3,"") | AH5: Godziny | AI5: Dni | AJ5: < 11 h | AK5: =IF(Obliczenia!B$12=1,"Tydz. 1","") | AL5: =IF(Obliczenia!C$12=1,"Tydz. 2","") | AM5: =IF(Obliczenia!D$12=1,"Tydz. 3","") | AN5: =IF(Obliczenia!E$12=1,"Tydz. 4","") | AO5: =IF(Obliczenia!F$12=1,"Tydz. 5","") | AP5: =IF(Obliczenia!G$12=1,"Tydz. 6","")
A6: imię i nazwisko | B6: =DAY(Obliczenia!$B$5)&"."&MONTH(Obliczenia!$B$5) | C6: =IF(C5="","",CHOOSE(WEEKDAY(Obliczenia!C$5,2),"pn","wt","śr","cz","pt","sb","nd")) | D6: =IF(D5="","",CHOOSE(WEEKDAY(Obliczenia!D$5,2),"pn","wt","śr","cz","pt","sb","nd")) | E6: =IF(E5="","",CHOOSE(WEEKDAY(Obliczenia!E$5,2),"pn","wt","śr","cz","pt","sb","nd")) | F6: =IF(F5="","",CHOOSE(WEEKDAY(Obliczenia!F$5,2),"pn","wt","śr","cz","pt","sb","nd")) | G6: =IF(G5="","",CHOOSE(WEEKDAY(Obliczenia!G$5,2),"pn","wt","śr","cz","pt","sb","nd")) | H6: =IF(H5="","",CHOOSE(WEEKDAY(Obliczenia!H$5,2),"pn","wt","śr","cz","pt","sb","nd")) | I6: =IF(I5="","",CHOOSE(WEEKDAY(Obliczenia!I$5,2),"pn","wt","śr","cz","pt","sb","nd")) | J6: =IF(J5="","",CHOOSE(WEEKDAY(Obliczenia!J$5,2),"pn","wt","śr","cz","pt","sb","nd")) | ... AG6: =IF(AG5="","",CHOOSE(WEEKDAY(Obliczenia!AG$5,2),"pn","wt","śr","cz","pt","sb","nd")) | AH6: suma | AI6: pracy | AJ6: ile dni | AK6: =Obliczenia!B$14 | AL6: =Obliczenia!C$14 | AM6: =Obliczenia!D$14 | AN6: =Obliczenia!E$14 | AO6: =Obliczenia!F$14 | AP6: =Obliczenia!G$14
A7: Pracownik 1 | C7: 10-18 | F7: 10-18 | G7: 10-18 | H7: 12-22 | I7: 12-22 | J7: 10-18 | M7: 10-18 | N7: 10-18 | O7: 12-22 | P7: 12-22 | Q7: 10-18 | T7: 10-18 | U7: 10-18 | V7: 12-22 | W7: 12-22 | X7: 10-18 | AA7: 10-18 | AB7: 10-18 | AC7: 12-22 | AD7: 12-22 | AH7: =IF(Obliczenia!$E578=1,ROUND(Obliczenia!$B578,2),"") | AI7: =IF(Obliczenia!$E578=1,Obliczenia!$C578,"") | AJ7: =IF(Obliczenia!$E578=1,Obliczenia!$D578,"") | AK7: =IF(Obliczenia!$L578=0,"",ROUNDDOWN(ROUND(Obliczenia!$F578*60,0)/60,1)) | AL7: =IF(Obliczenia!$M578=0,"",ROUNDDOWN(ROUND(Obliczenia!$G578*60,0)/60,1)) | AM7: =IF(Obliczenia!$N578=0,"",ROUNDDOWN(ROUND(Obliczenia!$H578*60,0)/60,1)) | AN7: =IF(Obliczenia!$O578=0,"",ROUNDDOWN(ROUND(Obliczenia!$I578*60,0)/60,1)) | AO7: =IF(Obliczenia!$P578=0,"",ROUNDDOWN(ROUND(Obliczenia!$J578*60,0)/60,1)) | AP7: =IF(Obliczenia!$Q578=0,"",ROUNDDOWN(ROUND(Obliczenia!$K578*60,0)/60,1))
A8: Pracownik 2 | B8: 16-23 | E8: 12-20 | F8: 12-20 | G8: 16-01 | H8: 12-20 | I8: 16-23 | L8: 12-20 | M8: 12-20 | N8: 16-01 | O8: 12-20 | P8: 16-23 | S8: 12-20 | T8: 12-20 | U8: 16-01 | V8: 12-20 | W8: 16-23 | Z8: 12-20 | AA8: 12-20 | AB8: 16-01 | AC8: 12-20 | AD8: 16-23 | AH8: =IF(Obliczenia!$E579=1,ROUND(Obliczenia!$B579,2),"") | AI8: =IF(Obliczenia!$E579=1,Obliczenia!$C579,"") | AJ8: =IF(Obliczenia!$E579=1,Obliczenia!$D579,"") | AK8: =IF(Obliczenia!$L579=0,"",ROUNDDOWN(ROUND(Obliczenia!$F579*60,0)/60,1)) | AL8: =IF(Obliczenia!$M579=0,"",ROUNDDOWN(ROUND(Obliczenia!$G579*60,0)/60,1)) | AM8: =IF(Obliczenia!$N579=0,"",ROUNDDOWN(ROUND(Obliczenia!$H579*60,0)/60,1)) | AN8: =IF(Obliczenia!$O579=0,"",ROUNDDOWN(ROUND(Obliczenia!$I579*60,0)/60,1)) | AO8: =IF(Obliczenia!$P579=0,"",ROUNDDOWN(ROUND(Obliczenia!$J579*60,0)/60,1)) | AP8: =IF(Obliczenia!$Q579=0,"",ROUNDDOWN(ROUND(Obliczenia!$K579*60,0)/60,1))
A9: Pracownik 3 | C9: 10-18 | D9: 10-18 | G9: 16-01 | H9: 11:30-19:30 | I9: 10-18 | J9: 10-18 | K9: 10-18 | N9: 10-18 | O9: 10-18 | P9: 10-18 | Q9: 10-18 | R9: 10-18 | S9: 10-18 | T9: 10-18 | U9: 10-18 | V9: 10-18 | W9: 10-18 | Z9: 10-18 | AA9: 10-18 | AB9: 10-18 | AC9: 10-18 | AD9: 10-18 | AE9: 10-18 | AF9: 10-18 | AH9: =IF(Obliczenia!$E580=1,ROUND(Obliczenia!$B580,2),"") | AI9: =IF(Obliczenia!$E580=1,Obliczenia!$C580,"") | AJ9: =IF(Obliczenia!$E580=1,Obliczenia!$D580,"") | AK9: =IF(Obliczenia!$L580=0,"",ROUNDDOWN(ROUND(Obliczenia!$F580*60,0)/60,1)) | AL9: =IF(Obliczenia!$M580=0,"",ROUNDDOWN(ROUND(Obliczenia!$G580*60,0)/60,1)) | AM9: =IF(Obliczenia!$N580=0,"",ROUNDDOWN(ROUND(Obliczenia!$H580*60,0)/60,1)) | AN9: =IF(Obliczenia!$O580=0,"",ROUNDDOWN(ROUND(Obliczenia!$I580*60,0)/60,1)) | AO9: =IF(Obliczenia!$P580=0,"",ROUNDDOWN(ROUND(Obliczenia!$J580*60,0)/60,1)) | AP9: =IF(Obliczenia!$Q580=0,"",ROUNDDOWN(ROUND(Obliczenia!$K580*60,0)/60,1))
AH10: =IF(Obliczenia!$E581=1,ROUND(Obliczenia!$B581,2),"") | AI10: =IF(Obliczenia!$E581=1,Obliczenia!$C581,"") | AJ10: =IF(Obliczenia!$E581=1,Obliczenia!$D581,"") | AK10: =IF(Obliczenia!$L581=0,"",ROUNDDOWN(ROUND(Obliczenia!$F581*60,0)/60,1)) | AL10: =IF(Obliczenia!$M581=0,"",ROUNDDOWN(ROUND(Obliczenia!$G581*60,0)/60,1)) | AM10: =IF(Obliczenia!$N581=0,"",ROUNDDOWN(ROUND(Obliczenia!$H581*60,0)/60,1)) | AN10: =IF(Obliczenia!$O581=0,"",ROUNDDOWN(ROUND(Obliczenia!$I581*60,0)/60,1)) | AO10: =IF(Obliczenia!$P581=0,"",ROUNDDOWN(ROUND(Obliczenia!$J581*60,0)/60,1)) | AP10: =IF(Obliczenia!$Q581=0,"",ROUNDDOWN(ROUND(Obliczenia!$K581*60,0)/60,1))
AH11: =IF(Obliczenia!$E582=1,ROUND(Obliczenia!$B582,2),"") | AI11: =IF(Obliczenia!$E582=1,Obliczenia!$C582,"") | AJ11: =IF(Obliczenia!$E582=1,Obliczenia!$D582,"") | AK11: =IF(Obliczenia!$L582=0,"",ROUNDDOWN(ROUND(Obliczenia!$F582*60,0)/60,1)) | AL11: =IF(Obliczenia!$M582=0,"",ROUNDDOWN(ROUND(Obliczenia!$G582*60,0)/60,1)) | AM11: =IF(Obliczenia!$N582=0,"",ROUNDDOWN(ROUND(Obliczenia!$H582*60,0)/60,1)) | AN11: =IF(Obliczenia!$O582=0,"",ROUNDDOWN(ROUND(Obliczenia!$I582*60,0)/60,1)) | AO11: =IF(Obliczenia!$P582=0,"",ROUNDDOWN(ROUND(Obliczenia!$J582*60,0)/60,1)) | AP11: =IF(Obliczenia!$Q582=0,"",ROUNDDOWN(ROUND(Obliczenia!$K582*60,0)/60,1))
AH12: =IF(Obliczenia!$E583=1,ROUND(Obliczenia!$B583,2),"") | AI12: =IF(Obliczenia!$E583=1,Obliczenia!$C583,"") | AJ12: =IF(Obliczenia!$E583=1,Obliczenia!$D583,"") | AK12: =IF(Obliczenia!$L583=0,"",ROUNDDOWN(ROUND(Obliczenia!$F583*60,0)/60,1)) | AL12: =IF(Obliczenia!$M583=0,"",ROUNDDOWN(ROUND(Obliczenia!$G583*60,0)/60,1)) | AM12: =IF(Obliczenia!$N583=0,"",ROUNDDOWN(ROUND(Obliczenia!$H583*60,0)/60,1)) | AN12: =IF(Obliczenia!$O583=0,"",ROUNDDOWN(ROUND(Obliczenia!$I583*60,0)/60,1)) | AO12: =IF(Obliczenia!$P583=0,"",ROUNDDOWN(ROUND(Obliczenia!$J583*60,0)/60,1)) | AP12: =IF(Obliczenia!$Q583=0,"",ROUNDDOWN(ROUND(Obliczenia!$K583*60,0)/60,1))
AH13: =IF(Obliczenia!$E584=1,ROUND(Obliczenia!$B584,2),"") | AI13: =IF(Obliczenia!$E584=1,Obliczenia!$C584,"") | AJ13: =IF(Obliczenia!$E584=1,Obliczenia!$D584,"") | AK13: =IF(Obliczenia!$L584=0,"",ROUNDDOWN(ROUND(Obliczenia!$F584*60,0)/60,1)) | AL13: =IF(Obliczenia!$M584=0,"",ROUNDDOWN(ROUND(Obliczenia!$G584*60,0)/60,1)) | AM13: =IF(Obliczenia!$N584=0,"",ROUNDDOWN(ROUND(Obliczenia!$H584*60,0)/60,1)) | AN13: =IF(Obliczenia!$O584=0,"",ROUNDDOWN(ROUND(Obliczenia!$I584*60,0)/60,1)) | AO13: =IF(Obliczenia!$P584=0,"",ROUNDDOWN(ROUND(Obliczenia!$J584*60,0)/60,1)) | AP13: =IF(Obliczenia!$Q584=0,"",ROUNDDOWN(ROUND(Obliczenia!$K584*60,0)/60,1))
AH14: =IF(Obliczenia!$E585=1,ROUND(Obliczenia!$B585,2),"") | AI14: =IF(Obliczenia!$E585=1,Obliczenia!$C585,"") | AJ14: =IF(Obliczenia!$E585=1,Obliczenia!$D585,"") | AK14: =IF(Obliczenia!$L585=0,"",ROUNDDOWN(ROUND(Obliczenia!$F585*60,0)/60,1)) | AL14: =IF(Obliczenia!$M585=0,"",ROUNDDOWN(ROUND(Obliczenia!$G585*60,0)/60,1)) | AM14: =IF(Obliczenia!$N585=0,"",ROUNDDOWN(ROUND(Obliczenia!$H585*60,0)/60,1)) | AN14: =IF(Obliczenia!$O585=0,"",ROUNDDOWN(ROUND(Obliczenia!$I585*60,0)/60,1)) | AO14: =IF(Obliczenia!$P585=0,"",ROUNDDOWN(ROUND(Obliczenia!$J585*60,0)/60,1)) | AP14: =IF(Obliczenia!$Q585=0,"",ROUNDDOWN(ROUND(Obliczenia!$K585*60,0)/60,1))
AH15: =IF(Obliczenia!$E586=1,ROUND(Obliczenia!$B586,2),"") | AI15: =IF(Obliczenia!$E586=1,Obliczenia!$C586,"") | AJ15: =IF(Obliczenia!$E586=1,Obliczenia!$D586,"") | AK15: =IF(Obliczenia!$L586=0,"",ROUNDDOWN(ROUND(Obliczenia!$F586*60,0)/60,1)) | AL15: =IF(Obliczenia!$M586=0,"",ROUNDDOWN(ROUND(Obliczenia!$G586*60,0)/60,1)) | AM15: =IF(Obliczenia!$N586=0,"",ROUNDDOWN(ROUND(Obliczenia!$H586*60,0)/60,1)) | AN15: =IF(Obliczenia!$O586=0,"",ROUNDDOWN(ROUND(Obliczenia!$I586*60,0)/60,1)) | AO15: =IF(Obliczenia!$P586=0,"",ROUNDDOWN(ROUND(Obliczenia!$J586*60,0)/60,1)) | AP15: =IF(Obliczenia!$Q586=0,"",ROUNDDOWN(ROUND(Obliczenia!$K586*60,0)/60,1))
AH16: =IF(Obliczenia!$E587=1,ROUND(Obliczenia!$B587,2),"") | AI16: =IF(Obliczenia!$E587=1,Obliczenia!$C587,"") | AJ16: =IF(Obliczenia!$E587=1,Obliczenia!$D587,"") | AK16: =IF(Obliczenia!$L587=0,"",ROUNDDOWN(ROUND(Obliczenia!$F587*60,0)/60,1)) | AL16: =IF(Obliczenia!$M587=0,"",ROUNDDOWN(ROUND(Obliczenia!$G587*60,0)/60,1)) | AM16: =IF(Obliczenia!$N587=0,"",ROUNDDOWN(ROUND(Obliczenia!$H587*60,0)/60,1)) | AN16: =IF(Obliczenia!$O587=0,"",ROUNDDOWN(ROUND(Obliczenia!$I587*60,0)/60,1)) | AO16: =IF(Obliczenia!$P587=0,"",ROUNDDOWN(ROUND(Obliczenia!$J587*60,0)/60,1)) | AP16: =IF(Obliczenia!$Q587=0,"",ROUNDDOWN(ROUND(Obliczenia!$K587*60,0)/60,1))
AH17: =IF(Obliczenia!$E588=1,ROUND(Obliczenia!$B588,2),"") | AI17: =IF(Obliczenia!$E588=1,Obliczenia!$C588,"") | AJ17: =IF(Obliczenia!$E588=1,Obliczenia!$D588,"") | AK17: =IF(Obliczenia!$L588=0,"",ROUNDDOWN(ROUND(Obliczenia!$F588*60,0)/60,1)) | AL17: =IF(Obliczenia!$M588=0,"",ROUNDDOWN(ROUND(Obliczenia!$G588*60,0)/60,1)) | AM17: =IF(Obliczenia!$N588=0,"",ROUNDDOWN(ROUND(Obliczenia!$H588*60,0)/60,1)) | AN17: =IF(Obliczenia!$O588=0,"",ROUNDDOWN(ROUND(Obliczenia!$I588*60,0)/60,1)) | AO17: =IF(Obliczenia!$P588=0,"",ROUNDDOWN(ROUND(Obliczenia!$J588*60,0)/60,1)) | AP17: =IF(Obliczenia!$Q588=0,"",ROUNDDOWN(ROUND(Obliczenia!$K588*60,0)/60,1))
AH18: =IF(Obliczenia!$E589=1,ROUND(Obliczenia!$B589,2),"") | AI18: =IF(Obliczenia!$E589=1,Obliczenia!$C589,"") | AJ18: =IF(Obliczenia!$E589=1,Obliczenia!$D589,"") | AK18: =IF(Obliczenia!$L589=0,"",ROUNDDOWN(ROUND(Obliczenia!$F589*60,0)/60,1)) | AL18: =IF(Obliczenia!$M589=0,"",ROUNDDOWN(ROUND(Obliczenia!$G589*60,0)/60,1)) | AM18: =IF(Obliczenia!$N589=0,"",ROUNDDOWN(ROUND(Obliczenia!$H589*60,0)/60,1)) | AN18: =IF(Obliczenia!$O589=0,"",ROUNDDOWN(ROUND(Obliczenia!$I589*60,0)/60,1)) | AO18: =IF(Obliczenia!$P589=0,"",ROUNDDOWN(ROUND(Obliczenia!$J589*60,0)/60,1)) | AP18: =IF(Obliczenia!$Q589=0,"",ROUNDDOWN(ROUND(Obliczenia!$K589*60,0)/60,1))
AH19: =IF(Obliczenia!$E590=1,ROUND(Obliczenia!$B590,2),"") | AI19: =IF(Obliczenia!$E590=1,Obliczenia!$C590,"") | AJ19: =IF(Obliczenia!$E590=1,Obliczenia!$D590,"") | AK19: =IF(Obliczenia!$L590=0,"",ROUNDDOWN(ROUND(Obliczenia!$F590*60,0)/60,1)) | AL19: =IF(Obliczenia!$M590=0,"",ROUNDDOWN(ROUND(Obliczenia!$G590*60,0)/60,1)) | AM19: =IF(Obliczenia!$N590=0,"",ROUNDDOWN(ROUND(Obliczenia!$H590*60,0)/60,1)) | AN19: =IF(Obliczenia!$O590=0,"",ROUNDDOWN(ROUND(Obliczenia!$I590*60,0)/60,1)) | AO19: =IF(Obliczenia!$P590=0,"",ROUNDDOWN(ROUND(Obliczenia!$J590*60,0)/60,1)) | AP19: =IF(Obliczenia!$Q590=0,"",ROUNDDOWN(ROUND(Obliczenia!$K590*60,0)/60,1))
AH20: =IF(Obliczenia!$E591=1,ROUND(Obliczenia!$B591,2),"") | AI20: =IF(Obliczenia!$E591=1,Obliczenia!$C591,"") | AJ20: =IF(Obliczenia!$E591=1,Obliczenia!$D591,"") | AK20: =IF(Obliczenia!$L591=0,"",ROUNDDOWN(ROUND(Obliczenia!$F591*60,0)/60,1)) | AL20: =IF(Obliczenia!$M591=0,"",ROUNDDOWN(ROUND(Obliczenia!$G591*60,0)/60,1)) | AM20: =IF(Obliczenia!$N591=0,"",ROUNDDOWN(ROUND(Obliczenia!$H591*60,0)/60,1)) | AN20: =IF(Obliczenia!$O591=0,"",ROUNDDOWN(ROUND(Obliczenia!$I591*60,0)/60,1)) | AO20: =IF(Obliczenia!$P591=0,"",ROUNDDOWN(ROUND(Obliczenia!$J591*60,0)/60,1)) | AP20: =IF(Obliczenia!$Q591=0,"",ROUNDDOWN(ROUND(Obliczenia!$K591*60,0)/60,1))
AH21: =IF(Obliczenia!$E592=1,ROUND(Obliczenia!$B592,2),"") | AI21: =IF(Obliczenia!$E592=1,Obliczenia!$C592,"") | AJ21: =IF(Obliczenia!$E592=1,Obliczenia!$D592,"") | AK21: =IF(Obliczenia!$L592=0,"",ROUNDDOWN(ROUND(Obliczenia!$F592*60,0)/60,1)) | AL21: =IF(Obliczenia!$M592=0,"",ROUNDDOWN(ROUND(Obliczenia!$G592*60,0)/60,1)) | AM21: =IF(Obliczenia!$N592=0,"",ROUNDDOWN(ROUND(Obliczenia!$H592*60,0)/60,1)) | AN21: =IF(Obliczenia!$O592=0,"",ROUNDDOWN(ROUND(Obliczenia!$I592*60,0)/60,1)) | AO21: =IF(Obliczenia!$P592=0,"",ROUNDDOWN(ROUND(Obliczenia!$J592*60,0)/60,1)) | AP21: =IF(Obliczenia!$Q592=0,"",ROUNDDOWN(ROUND(Obliczenia!$K592*60,0)/60,1))
... AH31: =IF(Obliczenia!$E602=1,ROUND(Obliczenia!$B602,2),"") | AI31: =IF(Obliczenia!$E602=1,Obliczenia!$C602,"") | AJ31: =IF(Obliczenia!$E602=1,Obliczenia!$D602,"") | AK31: =IF(Obliczenia!$L602=0,"",ROUNDDOWN(ROUND(Obliczenia!$F602*60,0)/60,1)) | AL31: =IF(Obliczenia!$M602=0,"",ROUNDDOWN(ROUND(Obliczenia!$G602*60,0)/60,1)) | AM31: =IF(Obliczenia!$N602=0,"",ROUNDDOWN(ROUND(Obliczenia!$H602*60,0)/60,1)) | AN31: =IF(Obliczenia!$O602=0,"",ROUNDDOWN(ROUND(Obliczenia!$I602*60,0)/60,1)) | AO31: =IF(Obliczenia!$P602=0,"",ROUNDDOWN(ROUND(Obliczenia!$J602*60,0)/60,1)) | AP31: =IF(Obliczenia!$Q602=0,"",ROUNDDOWN(ROUND(Obliczenia!$K602*60,0)/60,1))
A33: Legenda
C34: < 11 h odpoczynku przed zmianą lub zmiana > 13 h (art. 132 KP); w tygodniu: < 35 h (art. 133 KP)
C35: tydzień wychodzi poza miesiąc i w widocznej części brak 35 h – sprawdź z sąsiednim grafikiem
C36: nieczytelny wpis – popraw na OD-DO, np. 10-18 (do tego czasu kontrole są niepewne)
C37: sobota i niedziela
A38: Szablon pomaga wyłapać typowe błędy, nie zastępuje porady prawnej. Czego nie sprawdza – zakładka Instrukcja.

Sheet Instrukcja
B1: Szablon grafiku pracy dla gastronomii – instrukcja
B2: Grafik na miesiąc dla maks. 25 osób, z automatyczną kontrolą odpoczynku dobowego (11 h) i tygodniowego (35 h). Bez makr – działa w Excelu i LibreOffice.
B4: Jak użyć – 3 kroki
B5: 1. W arkuszu Grafik wpisz miesiąc w komórce „Miesiąc”, np. 2026-11. Daty, dni tygodnia i weekendy ustawią się same. Usuń przykładowe wpisy z wierszy Pracownik 1–3 (zaznacz i naciśnij Delete).
B6: 2. Wpisz pracowników w kolumnie A, a w dniach godziny zmiany w formacie OD-DO: 10-18, 9:30-17:30, 16-01 (koniec mniejszy niż początek = zmiana kończy się po północy). Dzień wolny: zostaw pusty albo wpisz W, U, L4. W kolumnie „Poprz. dzień” wpisz zmianę z ostatniego dnia poprzedniego miesiąca – wtedy kontrola 11 h działa też dla 1. dnia (puste = szablon przyjmuje, że był to dzień wolny).
B7: 3. Sprawdź kolory i wydrukuj: czerwony dzień = za krótki odpoczynek dobowy, czerwona liczba w „Tydz.” = najdłuższy odpoczynek w tym tygodniu krótszy niż 35 h, żółta = tydzień niepełny (sprawdź ręcznie), pomarańczowa komórka = nieczytelny wpis. Wydruk jest ustawiony na A4 poziomo, 1 strona.
B9: Dlaczego zapis „10-18” w jednej komórce
B10: Jedna komórka na dzień to najszybsze wpisywanie (bez dwukropków i bez skakania między kolumnami Od/Do), 31 dni mieści się na jednej kartce A4 i zespół czyta grafik tak, jak zwykle go pisze. Formuły same rozbijają wpis na początek i koniec. Minuty: 9:30-17:30 (kropka też działa: 9.30-17.30). Komórki są w formacie tekstowym, żeby Excel nie zamieniał „10-18” na datę.
B12: Jak liczy kontrola 11 h (art. 132 KP)
B13: Dla każdego dnia ze zmianą szablon liczy czas od końca poprzedniej zmiany do początku tej. Mniej niż 11 h = dzień na czerwono (dokładnie 11 h jest OK). Na czerwono jest też zmiana dłuższa niż 13 h, bo wtedy w tej dobie zostaje mniej niż 11 h odpoczynku. Kolumna „< 11 h” pokazuje, ile takich dni ma osoba.
B15: Jak liczy kontrola 35 h (art. 133 KP) i jej ograniczenia
B16: • Tydzień to 7 kolejnych dni od pierwszego dnia okresu rozliczeniowego (art. 128 § 3 pkt 2 KP). Domyślnie szablon liczy tygodnie od 1. dnia miesiąca (1–7, 8–14 …). Jeśli okres rozliczeniowy zaczął się wcześniej, wpisz jego pierwszy dzień w polu „Tygodnie od” (np. 2026-10-01). Wolisz tygodnie pn–nd? Wpisz tam dowolny poniedziałek.
... B37: Chcesz, żeby to liczyło się samo, a zespół widział grafik w telefonie? kadryhr.pl/zalozycielski

Sheet Obliczenia
A1: Arkusz pomocniczy szablonu – nie edytuj. Wszystko liczy się z arkusza Grafik. | B1: rok | C1: miesiąc | D1: miesiąc OK | E1: 1. dzień | F1: dni w mies. | G1: pocz. okresu | H1: data OK | I1: przesunięcie tyg. | J1: koniec znanego (h)
B2: =IF(ISNUMBER(Grafik!$B$2),YEAR(Grafik!$B$2),VALUE(LEFT(TRIM(Grafik!$B$2&""),4))) | C2: =IF(ISNUMBER(Grafik!$B$2),MONTH(Grafik!$B$2),VALUE(MID(TRIM(Grafik!$B$2&""),6,2))) | D2: =IF(ISERROR(B2+C2),0,IF(AND(B2>=1990,B2<=2200,C2>=1,C2<=12,C2=INT(C2)),1,0)) | E2: =IF(D2=1,DATE(B2,C2,1),DATE(YEAR(TODAY()),MONTH(TODAY()),1)) | F2: =DAY(DATE(YEAR(E2),MONTH(E2)+1,0)) | G2: =IF(TRIM(Grafik!$AG$2&"")="",E2,IF(ISNUMBER(Grafik!$AG$2),INT(Grafik!$AG$2),IFERROR(DATE(VALUE(LEFT(TRIM(Grafik!$AG$2&""),4)),VALUE(MID(TRIM(Grafik!$AG$2&""),6,2)),VALUE(MID(TRIM(Grafik!$AG$2&""),9,2))),E2))) | H2: =IF(TRIM(Grafik!$AG$2&"")="",1,IF(ISNUMBER(Grafik!$AG$2),1,IF(ISERROR(DATE(VALUE(LEFT(TRIM(Grafik!$AG$2&""),4)),VALUE(MID(TRIM(Grafik!$AG$2&""),6,2)),VALUE(MID(TRIM(Grafik!$AG$2&""),9,2)))),0,1))) | I2: =MOD(E2-G2,7) | J2: =24*(F2+1)
A3: dzień | B3: 0 | C3: 1 | D3: 2 | E3: 3 | F3: 4 | G3: 5 | H3: 6 | I3: 7 | J3: 8 | K3: 9 | L3: 10 | M3: 11 | N3: 12 | O3: 13 | P3: 14 | Q3: 15 | R3: 16 | S3: 17 | T3: 18 | U3: 19 | V3: 20 | W3: 21 | X3: 22 | Y3: 23 | Z3: 24 | AA3: 25 | AB3: 26 | AC3: 27 | AD3: 28 | AE3: 29 | AF3: 30 | AG3: 31
A4: aktywny | B4: =IF(B$3<=$F$2,1,0) | C4: =IF(C$3<=$F$2,1,0) | D4: =IF(D$3<=$F$2,1,0) | E4: =IF(E$3<=$F$2,1,0) | F4: =IF(F$3<=$F$2,1,0) | G4: =IF(G$3<=$F$2,1,0) | H4: =IF(H$3<=$F$2,1,0) | I4: =IF(I$3<=$F$2,1,0) | ... AG4: =IF(AG$3<=$F$2,1,0)
A5: data | B5: =$E$2+B$3-1 | C5: =$E$2+C$3-1 | D5: =$E$2+D$3-1 | E5: =$E$2+E$3-1 | F5: =$E$2+F$3-1 | G5: =$E$2+G$3-1 | H5: =$E$2+H$3-1 | I5: =$E$2+I$3-1 | ... AG5: =$E$2+AG$3-1
A7: tydzień | B7: 1 | C7: 2 | D7: 3 | E7: 4 | F7: 5 | G7: 6
A8: dzień od | B8: =1-$I$2+7*(B7-1) | C8: =1-$I$2+7*(C7-1) | D8: =1-$I$2+7*(D7-1) | E8: =1-$I$2+7*(E7-1) | F8: =1-$I$2+7*(F7-1) | G8: =1-$I$2+7*(G7-1)
A9: dzień do | B9: =B8+6 | C9: =C8+6 | D9: =D8+6 | E9: =E8+6 | F9: =F8+6 | G9: =G8+6
A10: W0 (h) | B10: =24*B8 | C10: =24*C8 | D10: =24*D8 | E10: =24*E8 | F10: =24*F8 | G10: =24*G8
A11: W1 (h) | B11: =B10+168 | C11: =C10+168 | D11: =D10+168 | E11: =E10+168 | F11: =F10+168 | G11: =G10+168
A12: istnieje | B12: =IF(B8<=$F$2,1,0) | C12: =IF(C8<=$F$2,1,0) | D12: =IF(D8<=$F$2,1,0) | E12: =IF(E8<=$F$2,1,0) | F12: =IF(F8<=$F$2,1,0) | G12: =IF(G8<=$F$2,1,0)
A13: pełny | B13: =IF(AND(B8>=0,B9<=$F$2),1,0) | C13: =IF(AND(C8>=0,C9<=$F$2),1,0) | D13: =IF(AND(D8>=0,D9<=$F$2),1,0) | E13: =IF(AND(E8>=0,E9<=$F$2),1,0) | F13: =IF(AND(F8>=0,F9<=$F$2),1,0) | G13: =IF(AND(G8>=0,G9<=$F$2),1,0)
A14: etykieta | B14: =IF(B12=1,DAY(($E$2+B8-1))&"."&MONTH(($E$2+B8-1))&"–"&DAY(($E$2+B9-1))&"."&MONTH(($E$2+B9-1))&IF(B13=1,"","*"),"") | C14: =IF(C12=1,DAY(($E$2+C8-1))&"."&MONTH(($E$2+C8-1))&"–"&DAY(($E$2+C9-1))&"."&MONTH(($E$2+C9-1))&IF(C13=1,"","*"),"") | D14: =IF(D12=1,DAY(($E$2+D8-1))&"."&MONTH(($E$2+D8-1))&"–"&DAY(($E$2+D9-1))&"."&MONTH(($E$2+D9-1))&IF(D13=1,"","*"),"") | E14: =IF(E12=1,DAY(($E$2+E8-1))&"."&MONTH(($E$2+E8-1))&"–"&DAY(($E$2+E9-1))&"."&MONTH(($E$2+E9-1))&IF(E13=1,"","*"),"") | F14: =IF(F12=1,DAY(($E$2+F8-1))&"."&MONTH(($E$2+F8-1))&"–"&DAY(($E$2+F9-1))&"."&MONTH(($E$2+F9-1))&IF(F13=1,"","*"),"") | G14: =IF(G12=1,DAY(($E$2+G8-1))&"."&MONTH(($E$2+G8-1))&"–"&DAY(($E$2+G9-1))&"."&MONTH(($E$2+G9-1))&IF(G13=1,"","*"),"")
A17: [TXT]
B18: =IF(B$4=1,SUBSTITUTE(SUBSTITUTE(SUBSTITUTE(SUBSTITUTE(SUBSTITUTE(TRIM(Grafik!B7&""),".",":"),",",":"),"–","-"),"—","-")," ",""),"") | C18: =IF(C$4=1,SUBSTITUTE(SUBSTITUTE(SUBSTITUTE(SUBSTITUTE(SUBSTITUTE(TRIM(Grafik!C7&""),".",":"),",",":"),"–","-"),"—","-")," ",""),"") | D18: =IF(D$4=1,SUBSTITUTE(SUBSTITUTE(SUBSTITUTE(SUBSTITUTE(SUBSTITUTE(TRIM(Grafik!D7&""),".",":"),",",":"),"–","-"),"—","-")," ",""),"") | E18: =IF(E$4=1,SUBSTITUTE(SUBSTITUTE(SUBSTITUTE(SUBSTITUTE(SUBSTITUTE(TRIM(Grafik!E7&""),".",":"),",",":"),"–","-"),"—","-")," ",""),"") | F18: =IF(F$4=1,SUBSTITUTE(SUBSTITUTE(SUBSTITUTE(SUBSTITUTE(SUBSTITUTE(TRIM(Grafik!F7&""),".",":"),",",":"),"–","-"),"—","-")," ",""),"") | G18: =IF(G$4=1,SUBSTITUTE(SUBSTITUTE(SUBSTITUTE(SUBSTITUTE(SUBSTITUTE(TRIM(Grafik!G7&""),".",":"),",",":"),"–","-"),"—","-")," ",""),"") | H18: =IF(H$4=1,SUBSTITUTE(SUBSTITUTE(SUBSTITUTE(SUBSTITUTE(SUBSTITUTE(TRIM(Grafik!H7&""),".",":"),",",":"),"–","-"),"—","-")," ",""),"") | I18: =IF(I$4=1,SUBSTITUTE(SUBSTITUTE(SUBSTITUTE(SUBSTITUTE(SUBSTITUTE(TRIM(Grafik!I7&""),".",":"),",",":"),"–","-"),"—","-")," ",""),"") | ... AG18: =IF(AG$4=1,SUBSTITUTE(SUBSTITUTE(SUBSTITUTE(SUBSTITUTE(SUBSTITUTE(TRIM(Grafik!AG7&""),".",":"),",",":"),"–","-"),"—","-")," ",""),"")
B19: =IF(B$4=1,SUBSTITUTE(SUBSTITUTE(SUBSTITUTE(SUBSTITUTE(SUBSTITUTE(TRIM(Grafik!B8&""),".",":"),",",":"),"–","-"),"—","-")," ",""),"") | C19: =IF(C$4=1,SUBSTITUTE(SUBSTITUTE(SUBSTITUTE(SUBSTITUTE(SUBSTITUTE(TRIM(Grafik!C8&""),".",":"),",",":"),"–","-"),"—","-")," ",""),"") | D19: =IF(D$4=1,SUBSTITUTE(SUBSTITUTE(SUBSTITUTE(SUBSTITUTE(SUBSTITUTE(TRIM(Grafik!D8&""),".",":"),",",":"),"–","-"),"—","-")," ",""),"") | E19: =IF(E$4=1,SUBSTITUTE(SUBSTITUTE(SUBSTITUTE(SUBSTITUTE(SUBSTITUTE(TRIM(Grafik!E8&""),".",":"),",",":"),"–","-"),"—","-")," ",""),"") | F19: =IF(F$4=1,SUBSTITUTE(SUBSTITUTE(SUBSTITUTE(SUBSTITUTE(SUBSTITUTE(TRIM(Grafik!F8&""),".",":"),",",":"),"–","-"),"—","-")," ",""),"") | G19: =IF(G$4=1,SUBSTITUTE(SUBSTITUTE(SUBSTITUTE(SUBSTITUTE(SUBSTITUTE(TRIM(Grafik!G8&""),".",":"),",",":"),"–","-"),"—","-")," ",""),"") | H19: =IF(H$4=1,SUBSTITUTE(SUBSTITUTE(SUBSTITUTE(SUBSTITUTE(SUBSTITUTE(TRIM(Grafik!H8&""),".",":"),",",":"),"–","-"),"—","-")," ",""),"") | I19: =IF(I$4=1,SUBSTITUTE(SUBSTITUTE(SUBSTITUTE(SUBSTITUTE(SUBSTITUTE(TRIM(Grafik!I8&""),".",":"),",",":"),"–","-"),"—","-")," ",""),"") | ... AG19: =IF(AG$4=1,SUBSTITUTE(SUBSTITUTE(SUBSTITUTE(SUBSTITUTE(SUBSTITUTE(TRIM(Grafik!AG8&""),".",":"),",",":"),"–","-"),"—","-")," ",""),"")
B20: =IF(B$4=1,SUBSTITUTE(SUBSTITUTE(SUBSTITUTE(SUBSTITUTE(SUBSTITUTE(TRIM(Grafik!B9&""),".",":"),",",":"),"–","-"),"—","-")," ",""),"") | C20: =IF(C$4=1,SUBSTITUTE(SUBSTITUTE(SUBSTITUTE(SUBSTITUTE(SUBSTITUTE(TRIM(Grafik!C9&""),".",":"),",",":"),"–","-"),"—","-")," ",""),"") | D20: =IF(D$4=1,SUBSTITUTE(SUBSTITUTE(SUBSTITUTE(SUBSTITUTE(SUBSTITUTE(TRIM(Grafik!D9&""),".",":"),",",":"),"–","-"),"—","-")," ",""),"") | E20: =IF(E$4=1,SUBSTITUTE(SUBSTITUTE(SUBSTITUTE(SUBSTITUTE(SUBSTITUTE(TRIM(Grafik!E9&""),".",":"),",",":"),"–","-"),"—","-")," ",""),"") | F20: =IF(F$4=1,SUBSTITUTE(SUBSTITUTE(SUBSTITUTE(SUBSTITUTE(SUBSTITUTE(TRIM(Grafik!F9&""),".",":"),",",":"),"–","-"),"—","-")," ",""),"") | G20: =IF(G$4=1,SUBSTITUTE(SUBSTITUTE(SUBSTITUTE(SUBSTITUTE(SUBSTITUTE(TRIM(Grafik!G9&""),".",":"),",",":"),"–","-"),"—","-")," ",""),"") | H20: =IF(H$4=1,SUBSTITUTE(SUBSTITUTE(SUBSTITUTE(SUBSTITUTE(SUBSTITUTE(TRIM(Grafik!H9&""),".",":"),",",":"),"–","-"),"—","-")," ",""),"") | I20: =IF(I$4=1,SUBSTITUTE(SUBSTITUTE(SUBSTITUTE(SUBSTITUTE(SUBSTITUTE(TRIM(Grafik!I9&""),".",":"),",",":"),"–","-"),"—","-")," ",""),"") | ... AG20: =IF(AG$4=1,SUBSTITUTE(SUBSTITUTE(SUBSTITUTE(SUBSTITUTE(SUBSTITUTE(TRIM(Grafik!AG9&""),".",":"),",",":"),"–","-"),"—","-")," ",""),"")
B21: =IF(B$4=1,SUBSTITUTE(SUBSTITUTE(SUBSTITUTE(SUBSTITUTE(SUBSTITUTE(TRIM(Grafik!B10&""),".",":"),",",":"),"–","-"),"—","-")," ",""),"") | C21: =IF(C$4=1,SUBSTITUTE(SUBSTITUTE(SUBSTITUTE(SUBSTITUTE(SUBSTITUTE(TRIM(Grafik!C10&""),".",":"),",",":"),"–","-"),"—","-")," ",""),"") | D21: =IF(D$4=1,SUBSTITUTE(SUBSTITUTE(SUBSTITUTE(SUBSTITUTE(SUBSTITUTE(TRIM(Grafik!D10&""),".",":"),",",":"),"–","-"),"—","-")," ",""),"") | E21: =IF(E$4=1,SUBSTITUTE(SUBSTITUTE(SUBSTITUTE(SUBSTITUTE(SUBSTITUTE(TRIM(Grafik!E10&""),".",":"),",",":"),"–","-"),"—","-")," ",""),"") | F21: =IF(F$4=1,SUBSTITUTE(SUBSTITUTE(SUBSTITUTE(SUBSTITUTE(SUBSTITUTE(TRIM(Grafik!F10&""),".",":"),",",":"),"–","-"),"—","-")," ",""),"") | G21: =IF(G$4=1,SUBSTITUTE(SUBSTITUTE(SUBSTITUTE(SUBSTITUTE(SUBSTITUTE(TRIM(Grafik!G10&""),".",":"),",",":"),"–","-"),"—","-")," ",""),"") | H21: =IF(H$4=1,SUBSTITUTE(SUBSTITUTE(SUBSTITUTE(SUBSTITUTE(SUBSTITUTE(TRIM(Grafik!H10&""),".",":"),",",":"),"–","-"),"—","-")," ",""),"") | I21: =IF(I$4=1,SUBSTITUTE(SUBSTITUTE(SUBSTITUTE(SUBSTITUTE(SUBSTITUTE(TRIM(Grafik!I10&""),".",":"),",",":"),"–","-"),"—","-")," ",""),"") | ... AG21: =IF(AG$4=1,SUBSTITUTE(SUBSTITUTE(SUBSTITUTE(SUBSTITUTE(SUBSTITUTE(TRIM(Grafik!AG10&""),".",":"),",",":"),"–","-"),"—","-")," ",""),"")
B22: =IF(B$4=1,SUBSTITUTE(SUBSTITUTE(SUBSTITUTE(SUBSTITUTE(SUBSTITUTE(TRIM(Grafik!B11&""),".",":"),",",":"),"–","-"),"—","-")," ",""),"") | C22: =IF(C$4=1,SUBSTITUTE(SUBSTITUTE(SUBSTITUTE(SUBSTITUTE(SUBSTITUTE(TRIM(Grafik!C11&""),".",":"),",",":"),"–","-"),"—","-")," ",""),"") | D22: =IF(D$4=1,SUBSTITUTE(SUBSTITUTE(SUBSTITUTE(SUBSTITUTE(SUBSTITUTE(TRIM(Grafik!D11&""),".",":"),",",":"),"–","-"),"—","-")," ",""),"") | E22: =IF(E$4=1,SUBSTITUTE(SUBSTITUTE(SUBSTITUTE(SUBSTITUTE(SUBSTITUTE(TRIM(Grafik!E11&""),".",":"),",",":"),"–","-"),"—","-")," ",""),"") | F22: =IF(F$4=1,SUBSTITUTE(SUBSTITUTE(SUBSTITUTE(SUBSTITUTE(SUBSTITUTE(TRIM(Grafik!F11&""),".",":"),",",":"),"–","-"),"—","-")," ",""),"") | G22: =IF(G$4=1,SUBSTITUTE(SUBSTITUTE(SUBSTITUTE(SUBSTITUTE(SUBSTITUTE(TRIM(Grafik!G11&""),".",":"),",",":"),"–","-"),"—","-")," ",""),"") | H22: =IF(H$4=1,SUBSTITUTE(SUBSTITUTE(SUBSTITUTE(SUBSTITUTE(SUBSTITUTE(TRIM(Grafik!H11&""),".",":"),",",":"),"–","-"),"—","-")," ",""),"") | I22: =IF(I$4=1,SUBSTITUTE(SUBSTITUTE(SUBSTITUTE(SUBSTITUTE(SUBSTITUTE(TRIM(Grafik!I11&""),".",":"),",",":"),"–","-"),"—","-")," ",""),"") | ... AG22: =IF(AG$4=1,SUBSTITUTE(SUBSTITUTE(SUBSTITUTE(SUBSTITUTE(SUBSTITUTE(TRIM(Grafik!AG11&""),".",":"),",",":"),"–","-"),"—","-")," ",""),"")
B23: =IF(B$4=1,SUBSTITUTE(SUBSTITUTE(SUBSTITUTE(SUBSTITUTE(SUBSTITUTE(TRIM(Grafik!B12&""),".",":"),",",":"),"–","-"),"—","-")," ",""),"") | C23: =IF(C$4=1,SUBSTITUTE(SUBSTITUTE(SUBSTITUTE(SUBSTITUTE(SUBSTITUTE(TRIM(Grafik!C12&""),".",":"),",",":"),"–","-"),"—","-")," ",""),"") | D23: =IF(D$4=1,SUBSTITUTE(SUBSTITUTE(SUBSTITUTE(SUBSTITUTE(SUBSTITUTE(TRIM(Grafik!D12&""),".",":"),",",":"),"–","-"),"—","-")," ",""),"") | E23: =IF(E$4=1,SUBSTITUTE(SUBSTITUTE(SUBSTITUTE(SUBSTITUTE(SUBSTITUTE(TRIM(Grafik!E12&""),".",":"),",",":"),"–","-"),"—","-")," ",""),"") | F23: =IF(F$4=1,SUBSTITUTE(SUBSTITUTE(SUBSTITUTE(SUBSTITUTE(SUBSTITUTE(TRIM(Grafik!F12&""),".",":"),",",":"),"–","-"),"—","-")," ",""),"") | G23: =IF(G$4=1,SUBSTITUTE(SUBSTITUTE(SUBSTITUTE(SUBSTITUTE(SUBSTITUTE(TRIM(Grafik!G12&""),".",":"),",",":"),"–","-"),"—","-")," ",""),"") | H23: =IF(H$4=1,SUBSTITUTE(SUBSTITUTE(SUBSTITUTE(SUBSTITUTE(SUBSTITUTE(TRIM(Grafik!H12&""),".",":"),",",":"),"–","-"),"—","-")," ",""),"") | I23: =IF(I$4=1,SUBSTITUTE(SUBSTITUTE(SUBSTITUTE(SUBSTITUTE(SUBSTITUTE(TRIM(Grafik!I12&""),".",":"),",",":"),"–","-"),"—","-")," ",""),"") | ... AG23: =IF(AG$4=1,SUBSTITUTE(SUBSTITUTE(SUBSTITUTE(SUBSTITUTE(SUBSTITUTE(TRIM(Grafik!AG12&""),".",":"),",",":"),"–","-"),"—","-")," ",""),"")
B24: =IF(B$4=1,SUBSTITUTE(SUBSTITUTE(SUBSTITUTE(SUBSTITUTE(SUBSTITUTE(TRIM(Grafik!B13&""),".",":"),",",":"),"–","-"),"—","-")," ",""),"") | C24: =IF(C$4=1,SUBSTITUTE(SUBSTITUTE(SUBSTITUTE(SUBSTITUTE(SUBSTITUTE(TRIM(Grafik!C13&""),".",":"),",",":"),"–","-"),"—","-")," ",""),"") | D24: =IF(D$4=1,SUBSTITUTE(SUBSTITUTE(SUBSTITUTE(SUBSTITUTE(SUBSTITUTE(TRIM(Grafik!D13&""),".",":"),",",":"),"–","-"),"—","-")," ",""),"") | E24: =IF(E$4=1,SUBSTITUTE(SUBSTITUTE(SUBSTITUTE(SUBSTITUTE(SUBSTITUTE(TRIM(Grafik!E13&""),".",":"),",",":"),"–","-"),"—","-")," ",""),"") | F24: =IF(F$4=1,SUBSTITUTE(SUBSTITUTE(SUBSTITUTE(SUBSTITUTE(SUBSTITUTE(TRIM(Grafik!F13&""),".",":"),",",":"),"–","-"),"—","-")," ",""),"") | G24: =IF(G$4=1,SUBSTITUTE(SUBSTITUTE(SUBSTITUTE(SUBSTITUTE(SUBSTITUTE(TRIM(Grafik!G13&""),".",":"),",",":"),"–","-"),"—","-")," ",""),"") | H24: =IF(H$4=1,SUBSTITUTE(SUBSTITUTE(SUBSTITUTE(SUBSTITUTE(SUBSTITUTE(TRIM(Grafik!H13&""),".",":"),",",":"),"–","-"),"—","-")," ",""),"") | I24: =IF(I$4=1,SUBSTITUTE(SUBSTITUTE(SUBSTITUTE(SUBSTITUTE(SUBSTITUTE(TRIM(Grafik!I13&""),".",":"),",",":"),"–","-"),"—","-")," ",""),"") | ... AG24: =IF(AG$4=1,SUBSTITUTE(SUBSTITUTE(SUBSTITUTE(SUBSTITUTE(SUBSTITUTE(TRIM(Grafik!AG13&""),".",":"),",",":"),"–","-"),"—","-")," ",""),"")
B25: =IF(B$4=1,SUBSTITUTE(SUBSTITUTE(SUBSTITUTE(SUBSTITUTE(SUBSTITUTE(TRIM(Grafik!B14&""),".",":"),",",":"),"–","-"),"—","-")," ",""),"") | C25: =IF(C$4=1,SUBSTITUTE(SUBSTITUTE(SUBSTITUTE(SUBSTITUTE(SUBSTITUTE(TRIM(Grafik!C14&""),".",":"),",",":"),"–","-"),"—","-")," ",""),"") | D25: =IF(D$4=1,SUBSTITUTE(SUBSTITUTE(SUBSTITUTE(SUBSTITUTE(SUBSTITUTE(TRIM(Grafik!D14&""),".",":"),",",":"),"–","-"),"—","-")," ",""),"") | E25: =IF(E$4=1,SUBSTITUTE(SUBSTITUTE(SUBSTITUTE(SUBSTITUTE(SUBSTITUTE(TRIM(Grafik!E14&""),".",":"),",",":"),"–","-"),"—","-")," ",""),"") | F25: =IF(F$4=1,SUBSTITUTE(SUBSTITUTE(SUBSTITUTE(SUBSTITUTE(SUBSTITUTE(TRIM(Grafik!F14&""),".",":"),",",":"),"–","-"),"—","-")," ",""),"") | G25: =IF(G$4=1,SUBSTITUTE(SUBSTITUTE(SUBSTITUTE(SUBSTITUTE(SUBSTITUTE(TRIM(Grafik!G14&""),".",":"),",",":"),"–","-"),"—","-")," ",""),"") | H25: =IF(H$4=1,SUBSTITUTE(SUBSTITUTE(SUBSTITUTE(SUBSTITUTE(SUBSTITUTE(TRIM(Grafik!H14&""),".",":"),",",":"),"–","-"),"—","-")," ",""),"") | I25: =IF(I$4=1,SUBSTITUTE(SUBSTITUTE(SUBSTITUTE(SUBSTITUTE(SUBSTITUTE(TRIM(Grafik!I14&""),".",":"),",",":"),"–","-"),"—","-")," ",""),"") | ... AG25: =IF(AG$4=1,SUBSTITUTE(SUBSTITUTE(SUBSTITUTE(SUBSTITUTE(SUBSTITUTE(TRIM(Grafik!AG14&""),".",":"),",",":"),"–","-"),"—","-")," ",""),"")
B26: =IF(B$4=1,SUBSTITUTE(SUBSTITUTE(SUBSTITUTE(SUBSTITUTE(SUBSTITUTE(TRIM(Grafik!B15&""),".",":"),",",":"),"–","-"),"—","-")," ",""),"") | C26: =IF(C$4=1,SUBSTITUTE(SUBSTITUTE(SUBSTITUTE(SUBSTITUTE(SUBSTITUTE(TRIM(Grafik!C15&""),".",":"),",",":"),"–","-"),"—","-")," ",""),"") | D26: =IF(D$4=1,SUBSTITUTE(SUBSTITUTE(SUBSTITUTE(SUBSTITUTE(SUBSTITUTE(TRIM(Grafik!D15&""),".",":"),",",":"),"–","-"),"—","-")," ",""),"") | E26: =IF(E$4=1,SUBSTITUTE(SUBSTITUTE(SUBSTITUTE(SUBSTITUTE(SUBSTITUTE(TRIM(Grafik!E15&""),".",":"),",",":"),"–","-"),"—","-")," ",""),"") | F26: =IF(F$4=1,SUBSTITUTE(SUBSTITUTE(SUBSTITUTE(SUBSTITUTE(SUBSTITUTE(TRIM(Grafik!F15&""),".",":"),",",":"),"–","-"),"—","-")," ",""),"") | G26: =IF(G$4=1,SUBSTITUTE(SUBSTITUTE(SUBSTITUTE(SUBSTITUTE(SUBSTITUTE(TRIM(Grafik!G15&""),".",":"),",",":"),"–","-"),"—","-")," ",""),"") | H26: =IF(H$4=1,SUBSTITUTE(SUBSTITUTE(SUBSTITUTE(SUBSTITUTE(SUBSTITUTE(TRIM(Grafik!H15&""),".",":"),",",":"),"–","-"),"—","-")," ",""),"") | I26: =IF(I$4=1,SUBSTITUTE(SUBSTITUTE(SUBSTITUTE(SUBSTITUTE(SUBSTITUTE(TRIM(Grafik!I15&""),".",":"),",",":"),"–","-"),"—","-")," ",""),"") | ... AG26: =IF(AG$4=1,SUBSTITUTE(SUBSTITUTE(SUBSTITUTE(SUBSTITUTE(SUBSTITUTE(TRIM(Grafik!AG15&""),".",":"),",",":"),"–","-"),"—","-")," ",""),"")
B27: =IF(B$4=1,SUBSTITUTE(SUBSTITUTE(SUBSTITUTE(SUBSTITUTE(SUBSTITUTE(TRIM(Grafik!B16&""),".",":"),",",":"),"–","-"),"—","-")," ",""),"") | C27: =IF(C$4=1,SUBSTITUTE(SUBSTITUTE(SUBSTITUTE(SUBSTITUTE(SUBSTITUTE(TRIM(Grafik!C16&""),".",":"),",",":"),"–","-"),"—","-")," ",""),"") | D27: =IF(D$4=1,SUBSTITUTE(SUBSTITUTE(SUBSTITUTE(SUBSTITUTE(SUBSTITUTE(TRIM(Grafik!D16&""),".",":"),",",":"),"–","-"),"—","-")," ",""),"") | E27: =IF(E$4=1,SUBSTITUTE(SUBSTITUTE(SUBSTITUTE(SUBSTITUTE(SUBSTITUTE(TRIM(Grafik!E16&""),".",":"),",",":"),"–","-"),"—","-")," ",""),"") | F27: =IF(F$4=1,SUBSTITUTE(SUBSTITUTE(SUBSTITUTE(SUBSTITUTE(SUBSTITUTE(TRIM(Grafik!F16&""),".",":"),",",":"),"–","-"),"—","-")," ",""),"") | G27: =IF(G$4=1,SUBSTITUTE(SUBSTITUTE(SUBSTITUTE(SUBSTITUTE(SUBSTITUTE(TRIM(Grafik!G16&""),".",":"),",",":"),"–","-"),"—","-")," ",""),"") | H27: =IF(H$4=1,SUBSTITUTE(SUBSTITUTE(SUBSTITUTE(SUBSTITUTE(SUBSTITUTE(TRIM(Grafik!H16&""),".",":"),",",":"),"–","-"),"—","-")," ",""),"") | I27: =IF(I$4=1,SUBSTITUTE(SUBSTITUTE(SUBSTITUTE(SUBSTITUTE(SUBSTITUTE(TRIM(Grafik!I16&""),".",":"),",",":"),"–","-"),"—","-")," ",""),"") | ... AG27: =IF(AG$4=1,SUBSTITUTE(SUBSTITUTE(SUBSTITUTE(SUBSTITUTE(SUBSTITUTE(TRIM(Grafik!AG16&""),".",":"),",",":"),"–","-"),"—","-")," ",""),"")
B28: =IF(B$4=1,SUBSTITUTE(SUBSTITUTE(SUBSTITUTE(SUBSTITUTE(SUBSTITUTE(TRIM(Grafik!B17&""),".",":"),",",":"),"–","-"),"—","-")," ",""),"") | C28: =IF(C$4=1,SUBSTITUTE(SUBSTITUTE(SUBSTITUTE(SUBSTITUTE(SUBSTITUTE(TRIM(Grafik!C17&""),".",":"),",",":"),"–","-"),"—","-")," ",""),"") | D28: =IF(D$4=1,SUBSTITUTE(SUBSTITUTE(SUBSTITUTE(SUBSTITUTE(SUBSTITUTE(TRIM(Grafik!D17&""),".",":"),",",":"),"–","-"),"—","-")," ",""),"") | E28: =IF(E$4=1,SUBSTITUTE(SUBSTITUTE(SUBSTITUTE(SUBSTITUTE(SUBSTITUTE(TRIM(Grafik!E17&""),".",":"),",",":"),"–","-"),"—","-")," ",""),"") | F28: =IF(F$4=1,SUBSTITUTE(SUBSTITUTE(SUBSTITUTE(SUBSTITUTE(SUBSTITUTE(TRIM(Grafik!F17&""),".",":"),",",":"),"–","-"),"—","-")," ",""),"") | G28: =IF(G$4=1,SUBSTITUTE(SUBSTITUTE(SUBSTITUTE(SUBSTITUTE(SUBSTITUTE(TRIM(Grafik!G17&""),".",":"),",",":"),"–","-"),"—","-")," ",""),"") | H28: =IF(H$4=1,SUBSTITUTE(SUBSTITUTE(SUBSTITUTE(SUBSTITUTE(SUBSTITUTE(TRIM(Grafik!H17&""),".",":"),",",":"),"–","-"),"—","-")," ",""),"") | I28: =IF(I$4=1,SUBSTITUTE(SUBSTITUTE(SUBSTITUTE(SUBSTITUTE(SUBSTITUTE(TRIM(Grafik!I17&""),".",":"),",",":"),"–","-"),"—","-")," ",""),"") | ... AG28: =IF(AG$4=1,SUBSTITUTE(SUBSTITUTE(SUBSTITUTE(SUBSTITUTE(SUBSTITUTE(TRIM(Grafik!AG17&""),".",":"),",",":"),"–","-"),"—","-")," ",""),"")
B29: =IF(B$4=1,SUBSTITUTE(SUBSTITUTE(SUBSTITUTE(SUBSTITUTE(SUBSTITUTE(TRIM(Grafik!B18&""),".",":"),",",":"),"–","-"),"—","-")," ",""),"") | C29: =IF(C$4=1,SUBSTITUTE(SUBSTITUTE(SUBSTITUTE(SUBSTITUTE(SUBSTITUTE(TRIM(Grafik!C18&""),".",":"),",",":"),"–","-"),"—","-")," ",""),"") | D29: =IF(D$4=1,SUBSTITUTE(SUBSTITUTE(SUBSTITUTE(SUBSTITUTE(SUBSTITUTE(TRIM(Grafik!D18&""),".",":"),",",":"),"–","-"),"—","-")," ",""),"") | E29: =IF(E$4=1,SUBSTITUTE(SUBSTITUTE(SUBSTITUTE(SUBSTITUTE(SUBSTITUTE(TRIM(Grafik!E18&""),".",":"),",",":"),"–","-"),"—","-")," ",""),"") | F29: =IF(F$4=1,SUBSTITUTE(SUBSTITUTE(SUBSTITUTE(SUBSTITUTE(SUBSTITUTE(TRIM(Grafik!F18&""),".",":"),",",":"),"–","-"),"—","-")," ",""),"") | G29: =IF(G$4=1,SUBSTITUTE(SUBSTITUTE(SUBSTITUTE(SUBSTITUTE(SUBSTITUTE(TRIM(Grafik!G18&""),".",":"),",",":"),"–","-"),"—","-")," ",""),"") | H29: =IF(H$4=1,SUBSTITUTE(SUBSTITUTE(SUBSTITUTE(SUBSTITUTE(SUBSTITUTE(TRIM(Grafik!H18&""),".",":"),",",":"),"–","-"),"—","-")," ",""),"") | I29: =IF(I$4=1,SUBSTITUTE(SUBSTITUTE(SUBSTITUTE(SUBSTITUTE(SUBSTITUTE(TRIM(Grafik!I18&""),".",":"),",",":"),"–","-"),"—","-")," ",""),"") | ... AG29: =IF(AG$4=1,SUBSTITUTE(SUBSTITUTE(SUBSTITUTE(SUBSTITUTE(SUBSTITUTE(TRIM(Grafik!AG18&""),".",":"),",",":"),"–","-"),"—","-")," ",""),"")
... B42: =IF(B$4=1,SUBSTITUTE(SUBSTITUTE(SUBSTITUTE(SUBSTITUTE(SUBSTITUTE(TRIM(Grafik!B31&""),".",":"),",",":"),"–","-"),"—","-")," ",""),"") | C42: =IF(C$4=1,SUBSTITUTE(SUBSTITUTE(SUBSTITUTE(SUBSTITUTE(SUBSTITUTE(TRIM(Grafik!C31&""),".",":"),",",":"),"–","-"),"—","-")," ",""),"") | D42: =IF(D$4=1,SUBSTITUTE(SUBSTITUTE(SUBSTITUTE(SUBSTITUTE(SUBSTITUTE(TRIM(Grafik!D31&""),".",":"),",",":"),"–","-"),"—","-")," ",""),"") | E42: =IF(E$4=1,SUBSTITUTE(SUBSTITUTE(SUBSTITUTE(SUBSTITUTE(SUBSTITUTE(TRIM(Grafik!E31&""),".",":"),",",":"),"–","-"),"—","-")," ",""),"") | F42: =IF(F$4=1,SUBSTITUTE(SUBSTITUTE(SUBSTITUTE(SUBSTITUTE(SUBSTITUTE(TRIM(Grafik!F31&""),".",":"),",",":"),"–","-"),"—","-")," ",""),"") | G42: =IF(G$4=1,SUBSTITUTE(SUBSTITUTE(SUBSTITUTE(SUBSTITUTE(SUBSTITUTE(TRIM(Grafik!G31&""),".",":"),",",":"),"–","-"),"—","-")," ",""),"") | H42: =IF(H$4=1,SUBSTITUTE(SUBSTITUTE(SUBSTITUTE(SUBSTITUTE(SUBSTITUTE(TRIM(Grafik!H31&""),".",":"),",",":"),"–","-"),"—","-")," ",""),"") | I42: =IF(I$4=1,SUBSTITUTE(SUBSTITUTE(SUBSTITUTE(SUBSTITUTE(SUBSTITUTE(TRIM(Grafik!I31&""),".",":"),",",":"),"–","-"),"—","-")," ",""),"") | ... AG42: =IF(AG$4=1,SUBSTITUTE(SUBSTITUTE(SUBSTITUTE(SUBSTITUTE(SUBSTITUTE(TRIM(Grafik!AG31&""),".",":"),",",":"),"–","-"),"—","-")," ",""),"")
A45: [POS]
B46: =IFERROR(FIND("-",B18),0) | C46: =IFERROR(FIND("-",C18),0) | D46: =IFERROR(FIND("-",D18),0) | E46: =IFERROR(FIND("-",E18),0) | F46: =IFERROR(FIND("-",F18),0) | G46: =IFERROR(FIND("-",G18),0) | H46: =IFERROR(FIND("-",H18),0) | I46: =IFERROR(FIND("-",I18),0) | ... AG46: =IFERROR(FIND("-",AG18),0)
B47: =IFERROR(FIND("-",B19),0) | C47: =IFERROR(FIND("-",C19),0) | D47: =IFERROR(FIND("-",D19),0) | E47: =IFERROR(FIND("-",E19),0) | F47: =IFERROR(FIND("-",F19),0) | G47: =IFERROR(FIND("-",G19),0) | H47: =IFERROR(FIND("-",H19),0) | I47: =IFERROR(FIND("-",I19),0) | ... AG47: =IFERROR(FIND("-",AG19),0)
B48: =IFERROR(FIND("-",B20),0) | C48: =IFERROR(FIND("-",C20),0) | D48: =IFERROR(FIND("-",D20),0) | E48: =IFERROR(FIND("-",E20),0) | F48: =IFERROR(FIND("-",F20),0) | G48: =IFERROR(FIND("-",G20),0) | H48: =IFERROR(FIND("-",H20),0) | I48: =IFERROR(FIND("-",I20),0) | ... AG48: =IFERROR(FIND("-",AG20),0)
B49: =IFERROR(FIND("-",B21),0) | C49: =IFERROR(FIND("-",C21),0) | D49: =IFERROR(FIND("-",D21),0) | E49: =IFERROR(FIND("-",E21),0) | F49: =IFERROR(FIND("-",F21),0) | G49: =IFERROR(FIND("-",G21),0) | H49: =IFERROR(FIND("-",H21),0) | I49: =IFERROR(FIND("-",I21),0) | ... AG49: =IFERROR(FIND("-",AG21),0)
B50: =IFERROR(FIND("-",B22),0) | C50: =IFERROR(FIND("-",C22),0) | D50: =IFERROR(FIND("-",D22),0) | E50: =IFERROR(FIND("-",E22),0) | F50: =IFERROR(FIND("-",F22),0) | G50: =IFERROR(FIND("-",G22),0) | H50: =IFERROR(FIND("-",H22),0) | I50: =IFERROR(FIND("-",I22),0) | ... AG50: =IFERROR(FIND("-",AG22),0)
B51: =IFERROR(FIND("-",B23),0) | C51: =IFERROR(FIND("-",C23),0) | D51: =IFERROR(FIND("-",D23),0) | E51: =IFERROR(FIND("-",E23),0) | F51: =IFERROR(FIND("-",F23),0) | G51: =IFERROR(FIND("-",G23),0) | H51: =IFERROR(FIND("-",H23),0) | I51: =IFERROR(FIND("-",I23),0) | ... AG51: =IFERROR(FIND("-",AG23),0)
B52: =IFERROR(FIND("-",B24),0) | C52: =IFERROR(FIND("-",C24),0) | D52: =IFERROR(FIND("-",D24),0) | E52: =IFERROR(FIND("-",E24),0) | F52: =IFERROR(FIND("-",F24),0) | G52: =IFERROR(FIND("-",G24),0) | H52: =IFERROR(FIND("-",H24),0) | I52: =IFERROR(FIND("-",I24),0) | ... AG52: =IFERROR(FIND("-",AG24),0)
B53: =IFERROR(FIND("-",B25),0) | C53: =IFERROR(FIND("-",C25),0) | D53: =IFERROR(FIND("-",D25),0) | E53: =IFERROR(FIND("-",E25),0) | F53: =IFERROR(FIND("-",F25),0) | G53: =IFERROR(FIND("-",G25),0) | H53: =IFERROR(FIND("-",H25),0) | I53: =IFERROR(FIND("-",I25),0) | ... AG53: =IFERROR(FIND("-",AG25),0)
B54: =IFERROR(FIND("-",B26),0) | C54: =IFERROR(FIND("-",C26),0) | D54: =IFERROR(FIND("-",D26),0) | E54: =IFERROR(FIND("-",E26),0) | F54: =IFERROR(FIND("-",F26),0) | G54: =IFERROR(FIND("-",G26),0) | H54: =IFERROR(FIND("-",H26),0) | I54: =IFERROR(FIND("-",I26),0) | ... AG54: =IFERROR(FIND("-",AG26),0)
B55: =IFERROR(FIND("-",B27),0) | C55: =IFERROR(FIND("-",C27),0) | D55: =IFERROR(FIND("-",D27),0) | E55: =IFERROR(FIND("-",E27),0) | F55: =IFERROR(FIND("-",F27),0) | G55: =IFERROR(FIND("-",G27),0) | H55: =IFERROR(FIND("-",H27),0) | I55: =IFERROR(FIND("-",I27),0) | ... AG55: =IFERROR(FIND("-",AG27),0)
B56: =IFERROR(FIND("-",B28),0) | C56: =IFERROR(FIND("-",C28),0) | D56: =IFERROR(FIND("-",D28),0) | E56: =IFERROR(FIND("-",E28),0) | F56: =IFERROR(FIND("-",F28),0) | G56: =IFERROR(FIND("-",G28),0) | H56: =IFERROR(FIND("-",H28),0) | I56: =IFERROR(FIND("-",I28),0) | ... AG56: =IFERROR(FIND("-",AG28),0)
B57: =IFERROR(FIND("-",B29),0) | C57: =IFERROR(FIND("-",C29),0) | D57: =IFERROR(FIND("-",D29),0) | E57: =IFERROR(FIND("-",E29),0) | F57: =IFERROR(FIND("-",F29),0) | G57: =IFERROR(FIND("-",G29),0) | H57: =IFERROR(FIND("-",H29),0) | I57: =IFERROR(FIND("-",I29),0) | ... AG57: =IFERROR(FIND("-",AG29),0)
...
